Back to Multiple platform build/check report for BioC 3.12
A[B]CDEFGHIJKLMNOPQRSTUVWXYZ

CHECK report for BaseSpaceR on merida1

This page was generated on 2020-08-12 11:55:46 -0400 (Wed, 12 Aug 2020).

TO THE DEVELOPERS/MAINTAINERS OF THE BaseSpaceR PACKAGE: Please make sure to use the following settings in order to reproduce any error or warning you see on this page.
Package 110/1885HostnameOS / ArchINSTALLBUILDCHECKBUILD BIN
BaseSpaceR 1.33.0
Jared O'Connell
Snapshot Date: 2020-08-11 14:50:16 -0400 (Tue, 11 Aug 2020)
URL: https://git.bioconductor.org/packages/BaseSpaceR
Branch: master
Last Commit: f6aa2f5
Last Changed Date: 2020-04-27 14:33:50 -0400 (Mon, 27 Apr 2020)
malbec1 Linux (Ubuntu 18.04.4 LTS) / x86_64  OK  OK  OK UNNEEDED, same version exists in internal repository
nebbiolo1 Linux (Ubuntu 20.04.1 LTS) / x86_64  OK  OK  OK 
tokay1 Windows Server 2012 R2 Standard / x64  OK  OK  OK  OK UNNEEDED, same version exists in internal repository
merida1 macOS 10.14.6 Mojave / x86_64  OK  OK [ OK ] OK UNNEEDED, same version exists in internal repository

Summary

Package: BaseSpaceR
Version: 1.33.0
Command: /Library/Frameworks/R.framework/Versions/Current/Resources/bin/R CMD check --install=check:BaseSpaceR.install-out.txt --library=/Library/Frameworks/R.framework/Versions/Current/Resources/library --no-vignettes --timings BaseSpaceR_1.33.0.tar.gz
StartedAt: 2020-08-12 00:11:50 -0400 (Wed, 12 Aug 2020)
EndedAt: 2020-08-12 00:12:37 -0400 (Wed, 12 Aug 2020)
EllapsedTime: 46.1 seconds
RetCode: 0
Status:  OK 
CheckDir: BaseSpaceR.Rcheck
Warnings: 0

Command output

##############################################################################
##############################################################################
###
### Running command:
###
###   /Library/Frameworks/R.framework/Versions/Current/Resources/bin/R CMD check --install=check:BaseSpaceR.install-out.txt --library=/Library/Frameworks/R.framework/Versions/Current/Resources/library --no-vignettes --timings BaseSpaceR_1.33.0.tar.gz
###
##############################################################################
##############################################################################


* using log directory ‘/Users/biocbuild/bbs-3.12-bioc/meat/BaseSpaceR.Rcheck’
* using R version 4.0.2 (2020-06-22)
* using platform: x86_64-apple-darwin17.0 (64-bit)
* using session charset: UTF-8
* using option ‘--no-vignettes’
* checking for file ‘BaseSpaceR/DESCRIPTION’ ... OK
* this is package ‘BaseSpaceR’ version ‘1.33.0’
* checking package namespace information ... OK
* checking package dependencies ... OK
* checking if this is a source package ... OK
* checking if there is a namespace ... OK
* checking for hidden files and directories ... OK
* checking for portable file names ... OK
* checking for sufficient/correct file permissions ... OK
* checking whether package ‘BaseSpaceR’ can be installed ... OK
* checking installed package size ... OK
* checking package directory ... OK
* checking ‘build’ directory ... OK
* checking DESCRIPTION meta-information ... OK
* checking top-level files ... OK
* checking for left-over files ... OK
* checking index information ... OK
* checking package subdirectories ... OK
* checking R files for non-ASCII characters ... OK
* checking R files for syntax errors ... OK
* checking whether the package can be loaded ... OK
* checking whether the package can be loaded with stated dependencies ... OK
* checking whether the package can be unloaded cleanly ... OK
* checking whether the namespace can be loaded with stated dependencies ... OK
* checking whether the namespace can be unloaded cleanly ... OK
* checking dependencies in R code ... NOTE
'library' or 'require' call to ‘Rsamtools’ in package code.
  Please use :: or requireNamespace() instead.
  See section 'Suggested packages' in the 'Writing R Extensions' manual.
* checking S3 generic/method consistency ... OK
* checking replacement functions ... OK
* checking foreign function calls ... OK
* checking R code for possible problems ... NOTE
asBamFile: no visible global function definition for ‘BamFile’
GET,ServiceURI: no visible global function definition for
  ‘basicHeaderGatherer’
GET,ServiceURI: no visible global function definition for
  ‘basicTextGatherer’
GET,ServiceURI: no visible global function definition for ‘getForm’
GET,ServiceURI: no visible global function definition for ‘curlOptions’
POST,ServiceURI: no visible global function definition for
  ‘basicHeaderGatherer’
POST,ServiceURI: no visible global function definition for
  ‘basicTextGatherer’
POST,ServiceURI: no visible global function definition for
  ‘curlPerform’
POSTForm,ServiceURI: no visible global function definition for
  ‘basicHeaderGatherer’
POSTForm,ServiceURI: no visible global function definition for
  ‘basicTextGatherer’
POSTForm,ServiceURI: no visible global function definition for
  ‘postForm’
POSTForm,ServiceURI: no visible global function definition for
  ‘curlOptions’
getBAMs,AppResults: no visible binding for global variable
  ‘BamFileList’
getFiles,AppAuth : .toDisk: no visible global function definition for
  ‘CFILE’
getFiles,AppAuth : .toDisk: no visible global function definition for
  ‘curlPerform’
getFiles,AppAuth : .toMem: no visible global function definition for
  ‘getURLContent’
getFiles,AppAuth : .toMem: no visible binding for global variable
  ‘dsize’
Undefined global functions or variables:
  BamFile BamFileList CFILE basicHeaderGatherer basicTextGatherer
  curlOptions curlPerform dsize getForm getURLContent postForm
* checking Rd files ... OK
* checking Rd metadata ... OK
* checking Rd cross-references ... OK
* checking for missing documentation entries ... OK
* checking for code/documentation mismatches ... OK
* checking Rd \usage sections ... OK
* checking Rd contents ... OK
* checking for unstated dependencies in examples ... OK
* checking contents of ‘data’ directory ... OK
* checking data for non-ASCII characters ... OK
* checking data for ASCII and uncompressed saves ... OK
* checking sizes of PDF files under ‘inst/doc’ ... OK
* checking files in ‘vignettes’ ... OK
* checking examples ... OK
* checking for unstated dependencies in vignettes ... OK
* checking package vignettes in ‘inst/doc’ ... OK
* checking running R code from vignettes ... SKIPPED
* checking re-building of vignette outputs ... SKIPPED
* checking PDF version of manual ... OK
* DONE

Status: 2 NOTEs
See
  ‘/Users/biocbuild/bbs-3.12-bioc/meat/BaseSpaceR.Rcheck/00check.log’
for details.



Installation output

BaseSpaceR.Rcheck/00install.out

##############################################################################
##############################################################################
###
### Running command:
###
###   /Library/Frameworks/R.framework/Versions/Current/Resources/bin/R CMD INSTALL BaseSpaceR
###
##############################################################################
##############################################################################


* installing to library ‘/Library/Frameworks/R.framework/Versions/4.0/Resources/library’
* installing *source* package ‘BaseSpaceR’ ...
** using staged installation
** R
** data
** inst
** byte-compile and prepare package for lazy loading
** help
*** installing help indices
** building package indices
** installing vignettes
** testing if installed package can be loaded from temporary location
** testing if installed package can be loaded from final location
** testing if installed package keeps a record of temporary installation path
* DONE (BaseSpaceR)

Tests output


Example timings

BaseSpaceR.Rcheck/BaseSpaceR-Ex.timings

nameusersystemelapsed
AppAuth-class0.1510.0220.463
AppResults-class0.0010.0010.002
AppSessionAuth0.0010.0010.003
AppSessions-class0.0010.0000.001
Coverage0.0130.0030.016
Error0.0010.0010.002
Files-class0.0910.0100.467
FilesExtra0.0930.0100.379
Genomes-class0.1370.0070.612
Projects-class0.1500.0070.610
Response-class0.0040.0020.006
Runs-class0.2090.0101.413
Samples-class0.1470.0070.848
ServiceURI-class0.0010.0000.001
Users-class0.0830.0050.297
Variants0.0730.0050.448
data-aAuth0.0320.0040.303