Back to Multiple platform build/check report for BioC 3.12
AB[C]DEFGHIJKLMNOPQRSTUVWXYZ

BUILD BIN report for CAGEfightR on tokay1

This page was generated on 2020-08-10 12:24:39 -0400 (Mon, 10 Aug 2020).

TO THE DEVELOPERS/MAINTAINERS OF THE CAGEfightR PACKAGE: Please make sure to use the following settings in order to reproduce any error or warning you see on this page.
Package 213/1882HostnameOS / ArchINSTALLBUILDCHECKBUILD BIN
CAGEfightR 1.9.0
Malte Thodberg
Snapshot Date: 2020-08-09 14:51:29 -0400 (Sun, 09 Aug 2020)
URL: https://git.bioconductor.org/packages/CAGEfightR
Branch: master
Last Commit: 4bec7db
Last Changed Date: 2020-04-27 15:16:40 -0400 (Mon, 27 Apr 2020)
malbec1 Linux (Ubuntu 18.04.4 LTS) / x86_64  OK  OK  OK UNNEEDED, same version exists in internal repository
nebbiolo1 Linux (Ubuntu 20.04.1 LTS) / x86_64  OK  OK  OK 
tokay1 Windows Server 2012 R2 Standard / x64  OK  OK  OK [ OK ]UNNEEDED, same version exists in internal repository
merida1 macOS 10.14.6 Mojave / x86_64  OK  OK  OK  OK UNNEEDED, same version exists in internal repository

Summary

Package: CAGEfightR
Version: 1.9.0
Command: rm -rf CAGEfightR.buildbin-libdir && mkdir CAGEfightR.buildbin-libdir && C:\Users\biocbuild\bbs-3.12-bioc\R\bin\R.exe CMD INSTALL --merge-multiarch --build --library=CAGEfightR.buildbin-libdir CAGEfightR_1.9.0.tar.gz
StartedAt: 2020-08-10 08:26:26 -0400 (Mon, 10 Aug 2020)
EndedAt: 2020-08-10 08:27:49 -0400 (Mon, 10 Aug 2020)
EllapsedTime: 82.8 seconds
RetCode: 0
Status:  OK  
PackageFile: CAGEfightR_1.9.0.zip
PackageFileSize: 3.037 MiB

Command output

##############################################################################
##############################################################################
###
### Running command:
###
###   rm -rf CAGEfightR.buildbin-libdir && mkdir CAGEfightR.buildbin-libdir && C:\Users\biocbuild\bbs-3.12-bioc\R\bin\R.exe CMD INSTALL --merge-multiarch --build --library=CAGEfightR.buildbin-libdir CAGEfightR_1.9.0.tar.gz
###
##############################################################################
##############################################################################



install for i386

* installing *source* package 'CAGEfightR' ...
** using staged installation
** R
** data
*** moving datasets to lazyload DB
** inst
** byte-compile and prepare package for lazy loading
** help
*** installing help indices
  converting help for package 'CAGEfightR'
    finding HTML links ... done
    assignGeneID                            html  
    assignMissingID                         html  
    assignTxID                              html  
    assignTxType                            html  
    balanceBC                               html  
    balanceD                                html  
    bwCommonGenome                          html  
    bwGenomeCompatibility                   html  
    bwValid                                 html  
    calcBidirectionality                    html  
    calcComposition                         html  
    calcPooled                              html  
    calcShape                               html  
    calcSupport                             html  
    calcTPM                                 html  
    calcTotalTags                           html  
    checkCTSSs                              html  
    checkPeaked                             html  
    checkPooled                             html  
    clusterBidirectionally                  html  
    clusterUnidirectionally                 html  
    combineClusters                         html  
    convertBAM2BigWig                       html  
    convertBED2BigWig                       html  
    convertGRanges2GPos                     html  
    exampleDesign                           html  
    findLinks                               html  
    findStretches                           html  
    quantifyCTSSs                           html  
    quantifyCTSSs2                          html  
    quantifyClusters                        html  
    quantifyGenes                           html  
    quickEnhancers                          html  
    quickGenes                              html  
    quickTSSs                               html  
    shapeEntropy                            html  
    shapeIQR                                html  
    shapeMean                               html  
    shapeMultimodality                      html  
    subsetByBidirectionality                html  
    subsetByComposition                     html  
    subsetBySupport                         html  
    swapRanges                              html  
    swapScores                              html  
    trackBalance                            html  
    trackCTSS                               html  
    trackClusters                           html  
    trackLinks                              html  
    trimToPeak                              html  
    trimToPercentiles                       html  
    tuneTagClustering                       html  
    utilsAggregateRows                      html  
    utilsDeStrand                           html  
    utilsScoreOverlaps                      html  
    utilsSimplifyTxDb                       html  
** building package indices
** installing vignettes
** testing if installed package can be loaded from temporary location
** testing if installed package can be loaded from final location
** testing if installed package keeps a record of temporary installation path

install for x64

* installing *source* package 'CAGEfightR' ...
** testing if installed package can be loaded
* MD5 sums
packaged installation of 'CAGEfightR' as CAGEfightR_1.9.0.zip
* DONE (CAGEfightR)