Back to Multiple platform build/check report for BioC 3.12
AB[C]DEFGHIJKLMNOPQRSTUVWXYZ

BUILD BIN report for CAMERA on merida1

This page was generated on 2020-08-07 12:24:11 -0400 (Fri, 07 Aug 2020).

TO THE DEVELOPERS/MAINTAINERS OF THE CAMERA PACKAGE: Please make sure to use the following settings in order to reproduce any error or warning you see on this page.
Package 216/1882HostnameOS / ArchINSTALLBUILDCHECKBUILD BIN
CAMERA 1.45.1
Steffen Neumann
Snapshot Date: 2020-08-06 14:50:46 -0400 (Thu, 06 Aug 2020)
URL: https://git.bioconductor.org/packages/CAMERA
Branch: master
Last Commit: 45384c6
Last Changed Date: 2020-06-02 05:43:49 -0400 (Tue, 02 Jun 2020)
malbec1 Linux (Ubuntu 18.04.4 LTS) / x86_64  OK  OK  WARNINGS UNNEEDED, same version exists in internal repository
tokay1 Windows Server 2012 R2 Standard / x64  OK  OK  WARNINGS  OK UNNEEDED, same version exists in internal repository
merida1 macOS 10.14.6 Mojave / x86_64  OK  OK  WARNINGS [ OK ]UNNEEDED, same version exists in internal repository

Summary

Package: CAMERA
Version: 1.45.1
Command: rm -rf CAMERA.buildbin-libdir && mkdir CAMERA.buildbin-libdir && /Users/biocbuild/BBS/utils/build-universal.sh CAMERA_1.45.1.tar.gz /Library/Frameworks/R.framework/Versions/Current/Resources/bin/R CAMERA.buildbin-libdir
StartedAt: 2020-08-07 06:09:31 -0400 (Fri, 07 Aug 2020)
EndedAt: 2020-08-07 06:10:28 -0400 (Fri, 07 Aug 2020)
EllapsedTime: 56.8 seconds
RetCode: 0
Status:  OK 
PackageFile: CAMERA_1.45.1.tgz
PackageFileSize: 2.735 MiB

Command output

##############################################################################
##############################################################################
###
### Running command:
###
###   rm -rf CAMERA.buildbin-libdir && mkdir CAMERA.buildbin-libdir && /Users/biocbuild/BBS/utils/build-universal.sh CAMERA_1.45.1.tar.gz /Library/Frameworks/R.framework/Versions/Current/Resources/bin/R CAMERA.buildbin-libdir
###
##############################################################################
##############################################################################


>>>>>>> 
>>>>>>> INSTALLATION WITH 'R CMD INSTALL --preclean --no-multiarch --library=CAMERA.buildbin-libdir CAMERA_1.45.1.tar.gz'
>>>>>>> 

* installing *source* package ‘CAMERA’ ...
** using staged installation
** libs
clang -mmacosx-version-min=10.13 -I"/Library/Frameworks/R.framework/Resources/include" -DNDEBUG   -I/usr/local/include   -fPIC  -Wall -g -O2  -c fastMatch.c -o fastMatch.o
clang -mmacosx-version-min=10.13 -dynamiclib -Wl,-headerpad_max_install_names -undefined dynamic_lookup -single_module -multiply_defined suppress -L/Library/Frameworks/R.framework/Resources/lib -L/usr/local/lib -o CAMERA.so fastMatch.o -F/Library/Frameworks/R.framework/.. -framework R -Wl,-framework -Wl,CoreFoundation
installing to /Users/biocbuild/bbs-3.12-bioc/meat/CAMERA.buildbin-libdir/00LOCK-CAMERA/00new/CAMERA/libs
** R
** data
** inst
** byte-compile and prepare package for lazy loading
Warning: replacing previous import ‘xcms::plot’ by ‘graphics::plot’ when loading ‘CAMERA’
** help
*** installing help indices
** building package indices
** installing vignettes
** testing if installed package can be loaded from temporary location
Warning: replacing previous import ‘xcms::plot’ by ‘graphics::plot’ when loading ‘CAMERA’
** checking absolute paths in shared objects and dynamic libraries
** testing if installed package can be loaded from final location
Warning: replacing previous import ‘xcms::plot’ by ‘graphics::plot’ when loading ‘CAMERA’
** testing if installed package keeps a record of temporary installation path
* DONE (CAMERA)


>>>>>>> 
>>>>>>> FIXING LINKS FOR CAMERA.buildbin-libdir/CAMERA/libs/CAMERA.so
>>>>>>> 

install_name_tool -change "/usr/local/lib/libgcc_s.1.dylib" "/Library/Frameworks/R.framework/Versions/4.0/Resources/lib/libgcc_s.1.dylib" "CAMERA.buildbin-libdir/CAMERA/libs/CAMERA.so"
install_name_tool -change "/usr/local/lib/libgfortran.5.dylib" "/Library/Frameworks/R.framework/Versions/4.0/Resources/lib/libgfortran.5.dylib" "CAMERA.buildbin-libdir/CAMERA/libs/CAMERA.so"
install_name_tool -change "/usr/local/lib/libquadmath.0.dylib" "/Library/Frameworks/R.framework/Versions/4.0/Resources/lib/libquadmath.0.dylib" "CAMERA.buildbin-libdir/CAMERA/libs/CAMERA.so"