Back to Multiple platform build/check report for BioC 3.12
ABC[D]EFGHIJKLMNOPQRSTUVWXYZ

Multiple platform build/check report for BioC 3.12

Results for diffHic

This page was generated on 2020-10-24 10:55:43 -0400 (Sat, 24 Oct 2020).

Package 478/1974HostnameOS / ArchINSTALLBUILDCHECKBUILD BIN
diffHic 1.21.1
Aaron Lun
Snapshot Date: 2020-10-23 14:40:36 -0400 (Fri, 23 Oct 2020)
URL: https://git.bioconductor.org/packages/diffHic
Branch: master
Last Commit: ced315c
Last Changed Date: 2020-07-14 16:22:09 -0400 (Tue, 14 Jul 2020)
malbec1 Linux (Ubuntu 18.04.4 LTS) / x86_64  OK  OK  OK UNNEEDED, same version exists in internal repository
nebbiolo1 Linux (Ubuntu 20.04.1 LTS) / x86_64  OK  OK  OK 
tokay1 Windows Server 2012 R2 Standard / x64  OK  OK  WARNINGS  OK UNNEEDED, same version exists in internal repository
riesling1 Windows Server 2019 Standard / x64  OK  OK  WARNINGS  OK 
merida1 macOS 10.14.6 Mojave / x86_64  OK  OK  OK  OK UNNEEDED, same version exists in internal repository