Back to Multiple platform build/check report for BioC 3.12
A[B]CDEFGHIJKLMNOPQRSTUVWXYZ

INSTALL report for BBCAnalyzer on tokay1

This page was generated on 2021-01-17 11:52:44 -0500 (Sun, 17 Jan 2021).

TO THE DEVELOPERS/MAINTAINERS OF THE BBCAnalyzer PACKAGE: Please make sure to use the following settings in order to reproduce any error or warning you see on this page.
Package 129/1974HostnameOS / ArchINSTALLBUILDCHECKBUILD BIN
BBCAnalyzer 1.20.0
Sarah Sandmann
Snapshot Date: 2021-01-16 14:41:12 -0500 (Sat, 16 Jan 2021)
URL: https://git.bioconductor.org/packages/BBCAnalyzer
Branch: RELEASE_3_12
Last Commit: 1ab650d
Last Changed Date: 2020-10-27 11:07:21 -0500 (Tue, 27 Oct 2020)
malbec1 Linux (Ubuntu 18.04.5 LTS) / x86_64  OK  OK  OK UNNEEDED, same version exists in internal repository
nebbiolo1 Linux (Ubuntu 20.04.1 LTS) / x86_64  OK  OK  OK 
tokay1 Windows Server 2012 R2 Standard / x64 [ OK ] OK  WARNINGS  OK UNNEEDED, same version exists in internal repository
merida1 macOS 10.14.6 Mojave / x86_64  OK  OK  OK  OK UNNEEDED, same version exists in internal repository

Summary

Package: BBCAnalyzer
Version: 1.20.0
Command: C:\cygwin\bin\curl.exe -O https://malbec1.bioconductor.org/BBS/3.12/bioc/src/contrib/BBCAnalyzer_1.20.0.tar.gz && rm -rf BBCAnalyzer.buildbin-libdir && mkdir BBCAnalyzer.buildbin-libdir && C:\Users\biocbuild\bbs-3.12-bioc\R\bin\R.exe CMD INSTALL --merge-multiarch --build --library=BBCAnalyzer.buildbin-libdir BBCAnalyzer_1.20.0.tar.gz && C:\Users\biocbuild\bbs-3.12-bioc\R\bin\R.exe CMD INSTALL BBCAnalyzer_1.20.0.zip && rm BBCAnalyzer_1.20.0.tar.gz BBCAnalyzer_1.20.0.zip
StartedAt: 2021-01-16 18:12:51 -0500 (Sat, 16 Jan 2021)
EndedAt: 2021-01-16 18:14:31 -0500 (Sat, 16 Jan 2021)
EllapsedTime: 100.1 seconds
RetCode: 0
Status:  OK  

Command output

##############################################################################
##############################################################################
###
### Running command:
###
###   C:\cygwin\bin\curl.exe -O https://malbec1.bioconductor.org/BBS/3.12/bioc/src/contrib/BBCAnalyzer_1.20.0.tar.gz && rm -rf BBCAnalyzer.buildbin-libdir && mkdir BBCAnalyzer.buildbin-libdir && C:\Users\biocbuild\bbs-3.12-bioc\R\bin\R.exe CMD INSTALL --merge-multiarch --build --library=BBCAnalyzer.buildbin-libdir BBCAnalyzer_1.20.0.tar.gz && C:\Users\biocbuild\bbs-3.12-bioc\R\bin\R.exe CMD INSTALL BBCAnalyzer_1.20.0.zip && rm BBCAnalyzer_1.20.0.tar.gz BBCAnalyzer_1.20.0.zip
###
##############################################################################
##############################################################################


  % Total    % Received % Xferd  Average Speed   Time    Time     Time  Current
                                 Dload  Upload   Total   Spent    Left  Speed

  0     0    0     0    0     0      0      0 --:--:-- --:--:-- --:--:--     0
100 1798k  100 1798k    0     0  8124k      0 --:--:-- --:--:-- --:--:-- 8250k

install for i386

* installing *source* package 'BBCAnalyzer' ...
** using staged installation
** R
** inst
** byte-compile and prepare package for lazy loading
Warning: replacing previous import 'grDevices::windows' by 'GenomicRanges::windows' when loading 'BBCAnalyzer'
** help
*** installing help indices
  converting help for package 'BBCAnalyzer'
    finding HTML links ... done
    BBCAnalyzer-package                     html  
    analyzeBases                            html  
    analyzeBasesPlotOnly                    html  
** building package indices
** installing vignettes
** testing if installed package can be loaded from temporary location
Warning: replacing previous import 'grDevices::windows' by 'GenomicRanges::windows' when loading 'BBCAnalyzer'
** testing if installed package can be loaded from final location
Warning: replacing previous import 'grDevices::windows' by 'GenomicRanges::windows' when loading 'BBCAnalyzer'
** testing if installed package keeps a record of temporary installation path

install for x64

* installing *source* package 'BBCAnalyzer' ...
** testing if installed package can be loaded
Warning: replacing previous import 'grDevices::windows' by 'GenomicRanges::windows' when loading 'BBCAnalyzer'
* MD5 sums
packaged installation of 'BBCAnalyzer' as BBCAnalyzer_1.20.0.zip
* DONE (BBCAnalyzer)
* installing to library 'C:/Users/biocbuild/bbs-3.12-bioc/R/library'
package 'BBCAnalyzer' successfully unpacked and MD5 sums checked