Back to Multiple platform build/check report for BioC 3.12
A[B]CDEFGHIJKLMNOPQRSTUVWXYZ

INSTALL report for BiocSet on tokay1

This page was generated on 2020-08-11 11:49:41 -0400 (Tue, 11 Aug 2020).

TO THE DEVELOPERS/MAINTAINERS OF THE BiocSet PACKAGE: Please make sure to use the following settings in order to reproduce any error or warning you see on this page.
Package 159/1885HostnameOS / ArchINSTALLBUILDCHECKBUILD BIN
BiocSet 1.3.3
Kayla Morrell
Snapshot Date: 2020-08-10 14:50:56 -0400 (Mon, 10 Aug 2020)
URL: https://git.bioconductor.org/packages/BiocSet
Branch: master
Last Commit: 4cfed97
Last Changed Date: 2020-07-21 10:55:25 -0400 (Tue, 21 Jul 2020)
malbec1 Linux (Ubuntu 18.04.4 LTS) / x86_64  OK  OK  OK UNNEEDED, same version exists in internal repository
nebbiolo1 Linux (Ubuntu 20.04.1 LTS) / x86_64  OK  OK  NA 
tokay1 Windows Server 2012 R2 Standard / x64 [ OK ] OK  OK  OK UNNEEDED, same version exists in internal repository
merida1 macOS 10.14.6 Mojave / x86_64  OK  OK  OK  OK UNNEEDED, same version exists in internal repository

Summary

Package: BiocSet
Version: 1.3.3
Command: C:\cygwin\bin\curl.exe -O https://malbec1.bioconductor.org/BBS/3.12/bioc/src/contrib/BiocSet_1.3.3.tar.gz && rm -rf BiocSet.buildbin-libdir && mkdir BiocSet.buildbin-libdir && C:\Users\biocbuild\bbs-3.12-bioc\R\bin\R.exe CMD INSTALL --merge-multiarch --build --library=BiocSet.buildbin-libdir BiocSet_1.3.3.tar.gz && C:\Users\biocbuild\bbs-3.12-bioc\R\bin\R.exe CMD INSTALL BiocSet_1.3.3.zip && rm BiocSet_1.3.3.tar.gz BiocSet_1.3.3.zip
StartedAt: 2020-08-10 18:10:43 -0400 (Mon, 10 Aug 2020)
EndedAt: 2020-08-10 18:11:37 -0400 (Mon, 10 Aug 2020)
EllapsedTime: 53.9 seconds
RetCode: 0
Status:  OK  

Command output

##############################################################################
##############################################################################
###
### Running command:
###
###   C:\cygwin\bin\curl.exe -O https://malbec1.bioconductor.org/BBS/3.12/bioc/src/contrib/BiocSet_1.3.3.tar.gz && rm -rf BiocSet.buildbin-libdir && mkdir BiocSet.buildbin-libdir && C:\Users\biocbuild\bbs-3.12-bioc\R\bin\R.exe CMD INSTALL --merge-multiarch --build --library=BiocSet.buildbin-libdir BiocSet_1.3.3.tar.gz && C:\Users\biocbuild\bbs-3.12-bioc\R\bin\R.exe CMD INSTALL BiocSet_1.3.3.zip && rm BiocSet_1.3.3.tar.gz BiocSet_1.3.3.zip
###
##############################################################################
##############################################################################


  % Total    % Received % Xferd  Average Speed   Time    Time     Time  Current
                                 Dload  Upload   Total   Spent    Left  Speed

  0     0    0     0    0     0      0      0 --:--:-- --:--:-- --:--:--     0
100 56867  100 56867    0     0  1293k      0 --:--:-- --:--:-- --:--:-- 1423k

install for i386

* installing *source* package 'BiocSet' ...
** using staged installation
** R
** inst
** byte-compile and prepare package for lazy loading
** help
*** installing help indices
  converting help for package 'BiocSet'
    finding HTML links ... done
    BiocSet-class                           html  
    BiocSet-methods                         html  
    coerce                                  html  
    element_funs                            html  
    elementset_funs                         html  
    import                                  html  
    intersect_single                        html  
    mapping_element                         html  
    mapping_set                             html  
    set_funs                                html  
    tblelement                              html  
    tblelementset                           html  
    tblset                                  html  
    union_single                            html  
    url_ref                                 html  
** building package indices
** installing vignettes
** testing if installed package can be loaded from temporary location
** testing if installed package can be loaded from final location
** testing if installed package keeps a record of temporary installation path

install for x64

* installing *source* package 'BiocSet' ...
** testing if installed package can be loaded
* MD5 sums
packaged installation of 'BiocSet' as BiocSet_1.3.3.zip
* DONE (BiocSet)
* installing to library 'C:/Users/biocbuild/bbs-3.12-bioc/R/library'
package 'BiocSet' successfully unpacked and MD5 sums checked