Back to Multiple platform build/check report for BioC 3.12 |
|
This page was generated on 2021-02-22 12:37:02 -0500 (Mon, 22 Feb 2021).
To the developers/maintainers of the BasicSTARRseq package: Please make sure to use the following settings in order to reproduce any error or warning you see on this page. |
Package 120/1974 | Hostname | OS / Arch | INSTALL | BUILD | CHECK | BUILD BIN | ||||||||
BasicSTARRseq 1.18.0 Annika Buerger
| malbec1 | Linux (Ubuntu 18.04.5 LTS) / x86_64 | OK | OK | OK | ![]() | ||||||||
nebbiolo1 | Linux (Ubuntu 20.04.2 LTS) / x86_64 | OK | OK | OK | ||||||||||
tokay1 | Windows Server 2012 R2 Standard / x64 | OK | OK | OK | OK | ![]() | ||||||||
merida1 | macOS 10.14.6 Mojave / x86_64 | OK | OK | OK | OK | ![]() | ||||||||
Package: BasicSTARRseq |
Version: 1.18.0 |
Command: C:\cygwin\bin\curl.exe -O https://malbec1.bioconductor.org/BBS/3.12/bioc/src/contrib/BasicSTARRseq_1.18.0.tar.gz && rm -rf BasicSTARRseq.buildbin-libdir && mkdir BasicSTARRseq.buildbin-libdir && C:\Users\biocbuild\bbs-3.12-bioc\R\bin\R.exe CMD INSTALL --merge-multiarch --build --library=BasicSTARRseq.buildbin-libdir BasicSTARRseq_1.18.0.tar.gz && C:\Users\biocbuild\bbs-3.12-bioc\R\bin\R.exe CMD INSTALL BasicSTARRseq_1.18.0.zip && rm BasicSTARRseq_1.18.0.tar.gz BasicSTARRseq_1.18.0.zip |
StartedAt: 2021-02-21 17:46:59 -0500 (Sun, 21 Feb 2021) |
EndedAt: 2021-02-21 17:47:42 -0500 (Sun, 21 Feb 2021) |
EllapsedTime: 43.7 seconds |
RetCode: 0 |
Status: OK |
############################################################################## ############################################################################## ### ### Running command: ### ### C:\cygwin\bin\curl.exe -O https://malbec1.bioconductor.org/BBS/3.12/bioc/src/contrib/BasicSTARRseq_1.18.0.tar.gz && rm -rf BasicSTARRseq.buildbin-libdir && mkdir BasicSTARRseq.buildbin-libdir && C:\Users\biocbuild\bbs-3.12-bioc\R\bin\R.exe CMD INSTALL --merge-multiarch --build --library=BasicSTARRseq.buildbin-libdir BasicSTARRseq_1.18.0.tar.gz && C:\Users\biocbuild\bbs-3.12-bioc\R\bin\R.exe CMD INSTALL BasicSTARRseq_1.18.0.zip && rm BasicSTARRseq_1.18.0.tar.gz BasicSTARRseq_1.18.0.zip ### ############################################################################## ############################################################################## % Total % Received % Xferd Average Speed Time Time Time Current Dload Upload Total Spent Left Speed 0 0 0 0 0 0 0 0 --:--:-- --:--:-- --:--:-- 0 100 306k 100 306k 0 0 7848k 0 --:--:-- --:--:-- --:--:-- 8755k install for i386 * installing *source* package 'BasicSTARRseq' ... ** using staged installation ** R ** inst ** byte-compile and prepare package for lazy loading Creating a new generic function for 'sample' in package 'BasicSTARRseq' ** help *** installing help indices converting help for package 'BasicSTARRseq' finding HTML links ... done STARRseqData-class html finding level-2 HTML links ... done getPeaks html ** building package indices ** installing vignettes ** testing if installed package can be loaded from temporary location ** testing if installed package can be loaded from final location ** testing if installed package keeps a record of temporary installation path install for x64 * installing *source* package 'BasicSTARRseq' ... ** testing if installed package can be loaded * MD5 sums packaged installation of 'BasicSTARRseq' as BasicSTARRseq_1.18.0.zip * DONE (BasicSTARRseq) * installing to library 'C:/Users/biocbuild/bbs-3.12-bioc/R/library' package 'BasicSTARRseq' successfully unpacked and MD5 sums checked