Back to Multiple platform build/check report for BioC 3.12
[A]BCDEFGHIJKLMNOPQRSTUVWXYZ

BUILD report for AnnotationDbi on tokay1

This page was generated on 2021-04-14 12:10:24 -0400 (Wed, 14 Apr 2021).

To the developers/maintainers of the AnnotationDbi package:
Please make sure to use the following settings in order to reproduce any error or warning you see on this page.
Package 62/1974HostnameOS / ArchINSTALLBUILDCHECKBUILD BIN
AnnotationDbi 1.52.0  (landing page)
Bioconductor Package Maintainer
Snapshot Date: 2021-04-13 14:50:13 -0400 (Tue, 13 Apr 2021)
URL: https://git.bioconductor.org/packages/AnnotationDbi
Branch: RELEASE_3_12
Last Commit: c4e0ca9
Last Changed Date: 2020-10-27 10:29:55 -0400 (Tue, 27 Oct 2020)
malbec1Linux (Ubuntu 18.04.5 LTS) / x86_64  OK    OK    OK  UNNEEDED, same version exists in internal repository
tokay1Windows Server 2012 R2 Standard / x64  OK    OK    OK    OK  UNNEEDED, same version exists in internal repository
merida1macOS 10.14.6 Mojave / x86_64  OK    OK    OK    OK  UNNEEDED, same version exists in internal repository

Summary

Package: AnnotationDbi
Version: 1.52.0
Command: chmod a+r AnnotationDbi -R && C:\Users\biocbuild\bbs-3.12-bioc\R\bin\R.exe CMD build --keep-empty-dirs --no-resave-data AnnotationDbi
StartedAt: 2021-04-13 19:23:40 -0400 (Tue, 13 Apr 2021)
EndedAt: 2021-04-13 19:27:18 -0400 (Tue, 13 Apr 2021)
EllapsedTime: 217.7 seconds
RetCode: 0
Status:   OK   
PackageFile: AnnotationDbi_1.52.0.tar.gz
PackageFileSize: 4.138 MiB

Command output

##############################################################################
##############################################################################
###
### Running command:
###
###   chmod a+r AnnotationDbi -R && C:\Users\biocbuild\bbs-3.12-bioc\R\bin\R.exe CMD build --keep-empty-dirs --no-resave-data AnnotationDbi
###
##############################################################################
##############################################################################


* checking for file 'AnnotationDbi/DESCRIPTION' ... OK
* preparing 'AnnotationDbi':
* checking DESCRIPTION meta-information ... OK
* installing the package to build vignettes
* creating vignettes ... OK
* checking for LF line-endings in source and make files and shell scripts
* checking for empty or unneeded directories
* building 'AnnotationDbi_1.52.0.tar.gz'