Back to Multiple platform build/check report for BioC 3.12
AB[C]DEFGHIJKLMNOPQRSTUVWXYZ

BUILD BIN report for CellBench on merida1

This page was generated on 2021-01-24 11:56:47 -0500 (Sun, 24 Jan 2021).

TO THE DEVELOPERS/MAINTAINERS OF THE CellBench PACKAGE: Please make sure to use the following settings in order to reproduce any error or warning you see on this page.
Package 251/1974HostnameOS / ArchINSTALLBUILDCHECKBUILD BIN
CellBench 1.6.0
Shian Su
Snapshot Date: 2021-01-23 14:40:16 -0500 (Sat, 23 Jan 2021)
URL: https://git.bioconductor.org/packages/CellBench
Branch: RELEASE_3_12
Last Commit: b830843
Last Changed Date: 2020-10-27 11:43:21 -0500 (Tue, 27 Oct 2020)
malbec1 Linux (Ubuntu 18.04.5 LTS) / x86_64  OK  OK  OK UNNEEDED, same version exists in internal repository
nebbiolo1 Linux (Ubuntu 20.04.1 LTS) / x86_64  OK  OK  OK 
tokay1 Windows Server 2012 R2 Standard / x64  OK  OK  OK  OK UNNEEDED, same version exists in internal repository
merida1 macOS 10.14.6 Mojave / x86_64  OK  OK  OK [ OK ]UNNEEDED, same version exists in internal repository

Summary

Package: CellBench
Version: 1.6.0
Command: rm -rf CellBench.buildbin-libdir && mkdir CellBench.buildbin-libdir && /Users/biocbuild/BBS/utils/build-universal.sh CellBench_1.6.0.tar.gz /Library/Frameworks/R.framework/Versions/Current/Resources/bin/R CellBench.buildbin-libdir
StartedAt: 2021-01-24 07:10:28 -0500 (Sun, 24 Jan 2021)
EndedAt: 2021-01-24 07:11:30 -0500 (Sun, 24 Jan 2021)
EllapsedTime: 62.0 seconds
RetCode: 0
Status:  OK 
PackageFile: CellBench_1.6.0.tgz
PackageFileSize: 3.847 MiB

Command output

##############################################################################
##############################################################################
###
### Running command:
###
###   rm -rf CellBench.buildbin-libdir && mkdir CellBench.buildbin-libdir && /Users/biocbuild/BBS/utils/build-universal.sh CellBench_1.6.0.tar.gz /Library/Frameworks/R.framework/Versions/Current/Resources/bin/R CellBench.buildbin-libdir
###
##############################################################################
##############################################################################


>>>>>>> 
>>>>>>> INSTALLATION WITH 'R CMD INSTALL --preclean --no-multiarch --library=CellBench.buildbin-libdir CellBench_1.6.0.tar.gz'
>>>>>>> 

* installing *source* package ‘CellBench’ ...
** using staged installation
** R
** data
*** moving datasets to lazyload DB
** inst
** byte-compile and prepare package for lazy loading
** help
*** installing help indices
** building package indices
** installing vignettes
** testing if installed package can be loaded from temporary location
** testing if installed package can be loaded from final location
** testing if installed package keeps a record of temporary installation path
* DONE (CellBench)