Back to Multiple platform build/check report for BioC 3.12
AB[C]DEFGHIJKLMNOPQRSTUVWXYZ

INSTALL report for ChemmineOB on tokay1

This page was generated on 2020-08-07 12:02:48 -0400 (Fri, 07 Aug 2020).

TO THE DEVELOPERS/MAINTAINERS OF THE ChemmineOB PACKAGE: Please make sure to use the following settings in order to reproduce any error or warning you see on this page.
Package 263/1882HostnameOS / ArchINSTALLBUILDCHECKBUILD BIN
ChemmineOB 1.27.1
Thomas Girke
Snapshot Date: 2020-08-06 14:50:46 -0400 (Thu, 06 Aug 2020)
URL: https://git.bioconductor.org/packages/ChemmineOB
Branch: master
Last Commit: 07550fb
Last Changed Date: 2020-05-06 18:39:47 -0400 (Wed, 06 May 2020)
malbec1 Linux (Ubuntu 18.04.4 LTS) / x86_64  ERROR  ERROR  skipped 
tokay1 Windows Server 2012 R2 Standard / x64 [ ERROR ] ERROR  skipped  skipped 
merida1 macOS 10.14.6 Mojave / x86_64  ERROR  ERROR  skipped  skipped 

Summary

Package: ChemmineOB
Version: 1.27.1
Command: C:\cygwin\bin\curl.exe -O https://malbec1.bioconductor.org/BBS/3.12/bioc/src/contrib/ChemmineOB_1.27.1.tar.gz && rm -rf ChemmineOB.buildbin-libdir && mkdir ChemmineOB.buildbin-libdir && C:\Users\biocbuild\bbs-3.12-bioc\R\bin\R.exe CMD INSTALL --merge-multiarch --build --library=ChemmineOB.buildbin-libdir ChemmineOB_1.27.1.tar.gz && C:\Users\biocbuild\bbs-3.12-bioc\R\bin\R.exe CMD INSTALL ChemmineOB_1.27.1.zip && rm ChemmineOB_1.27.1.tar.gz ChemmineOB_1.27.1.zip
StartedAt: 2020-08-06 16:45:48 -0400 (Thu, 06 Aug 2020)
EndedAt: 2020-08-06 16:46:19 -0400 (Thu, 06 Aug 2020)
EllapsedTime: 31.7 seconds
RetCode: 1
Status:  ERROR  

Command output

##############################################################################
##############################################################################
###
### Running command:
###
###   C:\cygwin\bin\curl.exe -O https://malbec1.bioconductor.org/BBS/3.12/bioc/src/contrib/ChemmineOB_1.27.1.tar.gz && rm -rf ChemmineOB.buildbin-libdir && mkdir ChemmineOB.buildbin-libdir && C:\Users\biocbuild\bbs-3.12-bioc\R\bin\R.exe CMD INSTALL --merge-multiarch --build --library=ChemmineOB.buildbin-libdir ChemmineOB_1.27.1.tar.gz && C:\Users\biocbuild\bbs-3.12-bioc\R\bin\R.exe CMD INSTALL ChemmineOB_1.27.1.zip && rm ChemmineOB_1.27.1.tar.gz ChemmineOB_1.27.1.zip
###
##############################################################################
##############################################################################


  % Total    % Received % Xferd  Average Speed   Time    Time     Time  Current
                                 Dload  Upload   Total   Spent    Left  Speed

  0     0    0     0    0     0      0      0 --:--:-- --:--:-- --:--:--     0
100 1064k  100 1064k    0     0  3219k      0 --:--:-- --:--:-- --:--:-- 3254k

install for i386

* installing *source* package 'ChemmineOB' ...
** using staged installation

   **********************************************
   WARNING: this package has a configure script
         It probably needs manual configuration
   **********************************************


** libs
"C:/rtools40/mingw32/bin/"g++ -std=gnu++11  -I"C:/Users/BIOCBU~1/BBS-3~1.12-/R/include" -DNDEBUG  -I'C:/Users/biocbuild/bbs-3.12-bioc/R/library/BH/include' -I'C:/Users/biocbuild/bbs-3.12-bioc/R/library/Rcpp/include'   -I"C:/extsoft/include"  -Ic:/openbabel/src/i386/include   -O2 -Wall  -mfpmath=sse -msse2 -mstackrealign -c ChemmineOB.cpp -o ChemmineOB.o
In file included from ChemmineOB.cpp:1624:
c:/openbabel/src/i386/include/openbabel/math/align.h:26:10: fatal error: Eigen/Core: No such file or directory
 #include <Eigen/Core>
          ^~~~~~~~~~~~
compilation terminated.
make: *** [C:/Users/BIOCBU~1/BBS-3~1.12-/R/etc/i386/Makeconf:229: ChemmineOB.o] Error 1
ERROR: compilation failed for package 'ChemmineOB'
* removing 'C:/Users/biocbuild/bbs-3.12-bioc/meat/ChemmineOB.buildbin-libdir/ChemmineOB'