Back to Multiple platform build/check report for BioC 3.12
[A]BCDEFGHIJKLMNOPQRSTUVWXYZ

CHECK report for AMARETTO on malbec1

This page was generated on 2020-08-09 11:32:09 -0400 (Sun, 09 Aug 2020).

TO THE DEVELOPERS/MAINTAINERS OF THE AMARETTO PACKAGE: Please make sure to use the following settings in order to reproduce any error or warning you see on this page.
Package 48/1882HostnameOS / ArchINSTALLBUILDCHECKBUILD BIN
AMARETTO 1.5.0
Olivier Gevaert
Snapshot Date: 2020-08-08 14:51:01 -0400 (Sat, 08 Aug 2020)
URL: https://git.bioconductor.org/packages/AMARETTO
Branch: master
Last Commit: 07c0d39
Last Changed Date: 2020-04-27 15:24:46 -0400 (Mon, 27 Apr 2020)
malbec1 Linux (Ubuntu 18.04.4 LTS) / x86_64  OK  OK [ OK ]UNNEEDED, same version exists in internal repository
nebbiolo1 Linux (Ubuntu 20.04.1 LTS) / x86_64  OK  OK  OK 
tokay1 Windows Server 2012 R2 Standard / x64  OK  OK  OK  OK UNNEEDED, same version exists in internal repository
merida1 macOS 10.14.6 Mojave / x86_64  OK  OK  OK  OK UNNEEDED, same version exists in internal repository

Summary

Package: AMARETTO
Version: 1.5.0
Command: /home/biocbuild/bbs-3.12-bioc/R/bin/R CMD check --install=check:AMARETTO.install-out.txt --library=/home/biocbuild/bbs-3.12-bioc/R/library --no-vignettes --timings AMARETTO_1.5.0.tar.gz
StartedAt: 2020-08-09 04:47:35 -0400 (Sun, 09 Aug 2020)
EndedAt: 2020-08-09 04:52:26 -0400 (Sun, 09 Aug 2020)
EllapsedTime: 291.5 seconds
RetCode: 0
Status:  OK 
CheckDir: AMARETTO.Rcheck
Warnings: 0

Command output

##############################################################################
##############################################################################
###
### Running command:
###
###   /home/biocbuild/bbs-3.12-bioc/R/bin/R CMD check --install=check:AMARETTO.install-out.txt --library=/home/biocbuild/bbs-3.12-bioc/R/library --no-vignettes --timings AMARETTO_1.5.0.tar.gz
###
##############################################################################
##############################################################################


* using log directory ‘/home/biocbuild/bbs-3.12-bioc/meat/AMARETTO.Rcheck’
* using R version 4.0.2 (2020-06-22)
* using platform: x86_64-pc-linux-gnu (64-bit)
* using session charset: UTF-8
* using option ‘--no-vignettes’
* checking for file ‘AMARETTO/DESCRIPTION’ ... OK
* checking extension type ... Package
* this is package ‘AMARETTO’ version ‘1.5.0’
* package encoding: UTF-8
* checking package namespace information ... OK
* checking package dependencies ... OK
* checking if this is a source package ... OK
* checking if there is a namespace ... OK
* checking for hidden files and directories ... OK
* checking for portable file names ... OK
* checking for sufficient/correct file permissions ... OK
* checking whether package ‘AMARETTO’ can be installed ... OK
* checking installed package size ... NOTE
  installed size is  6.1Mb
  sub-directories of 1Mb or more:
    data      1.5Mb
    extdata   3.8Mb
* checking package directory ... OK
* checking ‘build’ directory ... OK
* checking DESCRIPTION meta-information ... NOTE
License components with restrictions not permitted:
  Apache License (== 2.0) + file LICENSE
Package listed in more than one of Depends, Imports, Suggests, Enhances:
  ‘knitr’
A package should be listed in only one of these fields.
'LinkingTo' field is unused: package has no 'src' directory
* checking top-level files ... OK
* checking for left-over files ... OK
* checking index information ... OK
* checking package subdirectories ... OK
* checking R files for non-ASCII characters ... OK
* checking R files for syntax errors ... OK
* checking whether the package can be loaded ... OK
* checking whether the package can be loaded with stated dependencies ... OK
* checking whether the package can be unloaded cleanly ... OK
* checking whether the namespace can be loaded with stated dependencies ... OK
* checking whether the namespace can be unloaded cleanly ... OK
* checking dependencies in R code ... OK
* checking S3 generic/method consistency ... OK
* checking replacement functions ... OK
* checking foreign function calls ... OK
* checking R code for possible problems ... NOTE
AMARETTO_HTMLreport: no visible binding for global variable ‘ModuleNr’
AMARETTO_HTMLreport: no visible binding for global variable ‘Weights’
AMARETTO_HTMLreport: no visible binding for global variable
  ‘RegulatorIDs’
AMARETTO_HTMLreport: no visible binding for global variable ‘TargetIDs’
AMARETTO_HTMLreport: no visible binding for global variable ‘moduleNr’
AMARETTO_HTMLreport: no visible binding for global variable ‘Testset’
AMARETTO_HTMLreport: no visible binding for global variable ‘padj’
AMARETTO_HTMLreport: no visible binding for global variable
  ‘n_Overlapping’
AMARETTO_HTMLreport: no visible binding for global variable
  ‘NumberGenes’
AMARETTO_HTMLreport: no visible binding for global variable
  ‘overlap_perc’
AMARETTO_HTMLreport: no visible binding for global variable ‘Geneset’
AMARETTO_HTMLreport: no visible binding for global variable
  ‘Description’
AMARETTO_HTMLreport: no visible binding for global variable
  ‘Geneset_length’
AMARETTO_HTMLreport: no visible binding for global variable
  ‘Overlapping_genes’
AMARETTO_HTMLreport: no visible binding for global variable ‘p_value’
AMARETTO_HTMLreport: no visible binding for global variable ‘p.value’
AMARETTO_HTMLreport: no visible binding for global variable ‘q.value’
AMARETTO_HTMLreport: no visible binding for global variable ‘Genes’
AMARETTO_HTMLreport: no visible binding for global variable ‘value’
AMARETTO_HTMLreport: no visible binding for global variable ‘Type’
AMARETTO_HTMLreport: no visible binding for global variable ‘Color’
AMARETTO_HTMLreport: no visible binding for global variable ‘Modules’
AMARETTO_HTMLreport: no visible binding for global variable
  ‘dt_gensesetsall’
GeneSetDescription: no visible binding for global variable
  ‘MsigdbMapping’
GeneSetDescription : <anonymous>: no visible binding for global
  variable ‘MsigdbMapping’
GmtFromModules: no visible binding for global variable ‘value’
GmtFromModules: no visible binding for global variable ‘variable’
GmtFromModules: no visible binding for global variable ‘GeneNames’
HyperGTestGeneEnrichment: no visible binding for global variable ‘i’
HyperGTestGeneEnrichment: no visible binding for global variable ‘j’
read_gct: no visible binding for global variable ‘Description’
Undefined global functions or variables:
  Color Description GeneNames Genes Geneset Geneset_length ModuleNr
  Modules MsigdbMapping NumberGenes Overlapping_genes RegulatorIDs
  TargetIDs Testset Type Weights dt_gensesetsall i j moduleNr
  n_Overlapping overlap_perc p.value p_value padj q.value value
  variable
* checking Rd files ... OK
* checking Rd metadata ... OK
* checking Rd cross-references ... OK
* checking for missing documentation entries ... OK
* checking for code/documentation mismatches ... OK
* checking Rd \usage sections ... OK
* checking Rd contents ... OK
* checking for unstated dependencies in examples ... OK
* checking contents of ‘data’ directory ... OK
* checking data for non-ASCII characters ... NOTE
  Note: found 152 marked UTF-8 strings
* checking data for ASCII and uncompressed saves ... OK
* checking files in ‘vignettes’ ... OK
* checking examples ... OK
Examples with CPU (user + system) or elapsed time > 5s
                    user system elapsed
AMARETTO_Download 16.936  0.784  20.377
* checking for unstated dependencies in ‘tests’ ... OK
* checking tests ...
  Running ‘testthat.R’
 OK
* checking for unstated dependencies in vignettes ... OK
* checking package vignettes in ‘inst/doc’ ... OK
* checking running R code from vignettes ... SKIPPED
* checking re-building of vignette outputs ... SKIPPED
* checking PDF version of manual ... OK
* DONE

Status: 4 NOTEs
See
  ‘/home/biocbuild/bbs-3.12-bioc/meat/AMARETTO.Rcheck/00check.log’
for details.



Installation output

AMARETTO.Rcheck/00install.out

##############################################################################
##############################################################################
###
### Running command:
###
###   /home/biocbuild/bbs-3.12-bioc/R/bin/R CMD INSTALL AMARETTO
###
##############################################################################
##############################################################################


* installing to library ‘/home/biocbuild/bbs-3.12-bioc/R/library’
* installing *source* package ‘AMARETTO’ ...
** using staged installation
** R
** data
*** moving datasets to lazyload DB
** inst
** byte-compile and prepare package for lazy loading
** help
*** installing help indices
** building package indices
** installing vignettes
** testing if installed package can be loaded from temporary location
** testing if installed package can be loaded from final location
** testing if installed package keeps a record of temporary installation path
* DONE (AMARETTO)

Tests output

AMARETTO.Rcheck/tests/testthat.Rout


R version 4.0.2 (2020-06-22) -- "Taking Off Again"
Copyright (C) 2020 The R Foundation for Statistical Computing
Platform: x86_64-pc-linux-gnu (64-bit)

R is free software and comes with ABSOLUTELY NO WARRANTY.
You are welcome to redistribute it under certain conditions.
Type 'license()' or 'licence()' for distribution details.

R is a collaborative project with many contributors.
Type 'contributors()' for more information and
'citation()' on how to cite R or R packages in publications.

Type 'demo()' for some demos, 'help()' for on-line help, or
'help.start()' for an HTML browser interface to help.
Type 'q()' to quit R.

> library(testthat)
> library(AMARETTO)
Loading required package: impute
Loading required package: doParallel
Loading required package: foreach
Loading required package: iterators
Loading required package: parallel
Loading required package: dplyr

Attaching package: 'dplyr'

The following object is masked from 'package:testthat':

    matches

The following objects are masked from 'package:stats':

    filter, lag

The following objects are masked from 'package:base':

    intersect, setdiff, setequal, union

Loading required package: ComplexHeatmap
Loading required package: grid
========================================
ComplexHeatmap version 2.5.3
Bioconductor page: http://bioconductor.org/packages/ComplexHeatmap/
Github page: https://github.com/jokergoo/ComplexHeatmap
Documentation: http://jokergoo.github.io/ComplexHeatmap-reference

If you use it in published research, please cite:
Gu, Z. Complex heatmaps reveal patterns and correlations in multidimensional 
  genomic data. Bioinformatics 2016.

This message can be suppressed by:
  suppressPackageStartupMessages(library(ComplexHeatmap))
========================================

> 
> test_check("AMARETTO")
	Found 10 CNV driver genes.
	Found 89 MethylMix driver genes.
	Found a total of 96 unique drivers with your selected method.
Running AMARETTO on 402 genes and 45 samples.
	Stopping if less then 4.02 genes reassigned.
	Autoregulation is turned ON.
Elapsed time is 2.836000 seconds
Average nr of regulators per module: 9.200000 
Elapsed time is 0.200000 seconds
Nr of reassignments is: 48 
Elapsed time is 2.844000 seconds
Average nr of regulators per module: 9.100000 
Elapsed time is 0.210000 seconds
Nr of reassignments is: 9 
Elapsed time is 2.610000 seconds
Average nr of regulators per module: 9.600000 
Elapsed time is 0.199000 seconds
Nr of reassignments is: 8 
Elapsed time is 2.950000 seconds
Average nr of regulators per module: 9.700000 
Elapsed time is 0.122000 seconds
Nr of reassignments is: 8 
Elapsed time is 1.897000 seconds
Average nr of regulators per module: 9.300000 
Elapsed time is 0.117000 seconds
Nr of reassignments is: 4 
Elapsed time is 13.992000 seconds
══ testthat results  ═══════════════════════════════════════════════════════════
[ OK: 39 | SKIPPED: 0 | WARNINGS: 0 | FAILED: 0 ]
> 
> proc.time()
   user  system elapsed 
 26.928   0.408  27.378 

Example timings

AMARETTO.Rcheck/AMARETTO-Ex.timings

nameusersystemelapsed
AMARETTO_CreateModuleData1.2920.0201.312
AMARETTO_CreateRegulatorPrograms1.1720.0001.172
AMARETTO_Download16.936 0.78420.377
AMARETTO_EvaluateTestSet1.0760.0561.132
AMARETTO_ExportResults1.5640.0641.744
AMARETTO_HTMLreport0.0000.0000.001
AMARETTO_Initialize0.6040.0480.655
AMARETTO_Preprocess000
AMARETTO_Run1.4600.0281.490
AMARETTO_VisualizeModule4.6240.1004.730
plot_run_history2.3480.0002.349
read_gct000