Back to Multiple platform build/check report for BioC 3.12
[A]BCDEFGHIJKLMNOPQRSTUVWXYZ

BUILD BIN report for AUCell on merida1

This page was generated on 2020-08-06 12:24:48 -0400 (Thu, 06 Aug 2020).

TO THE DEVELOPERS/MAINTAINERS OF THE AUCell PACKAGE: Please make sure to use the following settings in order to reproduce any error or warning you see on this page.
Package 96/1882HostnameOS / ArchINSTALLBUILDCHECKBUILD BIN
AUCell 1.11.0
Sara Aibar
Snapshot Date: 2020-08-05 14:50:59 -0400 (Wed, 05 Aug 2020)
URL: https://git.bioconductor.org/packages/AUCell
Branch: master
Last Commit: a9afa79
Last Changed Date: 2020-04-27 15:10:23 -0400 (Mon, 27 Apr 2020)
malbec1 Linux (Ubuntu 18.04.4 LTS) / x86_64  OK  OK  OK UNNEEDED, same version exists in internal repository
tokay1 Windows Server 2012 R2 Standard / x64  OK  OK  OK  OK UNNEEDED, same version exists in internal repository
merida1 macOS 10.14.6 Mojave / x86_64  OK  OK  OK [ OK ]UNNEEDED, same version exists in internal repository

Summary

Package: AUCell
Version: 1.11.0
Command: rm -rf AUCell.buildbin-libdir && mkdir AUCell.buildbin-libdir && /Users/biocbuild/BBS/utils/build-universal.sh AUCell_1.11.0.tar.gz /Library/Frameworks/R.framework/Versions/Current/Resources/bin/R AUCell.buildbin-libdir
StartedAt: 2020-08-06 07:24:58 -0400 (Thu, 06 Aug 2020)
EndedAt: 2020-08-06 07:25:44 -0400 (Thu, 06 Aug 2020)
EllapsedTime: 45.2 seconds
RetCode: 0
Status:  OK 
PackageFile: AUCell_1.11.0.tgz
PackageFileSize: 1018 KiB

Command output

##############################################################################
##############################################################################
###
### Running command:
###
###   rm -rf AUCell.buildbin-libdir && mkdir AUCell.buildbin-libdir && /Users/biocbuild/BBS/utils/build-universal.sh AUCell_1.11.0.tar.gz /Library/Frameworks/R.framework/Versions/Current/Resources/bin/R AUCell.buildbin-libdir
###
##############################################################################
##############################################################################


>>>>>>> 
>>>>>>> INSTALLATION WITH 'R CMD INSTALL --preclean --no-multiarch --library=AUCell.buildbin-libdir AUCell_1.11.0.tar.gz'
>>>>>>> 

* installing *source* package ‘AUCell’ ...
** using staged installation
** R
** inst
** byte-compile and prepare package for lazy loading
** help
*** installing help indices
** building package indices
** installing vignettes
** testing if installed package can be loaded from temporary location
** testing if installed package can be loaded from final location
** testing if installed package keeps a record of temporary installation path
* DONE (AUCell)