Back to Multiple platform build/check report for BioC 3.12
[A]BCDEFGHIJKLMNOPQRSTUVWXYZ

BUILD BIN report for arrayMvout on merida1

This page was generated on 2021-02-22 12:41:42 -0500 (Mon, 22 Feb 2021).

To the developers/maintainers of the arrayMvout package:
Please make sure to use the following settings in order to reproduce any error or warning you see on this page.
Package 83/1974HostnameOS / ArchINSTALLBUILDCHECKBUILD BIN
arrayMvout 1.48.0
V. Carey
Snapshot Date: 2021-02-21 14:52:07 -0500 (Sun, 21 Feb 2021)
URL: https://git.bioconductor.org/packages/arrayMvout
Branch: RELEASE_3_12
Last Commit: 3d9d8e4
Last Changed Date: 2020-10-27 10:34:44 -0500 (Tue, 27 Oct 2020)
malbec1Linux (Ubuntu 18.04.5 LTS) / x86_64  OK    OK    OK  UNNEEDED, same version exists in internal repository
nebbiolo1Linux (Ubuntu 20.04.2 LTS) / x86_64  OK    OK    OK  
tokay1Windows Server 2012 R2 Standard / x64  OK    OK    OK    OK  UNNEEDED, same version exists in internal repository
merida1macOS 10.14.6 Mojave / x86_64  OK    OK    OK    OK  UNNEEDED, same version exists in internal repository

Summary

Package: arrayMvout
Version: 1.48.0
Command: rm -rf arrayMvout.buildbin-libdir && mkdir arrayMvout.buildbin-libdir && /Users/biocbuild/BBS/utils/build-universal.sh arrayMvout_1.48.0.tar.gz /Library/Frameworks/R.framework/Versions/Current/Resources/bin/R arrayMvout.buildbin-libdir
StartedAt: 2021-02-22 07:54:25 -0500 (Mon, 22 Feb 2021)
EndedAt: 2021-02-22 07:55:26 -0500 (Mon, 22 Feb 2021)
EllapsedTime: 61.0 seconds
RetCode: 0
Status:   OK  
PackageFile: arrayMvout_1.48.0.tgz
PackageFileSize: 727.2 KiB

Command output

##############################################################################
##############################################################################
###
### Running command:
###
###   rm -rf arrayMvout.buildbin-libdir && mkdir arrayMvout.buildbin-libdir && /Users/biocbuild/BBS/utils/build-universal.sh arrayMvout_1.48.0.tar.gz /Library/Frameworks/R.framework/Versions/Current/Resources/bin/R arrayMvout.buildbin-libdir
###
##############################################################################
##############################################################################


>>>>>>> 
>>>>>>> INSTALLATION WITH 'R CMD INSTALL --preclean --no-multiarch --library=arrayMvout.buildbin-libdir arrayMvout_1.48.0.tar.gz'
>>>>>>> 

* installing *source* package ‘arrayMvout’ ...
** using staged installation
** R
** data
** inst
** byte-compile and prepare package for lazy loading
No methods found in package ‘RSQLite’ for request: ‘dbListFields’ when loading ‘lumi’
** help
*** installing help indices
** building package indices
** installing vignettes
** testing if installed package can be loaded from temporary location
No methods found in package ‘RSQLite’ for request: ‘dbListFields’ when loading ‘lumi’
** testing if installed package can be loaded from final location
No methods found in package ‘RSQLite’ for request: ‘dbListFields’ when loading ‘lumi’
** testing if installed package keeps a record of temporary installation path
* DONE (arrayMvout)