Back to Multiple platform build/check report for BioC 3.12
[A]BCDEFGHIJKLMNOPQRSTUVWXYZ

BUILD BIN report for aCGH on merida1

This page was generated on 2020-08-13 11:47:57 -0400 (Thu, 13 Aug 2020).

TO THE DEVELOPERS/MAINTAINERS OF THE aCGH PACKAGE: Please make sure to use the following settings in order to reproduce any error or warning you see on this page.
Package 13/1885HostnameOS / ArchINSTALLBUILDCHECKBUILD BIN
aCGH 1.67.0
Peter Dimitrov
Snapshot Date: 2020-08-12 14:52:00 -0400 (Wed, 12 Aug 2020)
URL: https://git.bioconductor.org/packages/aCGH
Branch: master
Last Commit: a8f3d34
Last Changed Date: 2020-04-27 14:09:56 -0400 (Mon, 27 Apr 2020)
malbec1 Linux (Ubuntu 18.04.4 LTS) / x86_64  OK  OK  OK UNNEEDED, same version exists in internal repository
nebbiolo1 Linux (Ubuntu 20.04.1 LTS) / x86_64  OK  OK  OK 
tokay1 Windows Server 2012 R2 Standard / x64  OK  OK  OK  OK UNNEEDED, same version exists in internal repository
merida1 macOS 10.14.6 Mojave / x86_64  OK  OK  OK [ OK ]UNNEEDED, same version exists in internal repository

Summary

Package: aCGH
Version: 1.67.0
Command: rm -rf aCGH.buildbin-libdir && mkdir aCGH.buildbin-libdir && /Users/biocbuild/BBS/utils/build-universal.sh aCGH_1.67.0.tar.gz /Library/Frameworks/R.framework/Versions/Current/Resources/bin/R aCGH.buildbin-libdir
StartedAt: 2020-08-13 06:17:06 -0400 (Thu, 13 Aug 2020)
EndedAt: 2020-08-13 06:18:14 -0400 (Thu, 13 Aug 2020)
EllapsedTime: 67.9 seconds
RetCode: 0
Status:  OK 
PackageFile: aCGH_1.67.0.tgz
PackageFileSize: 2.388 MiB

Command output

##############################################################################
##############################################################################
###
### Running command:
###
###   rm -rf aCGH.buildbin-libdir && mkdir aCGH.buildbin-libdir && /Users/biocbuild/BBS/utils/build-universal.sh aCGH_1.67.0.tar.gz /Library/Frameworks/R.framework/Versions/Current/Resources/bin/R aCGH.buildbin-libdir
###
##############################################################################
##############################################################################


>>>>>>> 
>>>>>>> INSTALLATION WITH 'R CMD INSTALL --preclean --no-multiarch --library=aCGH.buildbin-libdir aCGH_1.67.0.tar.gz'
>>>>>>> 

* installing *source* package ‘aCGH’ ...
** using staged installation
** libs
clang++ -mmacosx-version-min=10.13 -std=gnu++11 -I"/Library/Frameworks/R.framework/Resources/include" -DNDEBUG -DUSEDOUBLE -g3  -I/usr/local/include   -fPIC  -Wall -g -O2  -c hmm.cpp -o hmm.o
clang++ -mmacosx-version-min=10.13 -std=gnu++11 -dynamiclib -Wl,-headerpad_max_install_names -undefined dynamic_lookup -single_module -multiply_defined suppress -L/Library/Frameworks/R.framework/Resources/lib -L/usr/local/lib -o aCGH.so hmm.o -lm -F/Library/Frameworks/R.framework/.. -framework R -Wl,-framework -Wl,CoreFoundation
installing to /Users/biocbuild/bbs-3.12-bioc/meat/aCGH.buildbin-libdir/00LOCK-aCGH/00new/aCGH/libs
** R
** data
** demo
** inst
** byte-compile and prepare package for lazy loading
** help
*** installing help indices
** building package indices
** installing vignettes
** testing if installed package can be loaded from temporary location
** checking absolute paths in shared objects and dynamic libraries
** testing if installed package can be loaded from final location
** testing if installed package keeps a record of temporary installation path
* DONE (aCGH)


>>>>>>> 
>>>>>>> FIXING LINKS FOR aCGH.buildbin-libdir/aCGH/libs/aCGH.so
>>>>>>> 

install_name_tool -change "/usr/local/lib/libgcc_s.1.dylib" "/Library/Frameworks/R.framework/Versions/4.0/Resources/lib/libgcc_s.1.dylib" "aCGH.buildbin-libdir/aCGH/libs/aCGH.so"
install_name_tool -change "/usr/local/lib/libgfortran.5.dylib" "/Library/Frameworks/R.framework/Versions/4.0/Resources/lib/libgfortran.5.dylib" "aCGH.buildbin-libdir/aCGH/libs/aCGH.so"
install_name_tool -change "/usr/local/lib/libquadmath.0.dylib" "/Library/Frameworks/R.framework/Versions/4.0/Resources/lib/libquadmath.0.dylib" "aCGH.buildbin-libdir/aCGH/libs/aCGH.so"