Back to Multiple platform build/check report for BioC 3.12
[A]BCDEFGHIJKLMNOPQRSTUVWXYZ

INSTALL report for AnVIL on merida1

This page was generated on 2020-10-14 11:25:01 -0400 (Wed, 14 Oct 2020).

TO THE DEVELOPERS/MAINTAINERS OF THE AnVIL PACKAGE: Please make sure to use the following settings in order to reproduce any error or warning you see on this page.
Package 71/1930HostnameOS / ArchINSTALLBUILDCHECKBUILD BIN
AnVIL 1.1.23
Martin Morgan
Snapshot Date: 2020-10-13 14:40:34 -0400 (Tue, 13 Oct 2020)
URL: https://git.bioconductor.org/packages/AnVIL
Branch: master
Last Commit: 986ae49
Last Changed Date: 2020-10-09 11:06:16 -0400 (Fri, 09 Oct 2020)
malbec1 Linux (Ubuntu 18.04.4 LTS) / x86_64  OK  OK  ERROR 
nebbiolo1 Linux (Ubuntu 20.04.1 LTS) / x86_64  OK  OK  ERROR 
tokay1 Windows Server 2012 R2 Standard / x64  OK  OK  ERROR  NA 
riesling1 Windows Server 2019 Standard / x64  OK  OK  ERROR  OK 
merida1 macOS 10.14.6 Mojave / x86_64 [ OK ] OK  ERROR  NA 

Summary

Package: AnVIL
Version: 1.1.23
Command: /Library/Frameworks/R.framework/Versions/Current/Resources/bin/R CMD INSTALL AnVIL
StartedAt: 2020-10-13 16:35:04 -0400 (Tue, 13 Oct 2020)
EndedAt: 2020-10-13 16:35:44 -0400 (Tue, 13 Oct 2020)
EllapsedTime: 40.6 seconds
RetCode: 0
Status:  OK 

Command output

##############################################################################
##############################################################################
###
### Running command:
###
###   /Library/Frameworks/R.framework/Versions/Current/Resources/bin/R CMD INSTALL AnVIL
###
##############################################################################
##############################################################################


* installing to library ‘/Library/Frameworks/R.framework/Versions/4.0/Resources/library’
* installing *source* package ‘AnVIL’ ...
** using staged installation
** R
** inst
** byte-compile and prepare package for lazy loading
** help
*** installing help indices
** building package indices
** installing vignettes
** testing if installed package can be loaded from temporary location
** testing if installed package can be loaded from final location
** testing if installed package keeps a record of temporary installation path
* DONE (AnVIL)