Back to Multiple platform build/check report for BioC 3.12
A[B]CDEFGHIJKLMNOPQRSTUVWXYZ

BUILD report for BayesKnockdown on merida1

This page was generated on 2020-08-06 12:22:45 -0400 (Thu, 06 Aug 2020).

TO THE DEVELOPERS/MAINTAINERS OF THE BayesKnockdown PACKAGE: Please make sure to use the following settings in order to reproduce any error or warning you see on this page.
Package 118/1882HostnameOS / ArchINSTALLBUILDCHECKBUILD BIN
BayesKnockdown 1.15.0
William Chad Young
Snapshot Date: 2020-08-05 14:50:59 -0400 (Wed, 05 Aug 2020)
URL: https://git.bioconductor.org/packages/BayesKnockdown
Branch: master
Last Commit: 1ddb444
Last Changed Date: 2020-04-27 15:00:13 -0400 (Mon, 27 Apr 2020)
malbec1 Linux (Ubuntu 18.04.4 LTS) / x86_64  OK  OK  OK UNNEEDED, same version exists in internal repository
tokay1 Windows Server 2012 R2 Standard / x64  OK  OK  OK  OK UNNEEDED, same version exists in internal repository
merida1 macOS 10.14.6 Mojave / x86_64  OK [ OK ] OK  OK UNNEEDED, same version exists in internal repository

Summary

Package: BayesKnockdown
Version: 1.15.0
Command: /Library/Frameworks/R.framework/Versions/Current/Resources/bin/R CMD build --keep-empty-dirs --no-resave-data BayesKnockdown
StartedAt: 2020-08-05 20:09:42 -0400 (Wed, 05 Aug 2020)
EndedAt: 2020-08-05 20:09:53 -0400 (Wed, 05 Aug 2020)
EllapsedTime: 11.4 seconds
RetCode: 0
Status:  OK 
PackageFile: BayesKnockdown_1.15.0.tar.gz
PackageFileSize: 123.8 KiB

Command output

##############################################################################
##############################################################################
###
### Running command:
###
###   /Library/Frameworks/R.framework/Versions/Current/Resources/bin/R CMD build --keep-empty-dirs --no-resave-data BayesKnockdown
###
##############################################################################
##############################################################################


* checking for file ‘BayesKnockdown/DESCRIPTION’ ... OK
* preparing ‘BayesKnockdown’:
* checking DESCRIPTION meta-information ... OK
* installing the package to build vignettes
* creating vignettes ... OK
* checking for LF line-endings in source and make files and shell scripts
* checking for empty or unneeded directories
* building ‘BayesKnockdown_1.15.0.tar.gz’