Back to Multiple platform build/check report for BioC 3.12
A[B]CDEFGHIJKLMNOPQRSTUVWXYZ

CHECK report for bigmelon on merida1

This page was generated on 2020-08-10 12:39:41 -0400 (Mon, 10 Aug 2020).

TO THE DEVELOPERS/MAINTAINERS OF THE bigmelon PACKAGE: Please make sure to use the following settings in order to reproduce any error or warning you see on this page.
Package 140/1882HostnameOS / ArchINSTALLBUILDCHECKBUILD BIN
bigmelon 1.15.0
Tyler J. Gorrie-Stone
Snapshot Date: 2020-08-09 14:51:29 -0400 (Sun, 09 Aug 2020)
URL: https://git.bioconductor.org/packages/bigmelon
Branch: master
Last Commit: be098f0
Last Changed Date: 2020-04-27 15:01:54 -0400 (Mon, 27 Apr 2020)
malbec1 Linux (Ubuntu 18.04.4 LTS) / x86_64  OK  OK  OK UNNEEDED, same version exists in internal repository
nebbiolo1 Linux (Ubuntu 20.04.1 LTS) / x86_64  OK  OK  OK 
tokay1 Windows Server 2012 R2 Standard / x64  OK  OK  OK  OK UNNEEDED, same version exists in internal repository
merida1 macOS 10.14.6 Mojave / x86_64  OK  OK [ OK ] OK UNNEEDED, same version exists in internal repository

Summary

Package: bigmelon
Version: 1.15.0
Command: /Library/Frameworks/R.framework/Versions/Current/Resources/bin/R CMD check --install=check:bigmelon.install-out.txt --library=/Library/Frameworks/R.framework/Versions/Current/Resources/library --no-vignettes --timings bigmelon_1.15.0.tar.gz
StartedAt: 2020-08-10 02:20:00 -0400 (Mon, 10 Aug 2020)
EndedAt: 2020-08-10 02:28:31 -0400 (Mon, 10 Aug 2020)
EllapsedTime: 511.0 seconds
RetCode: 0
Status:  OK 
CheckDir: bigmelon.Rcheck
Warnings: 0

Command output

##############################################################################
##############################################################################
###
### Running command:
###
###   /Library/Frameworks/R.framework/Versions/Current/Resources/bin/R CMD check --install=check:bigmelon.install-out.txt --library=/Library/Frameworks/R.framework/Versions/Current/Resources/library --no-vignettes --timings bigmelon_1.15.0.tar.gz
###
##############################################################################
##############################################################################


* using log directory ‘/Users/biocbuild/bbs-3.12-bioc/meat/bigmelon.Rcheck’
* using R version 4.0.2 (2020-06-22)
* using platform: x86_64-apple-darwin17.0 (64-bit)
* using session charset: UTF-8
* using option ‘--no-vignettes’
* checking for file ‘bigmelon/DESCRIPTION’ ... OK
* checking extension type ... Package
* this is package ‘bigmelon’ version ‘1.15.0’
* checking package namespace information ... OK
* checking package dependencies ... OK
* checking if this is a source package ... OK
* checking if there is a namespace ... OK
* checking for hidden files and directories ... OK
* checking for portable file names ... OK
* checking for sufficient/correct file permissions ... OK
* checking whether package ‘bigmelon’ can be installed ... OK
* checking installed package size ... OK
* checking package directory ... OK
* checking ‘build’ directory ... OK
* checking DESCRIPTION meta-information ... NOTE
Package listed in more than one of Depends, Imports, Suggests, Enhances:
  ‘BiocGenerics’
A package should be listed in only one of these fields.
* checking top-level files ... OK
* checking for left-over files ... OK
* checking index information ... OK
* checking package subdirectories ... OK
* checking R files for non-ASCII characters ... OK
* checking R files for syntax errors ... OK
* checking whether the package can be loaded ... OK
* checking whether the package can be loaded with stated dependencies ... OK
* checking whether the package can be unloaded cleanly ... OK
* checking whether the namespace can be loaded with stated dependencies ... OK
* checking whether the namespace can be unloaded cleanly ... OK
* checking dependencies in R code ... NOTE
Unexported objects imported by ':::' calls:
  ‘bumphunter:::greaterOrEqual’ ‘minfi:::pickCompProbes’
  ‘minfi:::projectCellType’ ‘wateRmelon:::.impose’
  ‘wateRmelon:::.normalizeQuantiles2’
  See the note in ?`:::` about the use of this operator.
* checking S3 generic/method consistency ... OK
* checking replacement functions ... OK
* checking foreign function calls ... OK
* checking R code for possible problems ... NOTE
bumphunterEngine.gdsn: no visible binding for global variable
  ‘locfitByCluster’
bumphunterEngine.gdsn: no visible global function definition for
  ‘getDoParRegistered’
bumphunterEngine.gdsn: no visible global function definition for
  ‘registerDoSEQ’
bumphunterEngine.gdsn: no visible global function definition for
  ‘getDoParWorkers’
bumphunterEngine.gdsn: no visible global function definition for
  ‘getDoParName’
bumphunterEngine.gdsn: no visible global function definition for
  ‘getDoParVersion’
bumphunterEngine.gdsn: no visible global function definition for
  ‘smoother’
bumphunterEngine.gdsn: no visible global function definition for
  ‘regionFinder’
bumphunterEngine.gdsn: no visible global function definition for
  ‘%dorng%’
bumphunterEngine.gdsn: no visible global function definition for
  ‘foreach’
bumphunterEngine.gdsn: no visible global function definition for ‘iter’
bumphunterEngine.gdsn: no visible binding for global variable
  ‘regionFinder’
bumphunterEngine.gdsn : computation.tots: no visible global function
  definition for ‘%dorng%’
bumphunterEngine.gdsn : computation.tots: no visible global function
  definition for ‘foreach’
bumphunterEngine.gdsn : computation.tots: no visible global function
  definition for ‘iter’
bumphunterEngine.gdsn : computation.tots2: no visible global function
  definition for ‘%dorng%’
bumphunterEngine.gdsn : computation.tots2: no visible global function
  definition for ‘foreach’
bumphunterEngine.gdsn : computation.tots2: no visible global function
  definition for ‘iter’
es2gds: no visible global function definition for ‘colData’
estimateCellCounts.gds: no visible global function definition for
  ‘colData’
Undefined global functions or variables:
  %dorng% colData foreach getDoParName getDoParRegistered
  getDoParVersion getDoParWorkers iter locfitByCluster regionFinder
  registerDoSEQ smoother
* checking Rd files ... OK
* checking Rd metadata ... OK
* checking Rd cross-references ... OK
* checking for missing documentation entries ... OK
* checking for code/documentation mismatches ... OK
* checking Rd \usage sections ... OK
* checking Rd contents ... OK
* checking for unstated dependencies in examples ... OK
* checking contents of ‘data’ directory ... OK
* checking data for non-ASCII characters ... OK
* checking data for ASCII and uncompressed saves ... OK
* checking sizes of PDF files under ‘inst/doc’ ... OK
* checking files in ‘vignettes’ ... OK
* checking examples ... OK
Examples with CPU (user + system) or elapsed time > 5s
     user system elapsed
iadd 42.7  1.157  43.958
* checking for unstated dependencies in ‘tests’ ... OK
* checking tests ...
  Running ‘runTests.R’
 OK
* checking for unstated dependencies in vignettes ... OK
* checking package vignettes in ‘inst/doc’ ... OK
* checking running R code from vignettes ... SKIPPED
* checking re-building of vignette outputs ... SKIPPED
* checking PDF version of manual ... OK
* DONE

Status: 3 NOTEs
See
  ‘/Users/biocbuild/bbs-3.12-bioc/meat/bigmelon.Rcheck/00check.log’
for details.



Installation output

bigmelon.Rcheck/00install.out

##############################################################################
##############################################################################
###
### Running command:
###
###   /Library/Frameworks/R.framework/Versions/Current/Resources/bin/R CMD INSTALL bigmelon
###
##############################################################################
##############################################################################


* installing to library ‘/Library/Frameworks/R.framework/Versions/4.0/Resources/library’
* installing *source* package ‘bigmelon’ ...
** using staged installation
** R
** data
** inst
** byte-compile and prepare package for lazy loading
No methods found in package ‘RSQLite’ for request: ‘dbListFields’ when loading ‘lumi’
Creating a new generic function for ‘fot’ in package ‘bigmelon’
Creating a new generic function for ‘predictSex’ in package ‘bigmelon’
** help
*** installing help indices
** building package indices
** installing vignettes
** testing if installed package can be loaded from temporary location
No methods found in package ‘RSQLite’ for request: ‘dbListFields’ when loading ‘lumi’
** testing if installed package can be loaded from final location
No methods found in package ‘RSQLite’ for request: ‘dbListFields’ when loading ‘lumi’
** testing if installed package keeps a record of temporary installation path
* DONE (bigmelon)

Tests output

bigmelon.Rcheck/tests/runTests.Rout


R version 4.0.2 (2020-06-22) -- "Taking Off Again"
Copyright (C) 2020 The R Foundation for Statistical Computing
Platform: x86_64-apple-darwin17.0 (64-bit)

R is free software and comes with ABSOLUTELY NO WARRANTY.
You are welcome to redistribute it under certain conditions.
Type 'license()' or 'licence()' for distribution details.

R is a collaborative project with many contributors.
Type 'contributors()' for more information and
'citation()' on how to cite R or R packages in publications.

Type 'demo()' for some demos, 'help()' for on-line help, or
'help.start()' for an HTML browser interface to help.
Type 'q()' to quit R.

> BiocGenerics:::testPackage("bigmelon")

Attaching package: 'BiocGenerics'

The following objects are masked from 'package:parallel':

    clusterApply, clusterApplyLB, clusterCall, clusterEvalQ,
    clusterExport, clusterMap, parApply, parCapply, parLapply,
    parLapplyLB, parRapply, parSapply, parSapplyLB

The following objects are masked from 'package:stats':

    IQR, mad, sd, var, xtabs

The following objects are masked from 'package:base':

    Filter, Find, Map, Position, Reduce, anyDuplicated, append,
    as.data.frame, basename, cbind, colnames, dirname, do.call,
    duplicated, eval, evalq, get, grep, grepl, intersect, is.unsorted,
    lapply, mapply, match, mget, order, paste, pmax, pmax.int, pmin,
    pmin.int, rank, rbind, rownames, sapply, setdiff, sort, table,
    tapply, union, unique, unsplit, which.max, which.min

Welcome to Bioconductor

    Vignettes contain introductory material; view with
    'browseVignettes()'. To cite Bioconductor, see
    'citation("Biobase")', and for packages 'citation("pkgname")'.


Attaching package: 'limma'

The following object is masked from 'package:BiocGenerics':

    plotMA


Attaching package: 'matrixStats'

The following objects are masked from 'package:Biobase':

    anyMissing, rowMedians


Attaching package: 'S4Vectors'

The following object is masked from 'package:base':

    expand.grid



Attaching package: 'Matrix'

The following object is masked from 'package:S4Vectors':

    expand


Attaching package: 'DelayedArray'

The following objects are masked from 'package:matrixStats':

    colMaxs, colMins, colRanges, rowMaxs, rowMins, rowRanges

The following objects are masked from 'package:base':

    aperm, apply, rowsum


Attaching package: 'Biostrings'

The following object is masked from 'package:base':

    strsplit

locfit 1.5-9.4 	 2020-03-24
Setting options('download.file.method.GEOquery'='auto')
Setting options('GEOquery.inmemory.gpl'=FALSE)
No methods found in package 'RSQLite' for request: 'dbListFields' when loading 'lumi'

Attaching package: 'lumi'

The following objects are masked from 'package:methylumi':

    estimateM, getHistory


Attaching package: 'bigmelon'

The following objects are masked from 'package:wateRmelon':

    fot, predictSex

t8.gds doesn't exist, creating new file
creating gdsfile...
betas... 
pvals... 
methylated... 
unmethylated... 
fData... 
pData... 
qcdata... 
finished creating gdsfile
Directing 'rownames' to fData/TargetID by default, change with redirect.gds if incorrect.
Directing 'colnames' to pData/sampleID by default, change with redirect.gds if incorrect.
t9.gds doesn't exist, creating new file
creating gdsfile...
betas... 
pvals... 
methylated... 
unmethylated... 
fData... 
pData... 
qcdata... 
finished creating gdsfile
Directing 'rownames' to fData/TargetID by default, change with redirect.gds if incorrect.
Directing 'colnames' to pData/sampleID by default, change with redirect.gds if incorrect.
t2.gds doesn't exist, creating new file
creating gdsfile...
betas... 
pvals... 
methylated... 
unmethylated... 
fData... 
pData... 
qcdata... 
finished creating gdsfile
Directing 'rownames' to fData/TargetID by default, change with redirect.gds if incorrect.
Directing 'colnames' to pData/sampleID by default, change with redirect.gds if incorrect.
appending to /Users/biocbuild/bbs-3.12-bioc/meat/bigmelon.Rcheck/tests/t2.gds
betas... 
pvals... 
methylated... 
unmethylated... 
fData... 
pData... 
qcdata... 
t3.gds doesn't exist, creating new file
creating gdsfile...
betas... 
pvals... 
methylated... 
unmethylated... 
fData... 
pData... 
qcdata... 
finished creating gdsfile
Directing 'rownames' to fData/TargetID by default, change with redirect.gds if incorrect.
Directing 'colnames' to pData/sampleID by default, change with redirect.gds if incorrect.
t4.gds doesn't exist, creating new file
creating gdsfile...
betas... 
pvals... 
methylated... 
unmethylated... 
fData... 
pData... 
qcdata... 
finished creating gdsfile
Directing 'rownames' to fData/TargetID by default, change with redirect.gds if incorrect.
Directing 'colnames' to pData/sampleID by default, change with redirect.gds if incorrect.
t0.gds doesn't exist, creating new file
creating gdsfile...
betas... 
pvals... 
methylated... 
unmethylated... 
fData... 
pData... 
qcdata... 
finished creating gdsfile
Directing 'rownames' to fData/TargetID by default, change with redirect.gds if incorrect.
Directing 'colnames' to pData/sampleID by default, change with redirect.gds if incorrect.
t5.gds doesn't exist, creating new file
creating gdsfile...
betas... 
pvals... 
methylated... 
unmethylated... 
fData... 
pData... 
qcdata... 
finished creating gdsfile
Directing 'rownames' to fData/TargetID by default, change with redirect.gds if incorrect.
Directing 'colnames' to pData/sampleID by default, change with redirect.gds if incorrect.
t7.gds doesn't exist, creating new file
creating gdsfile...
betas... 
pvals... 
methylated... 
unmethylated... 
fData... 
pData... 
qcdata... 
finished creating gdsfile
Directing 'rownames' to fData/TargetID by default, change with redirect.gds if incorrect.
Directing 'colnames' to pData/sampleID by default, change with redirect.gds if incorrect.
t6.gds doesn't exist, creating new file
creating gdsfile...
betas... 
pvals... 
methylated... 
unmethylated... 
fData... 
pData... 
qcdata... 
finished creating gdsfile
Directing 'rownames' to fData/TargetID by default, change with redirect.gds if incorrect.
Directing 'colnames' to pData/sampleID by default, change with redirect.gds if incorrect.


RUNIT TEST PROTOCOL -- Mon Aug 10 02:28:22 2020 
*********************************************** 
Number of test functions: 8 
Number of errors: 0 
Number of failures: 0 

 
1 Test Suite : 
bigmelon RUnit Tests - 8 test functions, 0 errors, 0 failures
Number of test functions: 8 
Number of errors: 0 
Number of failures: 0 
> 
> 
> proc.time()
   user  system elapsed 
 23.707   1.066  24.777 

Example timings

bigmelon.Rcheck/bigmelon-Ex.timings

nameusersystemelapsed
GEOtoGDS0.0000.0000.001
app2gds0.5160.0310.549
backupGdsn0.2560.0230.281
bigmelon-accessors0.3430.0280.372
bigmelon-internal0.2970.0190.318
bigmelon-normalization2.7200.1942.918
combogds1.5930.0571.654
es2gds0.2470.0200.268
finalreport2gds000
gds2mlumi0.5940.0230.619
getquantilesandranks0.3580.0250.385
iadd42.700 1.15743.958
pfiltergds0.4190.0350.456
prcompgdsn0.2720.0260.300
pwodgdsn0.7020.0280.731
rankednorm0.2500.0240.275
redirect0.2710.0220.295