Back to Multiple platform build/check report for BioC 3.12
A[B]CDEFGHIJKLMNOPQRSTUVWXYZ

BUILD BIN report for BgeeCall on merida1

This page was generated on 2020-08-07 12:41:58 -0400 (Fri, 07 Aug 2020).

TO THE DEVELOPERS/MAINTAINERS OF THE BgeeCall PACKAGE: Please make sure to use the following settings in order to reproduce any error or warning you see on this page.
Package 132/1882HostnameOS / ArchINSTALLBUILDCHECKBUILD BIN
BgeeCall 1.5.3
Julien Wollbrett
Snapshot Date: 2020-08-06 14:50:46 -0400 (Thu, 06 Aug 2020)
URL: https://git.bioconductor.org/packages/BgeeCall
Branch: master
Last Commit: cc52b16
Last Changed Date: 2020-06-15 13:41:33 -0400 (Mon, 15 Jun 2020)
malbec1 Linux (Ubuntu 18.04.4 LTS) / x86_64  OK  OK  WARNINGS UNNEEDED, same version exists in internal repository
tokay1 Windows Server 2012 R2 Standard / x64  OK  OK  WARNINGS  OK UNNEEDED, same version exists in internal repository
merida1 macOS 10.14.6 Mojave / x86_64  OK  OK  WARNINGS [ OK ]UNNEEDED, same version exists in internal repository

Summary

Package: BgeeCall
Version: 1.5.3
Command: rm -rf BgeeCall.buildbin-libdir && mkdir BgeeCall.buildbin-libdir && /Users/biocbuild/BBS/utils/build-universal.sh BgeeCall_1.5.3.tar.gz /Library/Frameworks/R.framework/Versions/Current/Resources/bin/R BgeeCall.buildbin-libdir
StartedAt: 2020-08-07 07:57:21 -0400 (Fri, 07 Aug 2020)
EndedAt: 2020-08-07 07:58:34 -0400 (Fri, 07 Aug 2020)
EllapsedTime: 73.3 seconds
RetCode: 0
Status:  OK 
PackageFile: BgeeCall_1.5.3.tgz
PackageFileSize: 5.893 MiB

Command output

##############################################################################
##############################################################################
###
### Running command:
###
###   rm -rf BgeeCall.buildbin-libdir && mkdir BgeeCall.buildbin-libdir && /Users/biocbuild/BBS/utils/build-universal.sh BgeeCall_1.5.3.tar.gz /Library/Frameworks/R.framework/Versions/Current/Resources/bin/R BgeeCall.buildbin-libdir
###
##############################################################################
##############################################################################


>>>>>>> 
>>>>>>> INSTALLATION WITH 'R CMD INSTALL --preclean --no-multiarch --library=BgeeCall.buildbin-libdir BgeeCall_1.5.3.tar.gz'
>>>>>>> 

* installing *source* package ‘BgeeCall’ ...
** using staged installation
** R
** inst
** byte-compile and prepare package for lazy loading
** help
*** installing help indices
** building package indices
** installing vignettes
** testing if installed package can be loaded from temporary location
** testing if installed package can be loaded from final location
** testing if installed package keeps a record of temporary installation path
* DONE (BgeeCall)