Back to Multiple platform build/check report for BioC 3.12
AB[C]DEFGHIJKLMNOPQRSTUVWXYZ

BUILD BIN report for cBioPortalData on merida1

This page was generated on 2020-08-07 12:42:57 -0400 (Fri, 07 Aug 2020).

TO THE DEVELOPERS/MAINTAINERS OF THE cBioPortalData PACKAGE: Please make sure to use the following settings in order to reproduce any error or warning you see on this page.
Package 232/1882HostnameOS / ArchINSTALLBUILDCHECKBUILD BIN
cBioPortalData 2.1.23
Marcel Ramos
Snapshot Date: 2020-08-06 14:50:46 -0400 (Thu, 06 Aug 2020)
URL: https://git.bioconductor.org/packages/cBioPortalData
Branch: master
Last Commit: 06a601a
Last Changed Date: 2020-08-05 23:49:47 -0400 (Wed, 05 Aug 2020)
malbec1 Linux (Ubuntu 18.04.4 LTS) / x86_64  OK  OK  OK YES, new version is higher than in internal repository
tokay1 Windows Server 2012 R2 Standard / x64  OK  OK  OK  OK YES, new version is higher than in internal repository
merida1 macOS 10.14.6 Mojave / x86_64  OK  OK  OK [ OK ]YES, new version is higher than in internal repository

Summary

Package: cBioPortalData
Version: 2.1.23
Command: rm -rf cBioPortalData.buildbin-libdir && mkdir cBioPortalData.buildbin-libdir && /Users/biocbuild/BBS/utils/build-universal.sh cBioPortalData_2.1.23.tar.gz /Library/Frameworks/R.framework/Versions/Current/Resources/bin/R cBioPortalData.buildbin-libdir
StartedAt: 2020-08-07 08:04:01 -0400 (Fri, 07 Aug 2020)
EndedAt: 2020-08-07 08:04:51 -0400 (Fri, 07 Aug 2020)
EllapsedTime: 49.4 seconds
RetCode: 0
Status:  OK 
PackageFile: cBioPortalData_2.1.23.tgz
PackageFileSize: 568.7 KiB

Command output

##############################################################################
##############################################################################
###
### Running command:
###
###   rm -rf cBioPortalData.buildbin-libdir && mkdir cBioPortalData.buildbin-libdir && /Users/biocbuild/BBS/utils/build-universal.sh cBioPortalData_2.1.23.tar.gz /Library/Frameworks/R.framework/Versions/Current/Resources/bin/R cBioPortalData.buildbin-libdir
###
##############################################################################
##############################################################################


>>>>>>> 
>>>>>>> INSTALLATION WITH 'R CMD INSTALL --preclean --no-multiarch --library=cBioPortalData.buildbin-libdir cBioPortalData_2.1.23.tar.gz'
>>>>>>> 

* installing *source* package ‘cBioPortalData’ ...
** using staged installation
** R
** data
*** moving datasets to lazyload DB
** inst
** byte-compile and prepare package for lazy loading
** help
*** installing help indices
** building package indices
** installing vignettes
** testing if installed package can be loaded from temporary location
** testing if installed package can be loaded from final location
** testing if installed package keeps a record of temporary installation path
* DONE (cBioPortalData)