Back to Multiple platform build/check report for BioC 3.12
A[B]CDEFGHIJKLMNOPQRSTUVWXYZ

INSTALL report for BioTIP on merida1

This page was generated on 2020-08-10 12:45:09 -0400 (Mon, 10 Aug 2020).

TO THE DEVELOPERS/MAINTAINERS OF THE BioTIP PACKAGE: Please make sure to use the following settings in order to reproduce any error or warning you see on this page.
Package 178/1882HostnameOS / ArchINSTALLBUILDCHECKBUILD BIN
BioTIP 1.3.0
Zhezhen Wang , X Holly Yang < xyang2@uchicago> and Yuxi (Jennifer) Sun
Snapshot Date: 2020-08-09 14:51:29 -0400 (Sun, 09 Aug 2020)
URL: https://git.bioconductor.org/packages/BioTIP
Branch: master
Last Commit: 8fc1000
Last Changed Date: 2020-08-07 14:59:14 -0400 (Fri, 07 Aug 2020)
malbec1 Linux (Ubuntu 18.04.4 LTS) / x86_64  OK  ERROR  skipped 
nebbiolo1 Linux (Ubuntu 20.04.1 LTS) / x86_64  OK  ERROR  skipped 
tokay1 Windows Server 2012 R2 Standard / x64  OK  ERROR  skipped  skipped 
merida1 macOS 10.14.6 Mojave / x86_64 [ OK ] ERROR  skipped  skipped 

Summary

Package: BioTIP
Version: 1.3.0
Command: /Library/Frameworks/R.framework/Versions/Current/Resources/bin/R CMD INSTALL BioTIP
StartedAt: 2020-08-09 17:02:39 -0400 (Sun, 09 Aug 2020)
EndedAt: 2020-08-09 17:03:19 -0400 (Sun, 09 Aug 2020)
EllapsedTime: 40.5 seconds
RetCode: 0
Status:  OK 

Command output

##############################################################################
##############################################################################
###
### Running command:
###
###   /Library/Frameworks/R.framework/Versions/Current/Resources/bin/R CMD INSTALL BioTIP
###
##############################################################################
##############################################################################


* installing to library ‘/Library/Frameworks/R.framework/Versions/4.0/Resources/library’
* installing *source* package ‘BioTIP’ ...
** using staged installation
** R
** data
*** moving datasets to lazyload DB
** byte-compile and prepare package for lazy loading
** help
Warning: /Users/biocbuild/bbs-3.12-bioc/meat/BioTIP/man/optimize.sd_selection.Rd:40: unknown macro '\item'
Warning: /Users/biocbuild/bbs-3.12-bioc/meat/BioTIP/man/optimize.sd_selection.Rd:52: unknown macro '\item'
Warning: /Users/biocbuild/bbs-3.12-bioc/meat/BioTIP/man/optimize.sd_selection.Rd:55: unknown macro '\item'
Warning: /Users/biocbuild/bbs-3.12-bioc/meat/BioTIP/man/optimize.sd_selection.Rd:58: unexpected section header '\value'
Warning: /Users/biocbuild/bbs-3.12-bioc/meat/BioTIP/man/optimize.sd_selection.Rd:63: unexpected section header '\description'
Warning: /Users/biocbuild/bbs-3.12-bioc/meat/BioTIP/man/optimize.sd_selection.Rd:68: unexpected section header '\examples'
Warning: /Users/biocbuild/bbs-3.12-bioc/meat/BioTIP/man/optimize.sd_selection.Rd:78: unexpected section header '\seealso'
Warning: /Users/biocbuild/bbs-3.12-bioc/meat/BioTIP/man/optimize.sd_selection.Rd:81: unexpected section header '\author'
Warning: /Users/biocbuild/bbs-3.12-bioc/meat/BioTIP/man/optimize.sd_selection.Rd:84: unexpected END_OF_INPUT '
'
Warning: /Users/biocbuild/bbs-3.12-bioc/meat/BioTIP/man/sd_selection.Rd:29: unknown macro '\item'
Warning: /Users/biocbuild/bbs-3.12-bioc/meat/BioTIP/man/sd_selection.Rd:41: unknown macro '\item'
Warning: /Users/biocbuild/bbs-3.12-bioc/meat/BioTIP/man/sd_selection.Rd:44: unknown macro '\item'
Warning: /Users/biocbuild/bbs-3.12-bioc/meat/BioTIP/man/sd_selection.Rd:47: unexpected section header '\value'
Warning: /Users/biocbuild/bbs-3.12-bioc/meat/BioTIP/man/sd_selection.Rd:54: unexpected section header '\description'
Warning: /Users/biocbuild/bbs-3.12-bioc/meat/BioTIP/man/sd_selection.Rd:61: unexpected section header '\examples'
Warning: /Users/biocbuild/bbs-3.12-bioc/meat/BioTIP/man/sd_selection.Rd:71: unexpected section header '\seealso'
Warning: /Users/biocbuild/bbs-3.12-bioc/meat/BioTIP/man/sd_selection.Rd:74: unexpected section header '\author'
Warning: /Users/biocbuild/bbs-3.12-bioc/meat/BioTIP/man/sd_selection.Rd:77: unexpected END_OF_INPUT '
'
*** installing help indices
** building package indices
** installing vignettes
** testing if installed package can be loaded from temporary location
** testing if installed package can be loaded from final location
** testing if installed package keeps a record of temporary installation path
* DONE (BioTIP)