Back to Multiple platform build/check report for BioC 3.12
[A]BCDEFGHIJKLMNOPQRSTUVWXYZ

INSTALL report for annotate on merida1

This page was generated on 2021-01-24 11:56:36 -0500 (Sun, 24 Jan 2021).

TO THE DEVELOPERS/MAINTAINERS OF THE annotate PACKAGE: Please make sure to use the following settings in order to reproduce any error or warning you see on this page.
Package 61/1974HostnameOS / ArchINSTALLBUILDCHECKBUILD BIN
annotate 1.68.0
Bioconductor Package Maintainer
Snapshot Date: 2021-01-23 14:40:16 -0500 (Sat, 23 Jan 2021)
URL: https://git.bioconductor.org/packages/annotate
Branch: RELEASE_3_12
Last Commit: 98cdb12
Last Changed Date: 2020-10-27 10:21:39 -0500 (Tue, 27 Oct 2020)
malbec1 Linux (Ubuntu 18.04.5 LTS) / x86_64  OK  OK  OK UNNEEDED, same version exists in internal repository
nebbiolo1 Linux (Ubuntu 20.04.1 LTS) / x86_64  OK  OK  OK 
tokay1 Windows Server 2012 R2 Standard / x64  OK  OK  OK  OK UNNEEDED, same version exists in internal repository
merida1 macOS 10.14.6 Mojave / x86_64 [ OK ] OK  OK  OK UNNEEDED, same version exists in internal repository

Summary

Package: annotate
Version: 1.68.0
Command: /Library/Frameworks/R.framework/Versions/Current/Resources/bin/R CMD INSTALL annotate
StartedAt: 2021-01-23 17:18:38 -0500 (Sat, 23 Jan 2021)
EndedAt: 2021-01-23 17:19:01 -0500 (Sat, 23 Jan 2021)
EllapsedTime: 23.2 seconds
RetCode: 0
Status:  OK 

Command output

##############################################################################
##############################################################################
###
### Running command:
###
###   /Library/Frameworks/R.framework/Versions/Current/Resources/bin/R CMD INSTALL annotate
###
##############################################################################
##############################################################################


* installing to library ‘/Library/Frameworks/R.framework/Versions/4.0/Resources/library’
* installing *source* package ‘annotate’ ...
** using staged installation
** R
** data
** inst
** byte-compile and prepare package for lazy loading
** help
*** installing help indices
** building package indices
** installing vignettes
** testing if installed package can be loaded from temporary location
** testing if installed package can be loaded from final location
** testing if installed package keeps a record of temporary installation path
* DONE (annotate)