Back to Multiple platform build/check report for BioC 3.12
[A]BCDEFGHIJKLMNOPQRSTUVWXYZ

BUILD report for AWFisher on merida1

This page was generated on 2020-08-11 12:04:06 -0400 (Tue, 11 Aug 2020).

TO THE DEVELOPERS/MAINTAINERS OF THE AWFisher PACKAGE: Please make sure to use the following settings in order to reproduce any error or warning you see on this page.
Package 98/1885HostnameOS / ArchINSTALLBUILDCHECKBUILD BIN
AWFisher 1.3.0
Zhiguang Huo
Snapshot Date: 2020-08-10 14:50:56 -0400 (Mon, 10 Aug 2020)
URL: https://git.bioconductor.org/packages/AWFisher
Branch: master
Last Commit: 8696cf4
Last Changed Date: 2020-04-27 15:28:27 -0400 (Mon, 27 Apr 2020)
malbec1 Linux (Ubuntu 18.04.4 LTS) / x86_64  OK  OK  OK UNNEEDED, same version exists in internal repository
nebbiolo1 Linux (Ubuntu 20.04.1 LTS) / x86_64  OK  OK  NA 
tokay1 Windows Server 2012 R2 Standard / x64  OK  OK  OK  OK UNNEEDED, same version exists in internal repository
merida1 macOS 10.14.6 Mojave / x86_64  OK [ OK ] OK  OK UNNEEDED, same version exists in internal repository

Summary

Package: AWFisher
Version: 1.3.0
Command: /Library/Frameworks/R.framework/Versions/Current/Resources/bin/R CMD build --keep-empty-dirs --no-resave-data AWFisher
StartedAt: 2020-08-10 21:40:28 -0400 (Mon, 10 Aug 2020)
EndedAt: 2020-08-10 21:41:10 -0400 (Mon, 10 Aug 2020)
EllapsedTime: 42.5 seconds
RetCode: 0
Status:  OK 
PackageFile: AWFisher_1.3.0.tar.gz
PackageFileSize: 1.336 MiB

Command output

##############################################################################
##############################################################################
###
### Running command:
###
###   /Library/Frameworks/R.framework/Versions/Current/Resources/bin/R CMD build --keep-empty-dirs --no-resave-data AWFisher
###
##############################################################################
##############################################################################


* checking for file ‘AWFisher/DESCRIPTION’ ... OK
* preparing ‘AWFisher’:
* checking DESCRIPTION meta-information ... OK
* cleaning src
* installing the package to build vignettes
* creating vignettes ... OK
* cleaning src
* checking for LF line-endings in source and make files and shell scripts
* checking for empty or unneeded directories
* looking to see if a ‘data/datalist’ file should be added
* building ‘AWFisher_1.3.0.tar.gz’