Back to Multiple platform build/check report for BioC 3.12
AB[C]DEFGHIJKLMNOPQRSTUVWXYZ

CHECK report for CeTF on tokay1

This page was generated on 2021-04-12 12:29:02 -0400 (Mon, 12 Apr 2021).

To the developers/maintainers of the CeTF package:
Please make sure to use the following settings in order to reproduce any error or warning you see on this page.
Package 263/1974HostnameOS / ArchINSTALLBUILDCHECKBUILD BIN
CeTF 1.2.4  (landing page)
Carlos Alberto Oliveira de Biagi Junior
Snapshot Date: 2021-04-11 14:51:36 -0400 (Sun, 11 Apr 2021)
URL: https://git.bioconductor.org/packages/CeTF
Branch: RELEASE_3_12
Last Commit: 2896169
Last Changed Date: 2020-11-23 09:24:27 -0400 (Mon, 23 Nov 2020)
malbec1Linux (Ubuntu 18.04.5 LTS) / x86_64  OK    OK    OK  UNNEEDED, same version exists in internal repository
tokay1Windows Server 2012 R2 Standard / x64  OK    OK    OK    OK  UNNEEDED, same version exists in internal repository
merida1macOS 10.14.6 Mojave / x86_64  OK    OK    OK    OK  UNNEEDED, same version exists in internal repository

Summary

Package: CeTF
Version: 1.2.4
Command: C:\Users\biocbuild\bbs-3.12-bioc\R\bin\R.exe CMD check --force-multiarch --install=check:CeTF.install-out.txt --library=C:\Users\biocbuild\bbs-3.12-bioc\R\library --no-vignettes --timings CeTF_1.2.4.tar.gz
StartedAt: 2021-04-12 01:07:55 -0400 (Mon, 12 Apr 2021)
EndedAt: 2021-04-12 01:15:37 -0400 (Mon, 12 Apr 2021)
EllapsedTime: 461.9 seconds
RetCode: 0
Status:   OK   
CheckDir: CeTF.Rcheck
Warnings: 0

Command output

##############################################################################
##############################################################################
###
### Running command:
###
###   C:\Users\biocbuild\bbs-3.12-bioc\R\bin\R.exe CMD check --force-multiarch --install=check:CeTF.install-out.txt --library=C:\Users\biocbuild\bbs-3.12-bioc\R\library --no-vignettes --timings CeTF_1.2.4.tar.gz
###
##############################################################################
##############################################################################


* using log directory 'C:/Users/biocbuild/bbs-3.12-bioc/meat/CeTF.Rcheck'
* using R version 4.0.5 (2021-03-31)
* using platform: x86_64-w64-mingw32 (64-bit)
* using session charset: ISO8859-1
* using option '--no-vignettes'
* checking for file 'CeTF/DESCRIPTION' ... OK
* checking extension type ... Package
* this is package 'CeTF' version '1.2.4'
* package encoding: UTF-8
* checking package namespace information ... OK
* checking package dependencies ... OK
* checking if this is a source package ... OK
* checking if there is a namespace ... OK
* checking for hidden files and directories ... OK
* checking for portable file names ... OK
* checking whether package 'CeTF' can be installed ... OK
* checking installed package size ... OK
* checking package directory ... OK
* checking 'build' directory ... OK
* checking DESCRIPTION meta-information ... OK
* checking top-level files ... OK
* checking for left-over files ... OK
* checking index information ... OK
* checking package subdirectories ... OK
* checking R files for non-ASCII characters ... OK
* checking R files for syntax errors ... OK
* loading checks for arch 'i386'
** checking whether the package can be loaded ... OK
** checking whether the package can be loaded with stated dependencies ... OK
** checking whether the package can be unloaded cleanly ... OK
** checking whether the namespace can be loaded with stated dependencies ... OK
** checking whether the namespace can be unloaded cleanly ... OK
* loading checks for arch 'x64'
** checking whether the package can be loaded ... OK
** checking whether the package can be loaded with stated dependencies ... OK
** checking whether the package can be unloaded cleanly ... OK
** checking whether the namespace can be loaded with stated dependencies ... OK
** checking whether the namespace can be unloaded cleanly ... OK
* checking dependencies in R code ... OK
* checking S3 generic/method consistency ... OK
* checking replacement functions ... OK
* checking foreign function calls ... OK
* checking R code for possible problems ... OK
* checking Rd files ... OK
* checking Rd metadata ... OK
* checking Rd cross-references ... OK
* checking for missing documentation entries ... OK
* checking for code/documentation mismatches ... OK
* checking Rd \usage sections ... OK
* checking Rd contents ... OK
* checking for unstated dependencies in examples ... OK
* checking contents of 'data' directory ... OK
* checking data for non-ASCII characters ... OK
* checking data for ASCII and uncompressed saves ... OK
* checking line endings in C/C++/Fortran sources/headers ... OK
* checking compiled code ... NOTE
Note: information on .o files for i386 is not available
Note: information on .o files for x64 is not available
File 'C:/Users/biocbuild/bbs-3.12-bioc/R/library/CeTF/libs/i386/CeTF.dll':
  Found 'abort', possibly from 'abort' (C), 'runtime' (Fortran)
  Found 'exit', possibly from 'exit' (C), 'stop' (Fortran)
  Found 'printf', possibly from 'printf' (C)
File 'C:/Users/biocbuild/bbs-3.12-bioc/R/library/CeTF/libs/x64/CeTF.dll':
  Found 'abort', possibly from 'abort' (C), 'runtime' (Fortran)
  Found 'exit', possibly from 'exit' (C), 'stop' (Fortran)
  Found 'printf', possibly from 'printf' (C)

Compiled code should not call entry points which might terminate R nor
write to stdout/stderr instead of to the console, nor use Fortran I/O
nor system RNGs. The detected symbols are linked into the code but
might come from libraries and not actually be called.

See 'Writing portable packages' in the 'Writing R Extensions' manual.
* checking files in 'vignettes' ... OK
* checking examples ...
** running examples for arch 'i386' ... OK
** running examples for arch 'x64' ... OK
* checking for unstated dependencies in 'tests' ... OK
* checking tests ...
** running tests for arch 'i386' ...
  Running 'testthat.R'
 OK
** running tests for arch 'x64' ...
  Running 'testthat.R'
 OK
* checking for unstated dependencies in vignettes ... OK
* checking package vignettes in 'inst/doc' ... OK
* checking running R code from vignettes ... SKIPPED
* checking re-building of vignette outputs ... SKIPPED
* checking PDF version of manual ... OK
* DONE

Status: 1 NOTE
See
  'C:/Users/biocbuild/bbs-3.12-bioc/meat/CeTF.Rcheck/00check.log'
for details.



Installation output

CeTF.Rcheck/00install.out

##############################################################################
##############################################################################
###
### Running command:
###
###   C:\cygwin\bin\curl.exe -O http://172.29.0.3/BBS/3.12/bioc/src/contrib/CeTF_1.2.4.tar.gz && rm -rf CeTF.buildbin-libdir && mkdir CeTF.buildbin-libdir && C:\Users\biocbuild\bbs-3.12-bioc\R\bin\R.exe CMD INSTALL --merge-multiarch --build --library=CeTF.buildbin-libdir CeTF_1.2.4.tar.gz && C:\Users\biocbuild\bbs-3.12-bioc\R\bin\R.exe CMD INSTALL CeTF_1.2.4.zip && rm CeTF_1.2.4.tar.gz CeTF_1.2.4.zip
###
##############################################################################
##############################################################################


  % Total    % Received % Xferd  Average Speed   Time    Time     Time  Current
                                 Dload  Upload   Total   Spent    Left  Speed

  0     0    0     0    0     0      0      0 --:--:-- --:--:-- --:--:--     0
100 1803k  100 1803k    0     0  19.8M      0 --:--:-- --:--:-- --:--:-- 20.0M

install for i386

* installing *source* package 'CeTF' ...
** using staged installation
** libs
"C:/rtools40/mingw32/bin/"g++ -std=gnu++11  -I"C:/Users/BIOCBU~1/BBS-3~1.12-/R/include" -DNDEBUG  -I'C:/Users/biocbuild/bbs-3.12-bioc/R/library/Rcpp/include' -I'C:/Users/biocbuild/bbs-3.12-bioc/R/library/RcppArmadillo/include'   -I"C:/extsoft/include"     -O2 -Wall  -mfpmath=sse -msse2 -mstackrealign -c PCIT.cpp -o PCIT.o
"C:/rtools40/mingw32/bin/"g++ -std=gnu++11  -I"C:/Users/BIOCBU~1/BBS-3~1.12-/R/include" -DNDEBUG  -I'C:/Users/biocbuild/bbs-3.12-bioc/R/library/Rcpp/include' -I'C:/Users/biocbuild/bbs-3.12-bioc/R/library/RcppArmadillo/include'   -I"C:/extsoft/include"     -O2 -Wall  -mfpmath=sse -msse2 -mstackrealign -c RcppExports.cpp -o RcppExports.o
C:/rtools40/mingw32/bin/g++ -std=gnu++11 -shared -s -static-libgcc -o CeTF.dll tmp.def PCIT.o RcppExports.o -LC:/extsoft/lib/i386 -LC:/extsoft/lib -LC:/Users/BIOCBU~1/BBS-3~1.12-/R/bin/i386 -lR
installing to C:/Users/biocbuild/bbs-3.12-bioc/meat/CeTF.buildbin-libdir/00LOCK-CeTF/00new/CeTF/libs/i386
** R
** data
*** moving datasets to lazyload DB
** inst
** byte-compile and prepare package for lazy loading
** help
*** installing help indices
  converting help for package 'CeTF'
    finding HTML links ... done
    CeTF-class                              html  
    CeTFdemo                                html  
    CircosTargets                           html  
    InputData-methods                       html  
    NetworkData-methods                     html  
    OutputData-methods                      html  
    PCIT                                    html  
    RIF                                     html  
    RIFPlot                                 html  
    RIF_input                               html  
    SmearPlot                               html  
    TFs                                     html  
    bivar.awk                               html  
    clustCoef                               html  
    clustCoefPercentage                     html  
    densityPlot                             html  
    diffusion                               html  
    enrichPlot                              html  
    enrichdemo                              html  
    expDiff                                 html  
    getDE-methods                           html  
    getData-methods                         html  
    getEnrich                               html  
    getGroupGO                              html  
    heatPlot                                html  
    histPlot                                html  
    netConditionsPlot                       html  
    netGOTFPlot                             html  
    normExp                                 html  
    pcitC                                   html  
    refGenes                                html  
    runAnalysis                             html  
    simCounts                               html  
    simNorm                                 html  
    tolerance                               html  
** building package indices
** installing vignettes
** testing if installed package can be loaded from temporary location
** testing if installed package can be loaded from final location
** testing if installed package keeps a record of temporary installation path

install for x64

* installing *source* package 'CeTF' ...
** libs
"C:/rtools40/mingw64/bin/"g++ -std=gnu++11  -I"C:/Users/BIOCBU~1/BBS-3~1.12-/R/include" -DNDEBUG  -I'C:/Users/biocbuild/bbs-3.12-bioc/R/library/Rcpp/include' -I'C:/Users/biocbuild/bbs-3.12-bioc/R/library/RcppArmadillo/include'   -I"C:/extsoft/include"     -O2 -Wall  -mfpmath=sse -msse2 -mstackrealign -c PCIT.cpp -o PCIT.o
"C:/rtools40/mingw64/bin/"g++ -std=gnu++11  -I"C:/Users/BIOCBU~1/BBS-3~1.12-/R/include" -DNDEBUG  -I'C:/Users/biocbuild/bbs-3.12-bioc/R/library/Rcpp/include' -I'C:/Users/biocbuild/bbs-3.12-bioc/R/library/RcppArmadillo/include'   -I"C:/extsoft/include"     -O2 -Wall  -mfpmath=sse -msse2 -mstackrealign -c RcppExports.cpp -o RcppExports.o
C:/rtools40/mingw64/bin/g++ -std=gnu++11 -shared -s -static-libgcc -o CeTF.dll tmp.def PCIT.o RcppExports.o -LC:/extsoft/lib/x64 -LC:/extsoft/lib -LC:/Users/BIOCBU~1/BBS-3~1.12-/R/bin/x64 -lR
installing to C:/Users/biocbuild/bbs-3.12-bioc/meat/CeTF.buildbin-libdir/CeTF/libs/x64
** testing if installed package can be loaded
* MD5 sums
packaged installation of 'CeTF' as CeTF_1.2.4.zip
* DONE (CeTF)
* installing to library 'C:/Users/biocbuild/bbs-3.12-bioc/R/library'
package 'CeTF' successfully unpacked and MD5 sums checked

Tests output

CeTF.Rcheck/tests_i386/testthat.Rout


R version 4.0.5 (2021-03-31) -- "Shake and Throw"
Copyright (C) 2021 The R Foundation for Statistical Computing
Platform: i386-w64-mingw32/i386 (32-bit)

R is free software and comes with ABSOLUTELY NO WARRANTY.
You are welcome to redistribute it under certain conditions.
Type 'license()' or 'licence()' for distribution details.

R is a collaborative project with many contributors.
Type 'contributors()' for more information and
'citation()' on how to cite R or R packages in publications.

Type 'demo()' for some demos, 'help()' for on-line help, or
'help.start()' for an HTML browser interface to help.
Type 'q()' to quit R.

> library("testthat")
> library("CeTF")

========================================
CeTF version 1.2.4
Bioconductor page: http://bioconductor.org/packages/CeTF/
Github page: https://github.com/cbiagii/CeTF or https://cbiagii.github.io/CeTF/
Documentation: http://bioconductor.org/packages/CeTF/
If you use it in published research, please cite:

Carlos Alberto Oliveira de Biagi Junior, Ricardo Perecin Nociti, Breno Osvaldo 
Funicheli, Patricia de Cassia Ruy, Joao Paulo Bianchi Ximenez, Wilson A Silva Jr.
CeTF: an R package to Coexpression for Transcription Factors using Regulatory 
Impact Factors (RIF) and Partial Correlation and Information (PCIT) analysis.
bioRxiv. 2020, DOI: 10.1101/2020.03.30.015784
========================================

> test_check("CeTF")
[ FAIL 0 | WARN 0 | SKIP 0 | PASS 43 ]
> 
> proc.time()
   user  system elapsed 
  19.42    1.64   22.28 

CeTF.Rcheck/tests_x64/testthat.Rout


R version 4.0.5 (2021-03-31) -- "Shake and Throw"
Copyright (C) 2021 The R Foundation for Statistical Computing
Platform: x86_64-w64-mingw32/x64 (64-bit)

R is free software and comes with ABSOLUTELY NO WARRANTY.
You are welcome to redistribute it under certain conditions.
Type 'license()' or 'licence()' for distribution details.

R is a collaborative project with many contributors.
Type 'contributors()' for more information and
'citation()' on how to cite R or R packages in publications.

Type 'demo()' for some demos, 'help()' for on-line help, or
'help.start()' for an HTML browser interface to help.
Type 'q()' to quit R.

> library("testthat")
> library("CeTF")

========================================
CeTF version 1.2.4
Bioconductor page: http://bioconductor.org/packages/CeTF/
Github page: https://github.com/cbiagii/CeTF or https://cbiagii.github.io/CeTF/
Documentation: http://bioconductor.org/packages/CeTF/
If you use it in published research, please cite:

Carlos Alberto Oliveira de Biagi Junior, Ricardo Perecin Nociti, Breno Osvaldo 
Funicheli, Patricia de Cassia Ruy, Joao Paulo Bianchi Ximenez, Wilson A Silva Jr.
CeTF: an R package to Coexpression for Transcription Factors using Regulatory 
Impact Factors (RIF) and Partial Correlation and Information (PCIT) analysis.
bioRxiv. 2020, DOI: 10.1101/2020.03.30.015784
========================================

> test_check("CeTF")
[ FAIL 0 | WARN 0 | SKIP 0 | PASS 43 ]
> 
> proc.time()
   user  system elapsed 
  20.78    0.84   25.96 

Example timings

CeTF.Rcheck/examples_i386/CeTF-Ex.timings

nameusersystemelapsed
CeTFdemo000
CircosTargets000
InputData-methods0.030.000.03
NetworkData-methods0.770.000.77
OutputData-methods0.030.010.04
PCIT0.010.000.02
RIF0.000.020.01
RIFPlot0.520.030.55
RIF_input000
SmearPlot1.410.041.45
TFs000
bivar.awk000
clustCoef0.030.000.04
clustCoefPercentage0.030.000.03
densityPlot1.410.291.68
diffusion000
enrichPlot0.620.120.75
enrichdemo000
expDiff0.280.030.32
getDE-methods0.000.020.01
getData-methods0.060.000.06
getEnrich000
getGroupGO000
heatPlot0.940.030.97
histPlot0.280.000.28
netConditionsPlot1.690.071.75
netGOTFPlot000
normExp0.140.030.17
pcitC0.020.000.02
refGenes000
runAnalysis1.020.001.02
simCounts0.010.000.01
simNorm000
tolerance000

CeTF.Rcheck/examples_x64/CeTF-Ex.timings

nameusersystemelapsed
CeTFdemo000
CircosTargets000
InputData-methods0.020.000.02
NetworkData-methods0.060.000.06
OutputData-methods0.030.010.05
PCIT0.020.000.04
RIF000
RIFPlot0.610.040.64
RIF_input0.000.010.02
SmearPlot2.190.022.20
TFs000
bivar.awk000
clustCoef0.030.000.03
clustCoefPercentage0.030.000.04
densityPlot1.470.011.48
diffusion000
enrichPlot0.560.000.56
enrichdemo000
expDiff0.250.020.27
getDE-methods0.030.000.03
getData-methods0.030.000.03
getEnrich000
getGroupGO000
heatPlot0.960.030.98
histPlot0.290.000.30
netConditionsPlot1.030.061.10
netGOTFPlot000
normExp0.140.000.14
pcitC0.040.000.03
refGenes000
runAnalysis1.070.021.09
simCounts000
simNorm000
tolerance000