Back to Multiple platform build/check report for BioC 3.12
[A]BCDEFGHIJKLMNOPQRSTUVWXYZ

BUILD report for AnnotationHub on malbec1

This page was generated on 2020-10-24 10:56:18 -0400 (Sat, 24 Oct 2020).

TO THE DEVELOPERS/MAINTAINERS OF THE AnnotationHub PACKAGE: Please make sure to use the following settings in order to reproduce any error or warning you see on this page.
Package 66/1974HostnameOS / ArchINSTALLBUILDCHECKBUILD BIN
AnnotationHub 2.21.6
Bioconductor Package Maintainer
Snapshot Date: 2020-10-23 14:40:36 -0400 (Fri, 23 Oct 2020)
URL: https://git.bioconductor.org/packages/AnnotationHub
Branch: master
Last Commit: 90ae93f
Last Changed Date: 2020-10-19 12:58:54 -0400 (Mon, 19 Oct 2020)
malbec1 Linux (Ubuntu 18.04.4 LTS) / x86_64  OK [ OK ] WARNINGS UNNEEDED, same version exists in internal repository
nebbiolo1 Linux (Ubuntu 20.04.1 LTS) / x86_64  OK  OK  WARNINGS 
tokay1 Windows Server 2012 R2 Standard / x64  OK  OK  WARNINGS  OK UNNEEDED, same version exists in internal repository
riesling1 Windows Server 2019 Standard / x64  OK  OK  WARNINGS  OK 
merida1 macOS 10.14.6 Mojave / x86_64  OK  OK  WARNINGS  OK UNNEEDED, same version exists in internal repository

Summary

Package: AnnotationHub
Version: 2.21.6
Command: /home/biocbuild/bbs-3.12-bioc/R/bin/R CMD build --keep-empty-dirs --no-resave-data AnnotationHub
StartedAt: 2020-10-23 17:53:33 -0400 (Fri, 23 Oct 2020)
EndedAt: 2020-10-23 17:56:31 -0400 (Fri, 23 Oct 2020)
EllapsedTime: 177.7 seconds
RetCode: 0
Status:  OK 
PackageFile: AnnotationHub_2.21.6.tar.gz
PackageFileSize: 1.25 MiB

Command output

##############################################################################
##############################################################################
###
### Running command:
###
###   /home/biocbuild/bbs-3.12-bioc/R/bin/R CMD build --keep-empty-dirs --no-resave-data AnnotationHub
###
##############################################################################
##############################################################################


* checking for file ‘AnnotationHub/DESCRIPTION’ ... OK
* preparing ‘AnnotationHub’:
* checking DESCRIPTION meta-information ... OK
* installing the package to build vignettes
* creating vignettes ... OK
* checking for LF line-endings in source and make files and shell scripts
* checking for empty or unneeded directories
* building ‘AnnotationHub_2.21.6.tar.gz’