Back to Multiple platform build/check report for BioC 3.12
[A]BCDEFGHIJKLMNOPQRSTUVWXYZ

BUILD report for aroma.light on merida1

This page was generated on 2020-08-12 11:52:46 -0400 (Wed, 12 Aug 2020).

TO THE DEVELOPERS/MAINTAINERS OF THE aroma.light PACKAGE: Please make sure to use the following settings in order to reproduce any error or warning you see on this page.
Package 74/1885HostnameOS / ArchINSTALLBUILDCHECKBUILD BIN
aroma.light 3.19.0
Henrik Bengtsson
Snapshot Date: 2020-08-11 14:50:16 -0400 (Tue, 11 Aug 2020)
URL: https://git.bioconductor.org/packages/aroma.light
Branch: master
Last Commit: 38f3c56
Last Changed Date: 2020-04-27 14:13:39 -0400 (Mon, 27 Apr 2020)
malbec1 Linux (Ubuntu 18.04.4 LTS) / x86_64  OK  OK  OK UNNEEDED, same version exists in internal repository
nebbiolo1 Linux (Ubuntu 20.04.1 LTS) / x86_64  OK  OK  OK 
tokay1 Windows Server 2012 R2 Standard / x64  OK  OK  WARNINGS  OK UNNEEDED, same version exists in internal repository
merida1 macOS 10.14.6 Mojave / x86_64  OK [ OK ] OK  OK UNNEEDED, same version exists in internal repository

Summary

Package: aroma.light
Version: 3.19.0
Command: /Library/Frameworks/R.framework/Versions/Current/Resources/bin/R CMD build --keep-empty-dirs --no-resave-data aroma.light
StartedAt: 2020-08-11 18:06:00 -0400 (Tue, 11 Aug 2020)
EndedAt: 2020-08-11 18:06:31 -0400 (Tue, 11 Aug 2020)
EllapsedTime: 31.9 seconds
RetCode: 0
Status:  OK 
PackageFile: aroma.light_3.19.0.tar.gz
PackageFileSize: 381.6 KiB

Command output

##############################################################################
##############################################################################
###
### Running command:
###
###   /Library/Frameworks/R.framework/Versions/Current/Resources/bin/R CMD build --keep-empty-dirs --no-resave-data aroma.light
###
##############################################################################
##############################################################################


* checking for file ‘aroma.light/DESCRIPTION’ ... OK
* preparing ‘aroma.light’:
* checking DESCRIPTION meta-information ... OK
* checking for LF line-endings in source and make files and shell scripts
* checking for empty or unneeded directories
* building ‘aroma.light_3.19.0.tar.gz’