Back to Multiple platform build/check report for BioC 3.12
ABCDEFGHIJ[K]LMNOPQRSTUVWXYZ

Multiple platform build/check report for BioC 3.12

All results for package KEGGgraph

This page was generated on 2021-04-14 12:08:10 -0400 (Wed, 14 Apr 2021).

Package 937/1974HostnameOS / ArchINSTALLBUILDCHECKBUILD BIN
KEGGgraph 1.50.0  (landing page)
Jitao David Zhang
Snapshot Date: 2021-04-13 14:50:13 -0400 (Tue, 13 Apr 2021)
URL: https://git.bioconductor.org/packages/KEGGgraph
Branch: RELEASE_3_12
Last Commit: 3335e85
Last Changed Date: 2020-10-27 10:35:05 -0400 (Tue, 27 Oct 2020)
malbec1Linux (Ubuntu 18.04.5 LTS) / x86_64  OK    OK    OK  UNNEEDED, same version exists in internal repository
tokay1Windows Server 2012 R2 Standard / x64  OK    OK    OK    OK  UNNEEDED, same version exists in internal repository
merida1macOS 10.14.6 Mojave / x86_64  OK    OK    OK    OK  UNNEEDED, same version exists in internal repository

Results for Bioconductor software packages that depend directly on package KEGGgraph

QUICK STATSOS / ArchINSTALLBUILDCHECKBUILD BIN
malbec1Linux (Ubuntu 18.04.5 LTS) / x86_64
0010
0010
0019
tokay1Windows Server 2012 R2 Standard / x64
008
008
0017
008
merida1macOS 10.14.6 Mojave / x86_64
008
008
0017
008
Package 1/10HostnameOS / ArchINSTALLBUILDCHECKBUILD BIN
clipper 1.30.0  (landing page)
Paolo Martini
Last Commit: 3a1d234
Last Changed Date: 2020-10-27 10:48:58 -0400
malbec1Linux (Ubuntu 18.04.5 LTS) / x86_64  OK    OK    OK  UNNEEDED, same version exists in internal repository
tokay1Windows Server 2012 R2 Standard / x64  OK    OK    OK    OK  UNNEEDED, same version exists in internal repository
merida1macOS 10.14.6 Mojave / x86_64  OK    OK    OK    OK  UNNEEDED, same version exists in internal repository
Package 2/10HostnameOS / ArchINSTALLBUILDCHECKBUILD BIN
DEGraph 1.42.0  (landing page)
Laurent Jacob
Last Commit: 7c7919a
Last Changed Date: 2020-10-27 10:39:35 -0400
malbec1Linux (Ubuntu 18.04.5 LTS) / x86_64  OK    OK    OK  UNNEEDED, same version exists in internal repository
tokay1Windows Server 2012 R2 Standard / x64... NOT SUPPORTED ...
merida1macOS 10.14.6 Mojave / x86_64... NOT SUPPORTED ...
Package 3/10HostnameOS / ArchINSTALLBUILDCHECKBUILD BIN
EnrichmentBrowser 2.20.7  (landing page)
Ludwig Geistlinger
Last Commit: 4e4444e
Last Changed Date: 2020-12-09 17:07:17 -0400
malbec1Linux (Ubuntu 18.04.5 LTS) / x86_64  OK    OK    OK  UNNEEDED, same version exists in internal repository
tokay1Windows Server 2012 R2 Standard / x64  OK    OK    OK    OK  UNNEEDED, same version exists in internal repository
merida1macOS 10.14.6 Mojave / x86_64  OK    OK    OK    OK  UNNEEDED, same version exists in internal repository
Package 4/10HostnameOS / ArchINSTALLBUILDCHECKBUILD BIN
KEGGlincs 1.16.0  (landing page)
Shana White , Mario Medvedovic
Last Commit: cc5f8bd
Last Changed Date: 2020-10-27 11:18:22 -0400
malbec1Linux (Ubuntu 18.04.5 LTS) / x86_64  OK    OK    OK  UNNEEDED, same version exists in internal repository
tokay1Windows Server 2012 R2 Standard / x64  OK    OK    OK    OK  UNNEEDED, same version exists in internal repository
merida1macOS 10.14.6 Mojave / x86_64  OK    OK    OK    OK  UNNEEDED, same version exists in internal repository
Package 5/10HostnameOS / ArchINSTALLBUILDCHECKBUILD BIN
MetaboSignal 1.20.0  (landing page)
Andrea Rodriguez-Martinez
Last Commit: 5554397
Last Changed Date: 2020-10-27 11:17:25 -0400
malbec1Linux (Ubuntu 18.04.5 LTS) / x86_64  OK    OK    OK  UNNEEDED, same version exists in internal repository
tokay1Windows Server 2012 R2 Standard / x64  OK    OK    OK    OK  UNNEEDED, same version exists in internal repository
merida1macOS 10.14.6 Mojave / x86_64  OK    OK    OK    OK  UNNEEDED, same version exists in internal repository
Package 6/10HostnameOS / ArchINSTALLBUILDCHECKBUILD BIN
MWASTools 1.14.0  (landing page)
Andrea Rodriguez-Martinez , Rafael Ayala
Last Commit: 6fba3b0
Last Changed Date: 2020-10-27 11:19:37 -0400
malbec1Linux (Ubuntu 18.04.5 LTS) / x86_64  OK    OK    OK  UNNEEDED, same version exists in internal repository
tokay1Windows Server 2012 R2 Standard / x64  OK    OK    OK    OK  UNNEEDED, same version exists in internal repository
merida1macOS 10.14.6 Mojave / x86_64  OK    OK    OK    OK  UNNEEDED, same version exists in internal repository
Package 7/10HostnameOS / ArchINSTALLBUILDCHECKBUILD BIN
NCIgraph 1.38.0  (landing page)
Laurent Jacob
Last Commit: 1f618f0
Last Changed Date: 2020-10-27 10:41:10 -0400
malbec1Linux (Ubuntu 18.04.5 LTS) / x86_64  OK    OK    OK  UNNEEDED, same version exists in internal repository
tokay1Windows Server 2012 R2 Standard / x64... NOT SUPPORTED ...
merida1macOS 10.14.6 Mojave / x86_64... NOT SUPPORTED ...
Package 8/10HostnameOS / ArchINSTALLBUILDCHECKBUILD BIN
pathview 1.30.1  (landing page)
Weijun Luo
Last Commit: a6a3239
Last Changed Date: 2020-12-09 18:22:07 -0400
malbec1Linux (Ubuntu 18.04.5 LTS) / x86_64  OK    OK    WARNINGS  UNNEEDED, same version exists in internal repository
tokay1Windows Server 2012 R2 Standard / x64  OK    OK    WARNINGS    OK  UNNEEDED, same version exists in internal repository
merida1macOS 10.14.6 Mojave / x86_64  OK    OK    WARNINGS    OK  UNNEEDED, same version exists in internal repository
Package 9/10HostnameOS / ArchINSTALLBUILDCHECKBUILD BIN
ROntoTools 2.18.0  (landing page)
Calin Voichita
Last Commit: a8db5c7
Last Changed Date: 2020-10-27 10:50:03 -0400
malbec1Linux (Ubuntu 18.04.5 LTS) / x86_64  OK    OK    OK  UNNEEDED, same version exists in internal repository
tokay1Windows Server 2012 R2 Standard / x64  OK    OK    OK    OK  UNNEEDED, same version exists in internal repository
merida1macOS 10.14.6 Mojave / x86_64  OK    OK    OK    OK  UNNEEDED, same version exists in internal repository
Package 10/10HostnameOS / ArchINSTALLBUILDCHECKBUILD BIN
SPIA 2.42.0  (landing page)
Adi Laurentiu Tarca
Last Commit: 00f0b65
Last Changed Date: 2020-10-27 10:35:14 -0400
malbec1Linux (Ubuntu 18.04.5 LTS) / x86_64  OK    OK    OK  UNNEEDED, same version exists in internal repository
tokay1Windows Server 2012 R2 Standard / x64  OK    OK    OK    OK  UNNEEDED, same version exists in internal repository
merida1macOS 10.14.6 Mojave / x86_64  OK    OK    OK    OK  UNNEEDED, same version exists in internal repository