Back to Multiple platform build/check report for BioC 3.12
[A]BCDEFGHIJKLMNOPQRSTUVWXYZ

INSTALL report for AnnotationHubData on tokay1

This page was generated on 2020-08-09 12:07:23 -0400 (Sun, 09 Aug 2020).

TO THE DEVELOPERS/MAINTAINERS OF THE AnnotationHubData PACKAGE: Please make sure to use the following settings in order to reproduce any error or warning you see on this page.
Package 63/1882HostnameOS / ArchINSTALLBUILDCHECKBUILD BIN
AnnotationHubData 1.19.3
Bioconductor Package Maintainer
Snapshot Date: 2020-08-08 14:51:01 -0400 (Sat, 08 Aug 2020)
URL: https://git.bioconductor.org/packages/AnnotationHubData
Branch: master
Last Commit: 3171efd
Last Changed Date: 2020-08-03 10:35:56 -0400 (Mon, 03 Aug 2020)
malbec1 Linux (Ubuntu 18.04.4 LTS) / x86_64  OK  OK  WARNINGS UNNEEDED, same version exists in internal repository
nebbiolo1 Linux (Ubuntu 20.04.1 LTS) / x86_64  OK  OK  ERROR 
tokay1 Windows Server 2012 R2 Standard / x64 [ OK ] OK  WARNINGS  OK UNNEEDED, same version exists in internal repository
merida1 macOS 10.14.6 Mojave / x86_64  OK  OK  WARNINGS  OK UNNEEDED, same version exists in internal repository

Summary

Package: AnnotationHubData
Version: 1.19.3
Command: C:\cygwin\bin\curl.exe -O https://malbec1.bioconductor.org/BBS/3.12/bioc/src/contrib/AnnotationHubData_1.19.3.tar.gz && rm -rf AnnotationHubData.buildbin-libdir && mkdir AnnotationHubData.buildbin-libdir && C:\Users\biocbuild\bbs-3.12-bioc\R\bin\R.exe CMD INSTALL --merge-multiarch --build --library=AnnotationHubData.buildbin-libdir AnnotationHubData_1.19.3.tar.gz && C:\Users\biocbuild\bbs-3.12-bioc\R\bin\R.exe CMD INSTALL AnnotationHubData_1.19.3.zip && rm AnnotationHubData_1.19.3.tar.gz AnnotationHubData_1.19.3.zip
StartedAt: 2020-08-08 18:32:03 -0400 (Sat, 08 Aug 2020)
EndedAt: 2020-08-08 18:33:02 -0400 (Sat, 08 Aug 2020)
EllapsedTime: 59.2 seconds
RetCode: 0
Status:  OK  

Command output

##############################################################################
##############################################################################
###
### Running command:
###
###   C:\cygwin\bin\curl.exe -O https://malbec1.bioconductor.org/BBS/3.12/bioc/src/contrib/AnnotationHubData_1.19.3.tar.gz && rm -rf AnnotationHubData.buildbin-libdir && mkdir AnnotationHubData.buildbin-libdir && C:\Users\biocbuild\bbs-3.12-bioc\R\bin\R.exe CMD INSTALL --merge-multiarch --build --library=AnnotationHubData.buildbin-libdir AnnotationHubData_1.19.3.tar.gz && C:\Users\biocbuild\bbs-3.12-bioc\R\bin\R.exe CMD INSTALL AnnotationHubData_1.19.3.zip && rm AnnotationHubData_1.19.3.tar.gz AnnotationHubData_1.19.3.zip
###
##############################################################################
##############################################################################


  % Total    % Received % Xferd  Average Speed   Time    Time     Time  Current
                                 Dload  Upload   Total   Spent    Left  Speed

  0     0    0     0    0     0      0      0 --:--:-- --:--:-- --:--:--     0
100  191k  100  191k    0     0  3084k      0 --:--:-- --:--:-- --:--:-- 3308k

install for i386

* installing *source* package 'AnnotationHubData' ...
** using staged installation
** R
** inst
** byte-compile and prepare package for lazy loading
** help
*** installing help indices
  converting help for package 'AnnotationHubData'
    finding HTML links ... done
    AnnotationHubData-package               html  
    AnnotationHubMetadata-class             html  
    ImportPreparer-class                    html  
    flog                                    html  
    makeAnnotationHubMetadata               html  
    makeEnsemblFasta                        html  
    makeGencodeFasta                        html  
    makeStandardOrgDbs                      html  
    updateResources                         html  
    upload_to_S3                            html  
    validationFunctions                     html  
** building package indices
** installing vignettes
** testing if installed package can be loaded from temporary location
** testing if installed package can be loaded from final location
** testing if installed package keeps a record of temporary installation path

install for x64

* installing *source* package 'AnnotationHubData' ...
** testing if installed package can be loaded
* MD5 sums
packaged installation of 'AnnotationHubData' as AnnotationHubData_1.19.3.zip
* DONE (AnnotationHubData)
* installing to library 'C:/Users/biocbuild/bbs-3.12-bioc/R/library'
package 'AnnotationHubData' successfully unpacked and MD5 sums checked