Back to Multiple platform build/check report for BioC 3.12
[A]BCDEFGHIJKLMNOPQRSTUVWXYZ

BUILD BIN report for ArrayTools on tokay1

This page was generated on 2020-08-06 11:51:27 -0400 (Thu, 06 Aug 2020).

TO THE DEVELOPERS/MAINTAINERS OF THE ArrayTools PACKAGE: Please make sure to use the following settings in order to reproduce any error or warning you see on this page.
Package 80/1882HostnameOS / ArchINSTALLBUILDCHECKBUILD BIN
ArrayTools 1.49.0
Arthur Li
Snapshot Date: 2020-08-05 14:50:59 -0400 (Wed, 05 Aug 2020)
URL: https://git.bioconductor.org/packages/ArrayTools
Branch: master
Last Commit: e7b0baa
Last Changed Date: 2020-04-27 14:18:01 -0400 (Mon, 27 Apr 2020)
malbec1 Linux (Ubuntu 18.04.4 LTS) / x86_64  OK  OK  OK UNNEEDED, same version exists in internal repository
tokay1 Windows Server 2012 R2 Standard / x64  OK  OK  OK [ OK ]UNNEEDED, same version exists in internal repository
merida1 macOS 10.14.6 Mojave / x86_64  OK  OK  OK  OK UNNEEDED, same version exists in internal repository

Summary

Package: ArrayTools
Version: 1.49.0
Command: rm -rf ArrayTools.buildbin-libdir && mkdir ArrayTools.buildbin-libdir && C:\Users\biocbuild\bbs-3.12-bioc\R\bin\R.exe CMD INSTALL --merge-multiarch --build --library=ArrayTools.buildbin-libdir ArrayTools_1.49.0.tar.gz
StartedAt: 2020-08-06 07:13:09 -0400 (Thu, 06 Aug 2020)
EndedAt: 2020-08-06 07:13:58 -0400 (Thu, 06 Aug 2020)
EllapsedTime: 49.1 seconds
RetCode: 0
Status:  OK  
PackageFile: ArrayTools_1.49.0.zip
PackageFileSize: 664.5 KiB

Command output

##############################################################################
##############################################################################
###
### Running command:
###
###   rm -rf ArrayTools.buildbin-libdir && mkdir ArrayTools.buildbin-libdir && C:\Users\biocbuild\bbs-3.12-bioc\R\bin\R.exe CMD INSTALL --merge-multiarch --build --library=ArrayTools.buildbin-libdir ArrayTools_1.49.0.tar.gz
###
##############################################################################
##############################################################################



install for i386

* installing *source* package 'ArrayTools' ...
** using staged installation
** R
** data
** inst
** byte-compile and prepare package for lazy loading
** help
*** installing help indices
  converting help for package 'ArrayTools'
    finding HTML links ... done
    Output2HTML                             html  
    QC                                      html  
    Sort                                    html  
    adjustment                              html  
    contrastMatrix-class                    html  
    createExpressionSet                     html  
    createGSEAFiles                         html  
    createIndex                             html  
    createIngenuityFile                     html  
    designMatrix-class                      html  
    eSetExample                             html  
    exprsExample                            html  
    geneFilter                              html  
    getAdjP                                 html  
    getAnnotation                           html  
    getCompare1                             html  
    getCompare2                             html  
    getContrast                             html  
    getCovariates                           html  
    getDesign                               html  
    getF                                    html  
    getFC                                   html  
    getFCCutoff                             html  
    getFilterMethod                         html  
    getID                                   html  
    getIndex                                html  
    getIntIndex                             html  
    getInteraction                          html  
    getLength                               html  
    getLevel                                html  
    getNormalizationMethod                  html  
    getP                                    html  
    getPCutoff                              html  
    getTarget                               html  
    hugene10stCONTROL                       html  
    interactionResult-class                 html  
    mogene10stCONTROL                       html  
    output.cls                              html  
    output.gct                              html  
    output.ing                              html  
    pDataExample                            html  
    postInteraction                         html  
    preProcess3prime                        html  
    preProcessGeneST                        html  
    qa3prime                                html  
    qaGeneST                                html  
    regress                                 html  
    regressResult-class                     html  
    regressionMethod                        html  
    selectSigGene                           html  
    selectSigGeneInt                        html  
** building package indices
** installing vignettes
** testing if installed package can be loaded from temporary location
** testing if installed package can be loaded from final location
** testing if installed package keeps a record of temporary installation path

install for x64

* installing *source* package 'ArrayTools' ...
** testing if installed package can be loaded
* MD5 sums
packaged installation of 'ArrayTools' as ArrayTools_1.49.0.zip
* DONE (ArrayTools)