Back to Multiple platform build/check report for BioC 3.12
AB[C]DEFGHIJKLMNOPQRSTUVWXYZ

CHECK report for CGHcall on tokay1

This page was generated on 2020-08-07 11:57:54 -0400 (Fri, 07 Aug 2020).

TO THE DEVELOPERS/MAINTAINERS OF THE CGHcall PACKAGE: Please make sure to use the following settings in order to reproduce any error or warning you see on this page.
Package 257/1882HostnameOS / ArchINSTALLBUILDCHECKBUILD BIN
CGHcall 2.51.0
Mark van de Wiel
Snapshot Date: 2020-08-06 14:50:46 -0400 (Thu, 06 Aug 2020)
URL: https://git.bioconductor.org/packages/CGHcall
Branch: master
Last Commit: 66e382c
Last Changed Date: 2020-04-27 14:15:39 -0400 (Mon, 27 Apr 2020)
malbec1 Linux (Ubuntu 18.04.4 LTS) / x86_64  OK  OK  OK UNNEEDED, same version exists in internal repository
tokay1 Windows Server 2012 R2 Standard / x64  OK  OK [ OK ] OK UNNEEDED, same version exists in internal repository
merida1 macOS 10.14.6 Mojave / x86_64  OK  OK  OK  OK UNNEEDED, same version exists in internal repository

Summary

Package: CGHcall
Version: 2.51.0
Command: C:\Users\biocbuild\bbs-3.12-bioc\R\bin\R.exe CMD check --force-multiarch --install=check:CGHcall.install-out.txt --library=C:\Users\biocbuild\bbs-3.12-bioc\R\library --no-vignettes --timings CGHcall_2.51.0.tar.gz
StartedAt: 2020-08-06 23:56:52 -0400 (Thu, 06 Aug 2020)
EndedAt: 2020-08-06 23:57:48 -0400 (Thu, 06 Aug 2020)
EllapsedTime: 56.3 seconds
RetCode: 0
Status:  OK  
CheckDir: CGHcall.Rcheck
Warnings: 0

Command output

##############################################################################
##############################################################################
###
### Running command:
###
###   C:\Users\biocbuild\bbs-3.12-bioc\R\bin\R.exe CMD check --force-multiarch --install=check:CGHcall.install-out.txt --library=C:\Users\biocbuild\bbs-3.12-bioc\R\library --no-vignettes --timings CGHcall_2.51.0.tar.gz
###
##############################################################################
##############################################################################


* using log directory 'C:/Users/biocbuild/bbs-3.12-bioc/meat/CGHcall.Rcheck'
* using R version 4.0.2 (2020-06-22)
* using platform: x86_64-w64-mingw32 (64-bit)
* using session charset: ISO8859-1
* using option '--no-vignettes'
* checking for file 'CGHcall/DESCRIPTION' ... OK
* checking extension type ... Package
* this is package 'CGHcall' version '2.51.0'
* checking package namespace information ... OK
* checking package dependencies ... OK
* checking if this is a source package ... OK
* checking if there is a namespace ... OK
* checking for hidden files and directories ... OK
* checking for portable file names ... OK
* checking whether package 'CGHcall' can be installed ... OK
* checking installed package size ... OK
* checking package directory ... OK
* checking 'build' directory ... OK
* checking DESCRIPTION meta-information ... NOTE
Malformed Title field: should not end in a period.
Non-standard license specification:
  GPL (http://www.gnu.org/copyleft/gpl.html)
Standardizable: FALSE
* checking top-level files ... OK
* checking for left-over files ... OK
* checking index information ... OK
* checking package subdirectories ... OK
* checking R files for non-ASCII characters ... OK
* checking R files for syntax errors ... OK
* loading checks for arch 'i386'
** checking whether the package can be loaded ... OK
** checking whether the package can be loaded with stated dependencies ... OK
** checking whether the package can be unloaded cleanly ... OK
** checking whether the namespace can be loaded with stated dependencies ... OK
** checking whether the namespace can be unloaded cleanly ... OK
* loading checks for arch 'x64'
** checking whether the package can be loaded ... OK
** checking whether the package can be loaded with stated dependencies ... OK
** checking whether the package can be unloaded cleanly ... OK
** checking whether the namespace can be loaded with stated dependencies ... OK
** checking whether the namespace can be unloaded cleanly ... OK
* checking dependencies in R code ... NOTE
'library' or 'require' call to 'snowfall' which was already attached by Depends.
  Please remove these calls from your code.
Packages in Depends field not imported from:
  'DNAcopy' 'methods' 'snowfall'
  These packages need to be imported from (in the NAMESPACE file)
  for when this namespace is loaded but not attached.
':::' call which should be '::': 'DNAcopy:::getbdry'
  See the note in ?`:::` about the use of this operator.
Unexported objects imported by ':::' calls:
  'Biobase:::assayDataDims' 'DNAcopy:::trimmed.variance'
  See the note in ?`:::` about the use of this operator.
There are ::: calls to the package's namespace in its code. A package
  almost never needs to use ::: for its own objects:
  '.MakeData' '.alpha0all' '.assignNames' '.callFromSeg' '.countcl'
  '.posteriorp' '.reallik4' '.segFromRaw' '.sumreg' '.sumsqreg'
  '.totallik' '.varproffun' '.varregtimescount'
* checking S3 generic/method consistency ... OK
* checking replacement functions ... OK
* checking foreign function calls ... NOTE
Foreign function call to a different package:
  .Fortran("fndcpt", ..., PACKAGE = "DNAcopy")
See chapter 'System and foreign language interfaces' in the 'Writing R
Extensions' manual.
* checking R code for possible problems ... NOTE
.callFromSeg: no visible global function definition for 'new'
.changepoints.sdundo2 : <anonymous>: no visible global function
  definition for 'median'
.changepoints2: no visible global function definition for 'mad'
.changepoints2: no visible global function definition for
  'changepoints.prune'
.makeEmptyFeatureData: no visible global function definition for 'is'
.makeEmptyFeatureData: no visible global function definition for 'new'
.profreg: no visible binding for global variable 'profile'
.segFromRaw: no visible global function definition for 'new'
.segment2: no visible binding for global variable
  'default.DNAcopy.bdry'
.totallik: no visible global function definition for 'sfExport'
.totallik: no visible global function definition for 'sfSapply'
.varregtimescount: no visible global function definition for 'var'
CGHcall: no visible global function definition for 'mad'
CGHcall: no visible global function definition for 'sfInit'
CGHcall: no visible global function definition for 'sfLibrary'
CGHcall: no visible global function definition for 'sfExport'
CGHcall: no visible global function definition for 'optim'
CGHcall: no visible global function definition for 'sfRemoveAll'
CGHcall: no visible global function definition for 'sfStop'
ExpandCGHcall: no visible global function definition for 'new'
normalize: no visible global function definition for 'median'
postsegnormalize: no visible global function definition for 'median'
Undefined global functions or variables:
  changepoints.prune default.DNAcopy.bdry is mad median new optim
  profile sfExport sfInit sfLibrary sfRemoveAll sfSapply sfStop var
Consider adding
  importFrom("methods", "is", "new")
  importFrom("stats", "mad", "median", "optim", "profile", "var")
to your NAMESPACE file (and ensure that your DESCRIPTION Imports field
contains 'methods').
* checking Rd files ... OK
* checking Rd metadata ... OK
* checking Rd cross-references ... OK
* checking for missing documentation entries ... OK
* checking for code/documentation mismatches ... OK
* checking Rd \usage sections ... OK
* checking Rd contents ... OK
* checking for unstated dependencies in examples ... OK
* checking contents of 'data' directory ... OK
* checking data for non-ASCII characters ... OK
* checking data for ASCII and uncompressed saves ... OK
* checking files in 'vignettes' ... OK
* checking examples ...
** running examples for arch 'i386' ... OK
** running examples for arch 'x64' ... OK
* checking for unstated dependencies in vignettes ... OK
* checking package vignettes in 'inst/doc' ... OK
* checking running R code from vignettes ... SKIPPED
* checking re-building of vignette outputs ... SKIPPED
* checking PDF version of manual ... OK
* DONE

Status: 4 NOTEs
See
  'C:/Users/biocbuild/bbs-3.12-bioc/meat/CGHcall.Rcheck/00check.log'
for details.



Installation output

CGHcall.Rcheck/00install.out

##############################################################################
##############################################################################
###
### Running command:
###
###   C:\cygwin\bin\curl.exe -O https://malbec1.bioconductor.org/BBS/3.12/bioc/src/contrib/CGHcall_2.51.0.tar.gz && rm -rf CGHcall.buildbin-libdir && mkdir CGHcall.buildbin-libdir && C:\Users\biocbuild\bbs-3.12-bioc\R\bin\R.exe CMD INSTALL --merge-multiarch --build --library=CGHcall.buildbin-libdir CGHcall_2.51.0.tar.gz && C:\Users\biocbuild\bbs-3.12-bioc\R\bin\R.exe CMD INSTALL CGHcall_2.51.0.zip && rm CGHcall_2.51.0.tar.gz CGHcall_2.51.0.zip
###
##############################################################################
##############################################################################


  % Total    % Received % Xferd  Average Speed   Time    Time     Time  Current
                                 Dload  Upload   Total   Spent    Left  Speed

  0     0    0     0    0     0      0      0 --:--:-- --:--:-- --:--:--     0
  0     0    0     0    0     0      0      0 --:--:-- --:--:-- --:--:--     0
100  177k  100  177k    0     0  3451k      0 --:--:-- --:--:-- --:--:-- 3625k

install for i386

* installing *source* package 'CGHcall' ...
** using staged installation
** R
** data
** byte-compile and prepare package for lazy loading
** help
*** installing help indices
  converting help for package 'CGHcall'
    finding HTML links ... done
    CGHcall-package                         html  
    CGHcall                                 html  
    finding level-2 HTML links ... done

    ExpandCGHcall                           html  
    Wilting                                 html  
    normalize                               html  
    postsegnormalize                        html  
    preprocess                              html  
    segmentData                             html  
** building package indices
** installing vignettes
** testing if installed package can be loaded from temporary location
** testing if installed package can be loaded from final location
** testing if installed package keeps a record of temporary installation path

install for x64

* installing *source* package 'CGHcall' ...
** testing if installed package can be loaded
* MD5 sums
packaged installation of 'CGHcall' as CGHcall_2.51.0.zip
* DONE (CGHcall)
* installing to library 'C:/Users/biocbuild/bbs-3.12-bioc/R/library'
package 'CGHcall' successfully unpacked and MD5 sums checked

Tests output


Example timings

CGHcall.Rcheck/examples_i386/CGHcall-Ex.timings

nameusersystemelapsed
CGHcall0.200.030.23
ExpandCGHcall0.210.000.21
normalize0.140.020.15
postsegnormalize0.190.000.19
preprocess0.070.000.77
segmentData0.030.000.86

CGHcall.Rcheck/examples_x64/CGHcall-Ex.timings

nameusersystemelapsed
CGHcall0.200.020.22
ExpandCGHcall0.20.00.2
normalize0.160.000.16
postsegnormalize0.150.000.15
preprocess0.050.000.05
segmentData0.030.000.03