Back to Multiple platform build/check report for BioC 3.12
A[B]CDEFGHIJKLMNOPQRSTUVWXYZ

CHECK report for biomvRCNS on merida1

This page was generated on 2020-08-10 12:34:14 -0400 (Mon, 10 Aug 2020).

TO THE DEVELOPERS/MAINTAINERS OF THE biomvRCNS PACKAGE: Please make sure to use the following settings in order to reproduce any error or warning you see on this page.
Package 171/1882HostnameOS / ArchINSTALLBUILDCHECKBUILD BIN
biomvRCNS 1.29.0
Yang Du
Snapshot Date: 2020-08-09 14:51:29 -0400 (Sun, 09 Aug 2020)
URL: https://git.bioconductor.org/packages/biomvRCNS
Branch: master
Last Commit: a8eb7d4
Last Changed Date: 2020-04-27 14:33:11 -0400 (Mon, 27 Apr 2020)
malbec1 Linux (Ubuntu 18.04.4 LTS) / x86_64  OK  OK  OK UNNEEDED, same version exists in internal repository
nebbiolo1 Linux (Ubuntu 20.04.1 LTS) / x86_64  OK  OK  OK 
tokay1 Windows Server 2012 R2 Standard / x64  OK  OK  OK  OK UNNEEDED, same version exists in internal repository
merida1 macOS 10.14.6 Mojave / x86_64  OK  OK [ OK ] OK UNNEEDED, same version exists in internal repository

Summary

Package: biomvRCNS
Version: 1.29.0
Command: /Library/Frameworks/R.framework/Versions/Current/Resources/bin/R CMD check --install=check:biomvRCNS.install-out.txt --library=/Library/Frameworks/R.framework/Versions/Current/Resources/library --no-vignettes --timings biomvRCNS_1.29.0.tar.gz
StartedAt: 2020-08-09 23:53:39 -0400 (Sun, 09 Aug 2020)
EndedAt: 2020-08-10 00:00:12 -0400 (Mon, 10 Aug 2020)
EllapsedTime: 393.3 seconds
RetCode: 0
Status:  OK 
CheckDir: biomvRCNS.Rcheck
Warnings: 0

Command output

##############################################################################
##############################################################################
###
### Running command:
###
###   /Library/Frameworks/R.framework/Versions/Current/Resources/bin/R CMD check --install=check:biomvRCNS.install-out.txt --library=/Library/Frameworks/R.framework/Versions/Current/Resources/library --no-vignettes --timings biomvRCNS_1.29.0.tar.gz
###
##############################################################################
##############################################################################


* using log directory ‘/Users/biocbuild/bbs-3.12-bioc/meat/biomvRCNS.Rcheck’
* using R version 4.0.2 (2020-06-22)
* using platform: x86_64-apple-darwin17.0 (64-bit)
* using session charset: UTF-8
* using option ‘--no-vignettes’
* checking for file ‘biomvRCNS/DESCRIPTION’ ... OK
* checking extension type ... Package
* this is package ‘biomvRCNS’ version ‘1.29.0’
* checking package namespace information ... OK
* checking package dependencies ... OK
* checking if this is a source package ... OK
* checking if there is a namespace ... OK
* checking for hidden files and directories ... OK
* checking for portable file names ... OK
* checking for sufficient/correct file permissions ... OK
* checking whether package ‘biomvRCNS’ can be installed ... OK
* checking installed package size ... OK
* checking package directory ... OK
* checking ‘build’ directory ... OK
* checking DESCRIPTION meta-information ... OK
* checking top-level files ... OK
* checking for left-over files ... OK
* checking index information ... OK
* checking package subdirectories ... OK
* checking R files for non-ASCII characters ... OK
* checking R files for syntax errors ... OK
* checking whether the package can be loaded ... OK
* checking whether the package can be loaded with stated dependencies ... OK
* checking whether the package can be unloaded cleanly ... OK
* checking whether the namespace can be loaded with stated dependencies ... OK
* checking whether the namespace can be unloaded cleanly ... OK
* checking dependencies in R code ... NOTE
'library' or 'require' calls in package code:
  'GenomicFeatures' 'cluster' 'dynamicTreeCut' 'parallel'
  Please use :: or requireNamespace() instead.
  See section 'Suggested packages' in the 'Writing R Extensions' manual.
* checking S3 generic/method consistency ... OK
* checking replacement functions ... OK
* checking foreign function calls ... OK
* checking R code for possible problems ... NOTE
biomvRGviz: no visible global function definition for 'rainbow'
biomvRGviz: no visible global function definition for 'hasArg'
biomvRGviz: no visible global function definition for 'graphics.off'
biomvRGviz: no visible global function definition for 'setEPS'
biomvRGviz: no visible global function definition for 'postscript'
biomvRGviz: no visible global function definition for 'pdf'
biomvRGviz: no visible global function definition for 'dev.off'
biomvRhsmm: no visible global function definition for 'is'
biomvRhsmm: no visible binding for global variable 'mclapply'
biomvRhsmm : <anonymous> : <anonymous>: no visible global function
  definition for 'DataFrame'
biomvRhsmm : <anonymous> : <anonymous>: no visible global function
  definition for 'Rle'
biomvRhsmm: no visible global function definition for 'DataFrame'
biomvRhsmm: no visible binding for global variable 'DataFrame'
biomvRhsmm: no visible global function definition for 'new'
biomvRmgmr: no visible global function definition for 'seqlevels<-'
biomvRmgmr: no visible global function definition for 'DataFrame'
biomvRmgmr: no visible global function definition for 'new'
biomvRseg: no visible global function definition for 'seqlevels<-'
biomvRseg: no visible global function definition for 'DataFrame'
biomvRseg: no visible global function definition for 'new'
estEmis: no visible global function definition for 'clara'
gammaFit: no visible global function definition for 'cov.wt'
hsmmRun: no visible global function definition for 'Rle'
hsmmRun : <anonymous>: no visible global function definition for 'Rle'
hsmmRun: no visible global function definition for 'seqlevels<-'
initEmis : <anonymous>: no visible global function definition for
  'dpois'
initEmis : <anonymous>: no visible global function definition for
  'dnorm'
initEmis : <anonymous>: no visible global function definition for
  'dnbinom'
initEmis : <anonymous>: no visible global function definition for
  'cov2cor'
initEmis : <anonymous>: no visible global function definition for 'dt'
initEmis : <anonymous>: no visible global function definition for
  'cov.wt'
initEmis : <anonymous>: no visible global function definition for
  'weighted.mean'
initSojDd : <anonymous>: no visible global function definition for
  'dgamma'
initSojDd : <anonymous>: no visible global function definition for
  'dpois'
initSojDd : <anonymous>: no visible global function definition for
  'dnbinom'
maxGapminRun: no visible global function definition for 'Rle'
maxGapminRun: no visible global function definition for 'runValue'
nbinomCLLDD: no visible global function definition for 'cov.wt'
nbinomCLLDD: no visible global function definition for 'dnbinom'
poisFit : <anonymous>: no visible global function definition for
  'dpois'
preClustGrp: no visible global function definition for 'dist'
preClustGrp: no visible global function definition for 'hclust'
preClustGrp: no visible global function definition for 'cutreeDynamic'
regionSegAlphaNB: no visible global function definition for 'mclapply'
regionSegCost: no visible global function definition for 'mclapply'
simSegData: no visible global function definition for 'runValue'
simSegData: no visible global function definition for 'Rle'
simSegData: no visible global function definition for 'pdf'
simSegData: no visible global function definition for 'ts.plot'
simSegData: no visible global function definition for 'dev.off'
simUvSegData: no visible global function definition for 'rnorm'
simUvSegData: no visible global function definition for 'rt'
simUvSegData: no visible global function definition for 'rgamma'
simUvSegData: no visible global function definition for 'rpois'
simUvSegData: no visible global function definition for 'rnbinom'
sojournAnno: no visible global function definition for 'is'
sojournAnno: no visible global function definition for 'transcripts'
sojournAnno: no visible global function definition for 'seqlengths'
sojournAnno: no visible global function definition for 'exons'
sojournAnno: no visible global function definition for
  'intronsByTranscript'
splitFarNeighbouryhat: no visible global function definition for
  'runValue'
tmvtfFit: no visible global function definition for 'cov.wt'
unifMJ : <anonymous>: no visible global function definition for 'dunif'
unifMJ : <anonymous> : <anonymous>: no visible global function
  definition for 'dunif'
plot,biomvRCNS-ANY: no visible binding for global variable 'ssetst'
Undefined global functions or variables:
  DataFrame Rle clara cov.wt cov2cor cutreeDynamic dev.off dgamma dist
  dnbinom dnorm dpois dt dunif exons graphics.off hasArg hclust
  intronsByTranscript is mclapply new pdf postscript rainbow rgamma
  rnbinom rnorm rpois rt runValue seqlengths seqlevels<- setEPS ssetst
  transcripts ts.plot weighted.mean
Consider adding
  importFrom("grDevices", "dev.off", "graphics.off", "pdf", "postscript",
             "rainbow", "setEPS")
  importFrom("methods", "hasArg", "is", "new")
  importFrom("stats", "cov.wt", "cov2cor", "dgamma", "dist", "dnbinom",
             "dnorm", "dpois", "dt", "dunif", "hclust", "rgamma",
             "rnbinom", "rnorm", "rpois", "rt", "ts.plot",
             "weighted.mean")
to your NAMESPACE file (and ensure that your DESCRIPTION Imports field
contains 'methods').
* checking Rd files ... OK
* checking Rd metadata ... OK
* checking Rd cross-references ... OK
* checking for missing documentation entries ... OK
* checking for code/documentation mismatches ... OK
* checking Rd \usage sections ... OK
* checking Rd contents ... OK
* checking for unstated dependencies in examples ... OK
* checking contents of ‘data’ directory ... OK
* checking data for non-ASCII characters ... OK
* checking data for ASCII and uncompressed saves ... OK
* checking line endings in C/C++/Fortran sources/headers ... OK
* checking compiled code ... NOTE
Note: information on .o files is not available
* checking sizes of PDF files under ‘inst/doc’ ... OK
* checking files in ‘vignettes’ ... OK
* checking examples ... OK
Examples with CPU (user + system) or elapsed time > 5s
             user system elapsed
biomvRhsmm 12.159  1.808   8.552
biomvRseg   6.304  0.052   6.362
* checking for unstated dependencies in vignettes ... OK
* checking package vignettes in ‘inst/doc’ ... OK
* checking running R code from vignettes ... SKIPPED
* checking re-building of vignette outputs ... SKIPPED
* checking PDF version of manual ... OK
* DONE

Status: 3 NOTEs
See
  ‘/Users/biocbuild/bbs-3.12-bioc/meat/biomvRCNS.Rcheck/00check.log’
for details.



Installation output

biomvRCNS.Rcheck/00install.out

##############################################################################
##############################################################################
###
### Running command:
###
###   /Library/Frameworks/R.framework/Versions/Current/Resources/bin/R CMD INSTALL biomvRCNS
###
##############################################################################
##############################################################################


* installing to library ‘/Library/Frameworks/R.framework/Versions/4.0/Resources/library’
* installing *source* package ‘biomvRCNS’ ...
** using staged installation
** libs
clang -mmacosx-version-min=10.13 -I"/Library/Frameworks/R.framework/Resources/include" -DNDEBUG   -I/usr/local/include   -fPIC  -Wall -g -O2  -c biomvRCNS.c -o biomvRCNS.o
clang -mmacosx-version-min=10.13 -dynamiclib -Wl,-headerpad_max_install_names -undefined dynamic_lookup -single_module -multiply_defined suppress -L/Library/Frameworks/R.framework/Resources/lib -L/usr/local/lib -o biomvRCNS.so biomvRCNS.o -F/Library/Frameworks/R.framework/.. -framework R -Wl,-framework -Wl,CoreFoundation
installing to /Library/Frameworks/R.framework/Versions/4.0/Resources/library/00LOCK-biomvRCNS/00new/biomvRCNS/libs
** R
** data
** inst
** byte-compile and prepare package for lazy loading
** help
*** installing help indices
** building package indices
** installing vignettes
** testing if installed package can be loaded from temporary location
** checking absolute paths in shared objects and dynamic libraries
** testing if installed package can be loaded from final location
** testing if installed package keeps a record of temporary installation path
* DONE (biomvRCNS)

Tests output


Example timings

biomvRCNS.Rcheck/biomvRCNS-Ex.timings

nameusersystemelapsed
biomvRCNS-class0.0010.0010.002
biomvRGviz4.9400.0454.990
biomvRhsmm12.159 1.808 8.552
biomvRmgmr0.7920.0140.808
biomvRseg6.3040.0526.362
hsmmRun0.1650.0040.169
maxGapminRun0.0060.0010.007
regionSegAlphaNB0.1440.0010.145
regionSegCost0.0020.0000.002
simSegData0.0040.0060.010
sojournAnno0.0690.0040.073
splitFarNeighbour0.0040.0000.004