This page was generated on 2021-01-25 11:47:38 -0500 (Mon, 25 Jan 2021).
ELBOW 1.26.0 Graham Alvare , Xiangli Zhang
Snapshot Date: 2021-01-24 14:40:16 -0500 (Sun, 24 Jan 2021) |
URL: https://git.bioconductor.org/packages/ELBOW |
Branch: RELEASE_3_12 |
Last Commit: 40d6a67 |
Last Changed Date: 2020-10-27 10:54:28 -0500 (Tue, 27 Oct 2020) |
| malbec1 | Linux (Ubuntu 18.04.5 LTS) / x86_64 | OK | OK | OK | |  |
nebbiolo1 | Linux (Ubuntu 20.04.1 LTS) / x86_64 | OK | OK | OK | | |
tokay1 | Windows Server 2012 R2 Standard / x64 | OK | OK | OK | OK |  |
merida1 | macOS 10.14.6 Mojave / x86_64 | OK | OK | OK | OK |  |