Back to Multiple platform build/check report for BioC 3.12
AB[C]DEFGHIJKLMNOPQRSTUVWXYZ

BUILD report for ChIPanalyser on malbec1

This page was generated on 2020-08-13 11:19:19 -0400 (Thu, 13 Aug 2020).

TO THE DEVELOPERS/MAINTAINERS OF THE ChIPanalyser PACKAGE: Please make sure to use the following settings in order to reproduce any error or warning you see on this page.
Package 270/1885HostnameOS / ArchINSTALLBUILDCHECKBUILD BIN
ChIPanalyser 1.11.0
Patrick C.N. Martin
Snapshot Date: 2020-08-12 14:52:00 -0400 (Wed, 12 Aug 2020)
URL: https://git.bioconductor.org/packages/ChIPanalyser
Branch: master
Last Commit: e6bd584
Last Changed Date: 2020-04-27 15:09:59 -0400 (Mon, 27 Apr 2020)
malbec1 Linux (Ubuntu 18.04.4 LTS) / x86_64  OK [ OK ] OK UNNEEDED, same version exists in internal repository
nebbiolo1 Linux (Ubuntu 20.04.1 LTS) / x86_64  OK  OK  OK 
tokay1 Windows Server 2012 R2 Standard / x64  OK  OK  WARNINGS  OK UNNEEDED, same version exists in internal repository
merida1 macOS 10.14.6 Mojave / x86_64  OK  OK  OK  OK UNNEEDED, same version exists in internal repository

Summary

Package: ChIPanalyser
Version: 1.11.0
Command: /home/biocbuild/bbs-3.12-bioc/R/bin/R CMD build --keep-empty-dirs --no-resave-data ChIPanalyser
StartedAt: 2020-08-12 21:15:09 -0400 (Wed, 12 Aug 2020)
EndedAt: 2020-08-12 21:19:47 -0400 (Wed, 12 Aug 2020)
EllapsedTime: 277.2 seconds
RetCode: 0
Status:  OK 
PackageFile: ChIPanalyser_1.11.0.tar.gz
PackageFileSize: 555.4 KiB

Command output

##############################################################################
##############################################################################
###
### Running command:
###
###   /home/biocbuild/bbs-3.12-bioc/R/bin/R CMD build --keep-empty-dirs --no-resave-data ChIPanalyser
###
##############################################################################
##############################################################################


* checking for file ‘ChIPanalyser/DESCRIPTION’ ... OK
* preparing ‘ChIPanalyser’:
* checking DESCRIPTION meta-information ... OK
* installing the package to process help pages
* saving partial Rd database
* creating vignettes ... OK
* checking for LF line-endings in source and make files and shell scripts
* checking for empty or unneeded directories
* building ‘ChIPanalyser_1.11.0.tar.gz’