Back to Multiple platform build/check report for BioC 3.12
[A]BCDEFGHIJKLMNOPQRSTUVWXYZ

CHECK report for affyQCReport on merida1

This page was generated on 2020-08-13 11:48:12 -0400 (Thu, 13 Aug 2020).

TO THE DEVELOPERS/MAINTAINERS OF THE affyQCReport PACKAGE: Please make sure to use the following settings in order to reproduce any error or warning you see on this page.
Package 34/1885HostnameOS / ArchINSTALLBUILDCHECKBUILD BIN
affyQCReport 1.67.0
Craig Parman
Snapshot Date: 2020-08-12 14:52:00 -0400 (Wed, 12 Aug 2020)
URL: https://git.bioconductor.org/packages/affyQCReport
Branch: master
Last Commit: e1927bf
Last Changed Date: 2020-04-27 14:11:46 -0400 (Mon, 27 Apr 2020)
malbec1 Linux (Ubuntu 18.04.4 LTS) / x86_64  OK  OK  OK UNNEEDED, same version exists in internal repository
nebbiolo1 Linux (Ubuntu 20.04.1 LTS) / x86_64  OK  OK  OK 
tokay1 Windows Server 2012 R2 Standard / x64  OK  OK  OK  OK UNNEEDED, same version exists in internal repository
merida1 macOS 10.14.6 Mojave / x86_64  OK  OK [ OK ] OK UNNEEDED, same version exists in internal repository

Summary

Package: affyQCReport
Version: 1.67.0
Command: /Library/Frameworks/R.framework/Versions/Current/Resources/bin/R CMD check --install=check:affyQCReport.install-out.txt --library=/Library/Frameworks/R.framework/Versions/Current/Resources/library --no-vignettes --timings affyQCReport_1.67.0.tar.gz
StartedAt: 2020-08-12 22:52:09 -0400 (Wed, 12 Aug 2020)
EndedAt: 2020-08-12 22:55:06 -0400 (Wed, 12 Aug 2020)
EllapsedTime: 176.4 seconds
RetCode: 0
Status:  OK 
CheckDir: affyQCReport.Rcheck
Warnings: 0

Command output

##############################################################################
##############################################################################
###
### Running command:
###
###   /Library/Frameworks/R.framework/Versions/Current/Resources/bin/R CMD check --install=check:affyQCReport.install-out.txt --library=/Library/Frameworks/R.framework/Versions/Current/Resources/library --no-vignettes --timings affyQCReport_1.67.0.tar.gz
###
##############################################################################
##############################################################################


* using log directory ‘/Users/biocbuild/bbs-3.12-bioc/meat/affyQCReport.Rcheck’
* using R version 4.0.2 (2020-06-22)
* using platform: x86_64-apple-darwin17.0 (64-bit)
* using session charset: UTF-8
* using option ‘--no-vignettes’
* checking for file ‘affyQCReport/DESCRIPTION’ ... OK
* this is package ‘affyQCReport’ version ‘1.67.0’
* checking package namespace information ... OK
* checking package dependencies ... OK
* checking if this is a source package ... OK
* checking if there is a namespace ... OK
* checking for hidden files and directories ... OK
* checking for portable file names ... OK
* checking for sufficient/correct file permissions ... OK
* checking whether package ‘affyQCReport’ can be installed ... OK
* checking installed package size ... OK
* checking package directory ... OK
* checking ‘build’ directory ... OK
* checking DESCRIPTION meta-information ... NOTE
Packages listed in more than one of Depends, Imports, Suggests, Enhances:
  ‘affy’ ‘Biobase’ ‘lattice’
A package should be listed in only one of these fields.
* checking top-level files ... OK
* checking for left-over files ... OK
* checking index information ... OK
* checking package subdirectories ... OK
* checking R files for non-ASCII characters ... OK
* checking R files for syntax errors ... OK
* checking whether the package can be loaded ... OK
* checking whether the package can be loaded with stated dependencies ... OK
* checking whether the package can be unloaded cleanly ... OK
* checking whether the namespace can be loaded with stated dependencies ... OK
* checking whether the namespace can be unloaded cleanly ... OK
* checking dependencies in R code ... OK
* checking S3 generic/method consistency ... OK
* checking replacement functions ... OK
* checking foreign function calls ... OK
* checking R code for possible problems ... NOTE
borderQC1: warning in axis(1, label = ArrayIndex, at = seq(1 - 0.5,
  length(ArrayIndex) - 0.5), cex = 0.2): partial argument match of
  'label' to 'labels'
borderQC2: warning in axis(1, label = ArrayIndex, at = seq(1 - 0.5,
  length(ArrayIndex) - 0.5), cex = 0.2): partial argument match of
  'label' to 'labels'
correlationPlot: warning in axis(2, label = as.list(pretty(c, 10)), at
  = seq(0, 1, by = (1/(length(pretty(c, 10)) - 1)))): partial argument
  match of 'label' to 'labels'
correlationPlot: warning in axis(4, label =
  as.list(attr(object@phenoData, which = "varLabels")[1:phenodepth]),
  at = seq(1 - 0.5, phenodepth - 0.5), las = 1): partial argument match
  of 'label' to 'labels'
signalDist: warning in legend(((temppar$xaxp[2] -
  temppar$xaxp[1])/temppar$xaxp[3]) * (temppar$xaxp[3] - 1) +
  temppar$xaxp[1], temppar$yaxp[2], as.character(ArrayIndex), lt =
  1:length(ArrayIndex), col = 1:length(ArrayIndex), cex = 0.5): partial
  argument match of 'lt' to 'lty'
* checking Rd files ... OK
* checking Rd metadata ... OK
* checking Rd cross-references ... OK
* checking for missing documentation entries ... OK
* checking for code/documentation mismatches ... OK
* checking Rd \usage sections ... OK
* checking Rd contents ... OK
* checking for unstated dependencies in examples ... OK
* checking sizes of PDF files under ‘inst/doc’ ... OK
* checking files in ‘vignettes’ ... OK
* checking examples ... OK
* checking for unstated dependencies in vignettes ... OK
* checking package vignettes in ‘inst/doc’ ... OK
* checking running R code from vignettes ... SKIPPED
* checking re-building of vignette outputs ... SKIPPED
* checking PDF version of manual ... OK
* DONE

Status: 2 NOTEs
See
  ‘/Users/biocbuild/bbs-3.12-bioc/meat/affyQCReport.Rcheck/00check.log’
for details.



Installation output

affyQCReport.Rcheck/00install.out

##############################################################################
##############################################################################
###
### Running command:
###
###   /Library/Frameworks/R.framework/Versions/Current/Resources/bin/R CMD INSTALL affyQCReport
###
##############################################################################
##############################################################################


* installing to library ‘/Library/Frameworks/R.framework/Versions/4.0/Resources/library’
* installing *source* package ‘affyQCReport’ ...
** using staged installation
** R
** inst
** byte-compile and prepare package for lazy loading
** help
*** installing help indices
** building package indices
** installing vignettes
** testing if installed package can be loaded from temporary location
** testing if installed package can be loaded from final location
** testing if installed package keeps a record of temporary installation path
* DONE (affyQCReport)

Tests output


Example timings

affyQCReport.Rcheck/affyQCReport-Ex.timings

nameusersystemelapsed
QCReport0.0000.0000.001
affyQAReport0.0000.0010.001
borderQC11.1150.0311.147
borderQC20.4970.0160.515
correlationPlot3.2330.0983.337
signalDist2.7460.1092.861
titlePage0.5110.0080.521