Back to Multiple platform build/check report for BioC 3.12
AB[C]DEFGHIJKLMNOPQRSTUVWXYZ

BUILD report for CancerMutationAnalysis on tokay1

This page was generated on 2020-08-10 12:14:15 -0400 (Mon, 10 Aug 2020).

TO THE DEVELOPERS/MAINTAINERS OF THE CancerMutationAnalysis PACKAGE: Please make sure to use the following settings in order to reproduce any error or warning you see on this page.
Package 220/1882HostnameOS / ArchINSTALLBUILDCHECKBUILD BIN
CancerMutationAnalysis 1.31.0
Simina M. Boca
Snapshot Date: 2020-08-09 14:51:29 -0400 (Sun, 09 Aug 2020)
URL: https://git.bioconductor.org/packages/CancerMutationAnalysis
Branch: master
Last Commit: 251c81e
Last Changed Date: 2020-04-27 14:29:21 -0400 (Mon, 27 Apr 2020)
malbec1 Linux (Ubuntu 18.04.4 LTS) / x86_64  OK  OK  OK UNNEEDED, same version exists in internal repository
nebbiolo1 Linux (Ubuntu 20.04.1 LTS) / x86_64  OK  OK  OK 
tokay1 Windows Server 2012 R2 Standard / x64  OK [ OK ] OK  OK UNNEEDED, same version exists in internal repository
merida1 macOS 10.14.6 Mojave / x86_64  OK  OK  OK  OK UNNEEDED, same version exists in internal repository

Summary

Package: CancerMutationAnalysis
Version: 1.31.0
Command: chmod a+r CancerMutationAnalysis -R && C:\Users\biocbuild\bbs-3.12-bioc\R\bin\R.exe CMD build --keep-empty-dirs --no-resave-data CancerMutationAnalysis
StartedAt: 2020-08-09 19:46:44 -0400 (Sun, 09 Aug 2020)
EndedAt: 2020-08-09 19:48:42 -0400 (Sun, 09 Aug 2020)
EllapsedTime: 118.0 seconds
RetCode: 0
Status:  OK  
PackageFile: CancerMutationAnalysis_1.31.0.tar.gz
PackageFileSize: 8.087 MiB

Command output

##############################################################################
##############################################################################
###
### Running command:
###
###   chmod a+r CancerMutationAnalysis -R && C:\Users\biocbuild\bbs-3.12-bioc\R\bin\R.exe CMD build --keep-empty-dirs --no-resave-data CancerMutationAnalysis
###
##############################################################################
##############################################################################


* checking for file 'CancerMutationAnalysis/DESCRIPTION' ... OK
* preparing 'CancerMutationAnalysis':
* checking DESCRIPTION meta-information ... OK
* cleaning src
* installing the package to build vignettes
* creating vignettes ... OK
* cleaning src
* checking for LF line-endings in source and make files and shell scripts
* checking for empty or unneeded directories
* looking to see if a 'data/datalist' file should be added
* building 'CancerMutationAnalysis_1.31.0.tar.gz'