Back to Multiple platform build/check report for BioC 3.12
A[B]CDEFGHIJKLMNOPQRSTUVWXYZ

BUILD report for BubbleTree on malbec1

This page was generated on 2020-08-07 11:21:31 -0400 (Fri, 07 Aug 2020).

TO THE DEVELOPERS/MAINTAINERS OF THE BubbleTree PACKAGE: Please make sure to use the following settings in order to reproduce any error or warning you see on this page.
Package 204/1882HostnameOS / ArchINSTALLBUILDCHECKBUILD BIN
BubbleTree 2.19.0
Todd Creasy , Wei Zhu
Snapshot Date: 2020-08-06 14:50:46 -0400 (Thu, 06 Aug 2020)
URL: https://git.bioconductor.org/packages/BubbleTree
Branch: master
Last Commit: 50dd6a4
Last Changed Date: 2020-04-27 14:46:47 -0400 (Mon, 27 Apr 2020)
malbec1 Linux (Ubuntu 18.04.4 LTS) / x86_64  OK [ OK ] OK UNNEEDED, same version exists in internal repository
tokay1 Windows Server 2012 R2 Standard / x64  OK  OK  OK  OK UNNEEDED, same version exists in internal repository
merida1 macOS 10.14.6 Mojave / x86_64  OK  OK  OK  OK UNNEEDED, same version exists in internal repository

Summary

Package: BubbleTree
Version: 2.19.0
Command: /home/biocbuild/bbs-3.12-bioc/R/bin/R CMD build --keep-empty-dirs --no-resave-data BubbleTree
StartedAt: 2020-08-06 19:13:17 -0400 (Thu, 06 Aug 2020)
EndedAt: 2020-08-06 19:16:28 -0400 (Thu, 06 Aug 2020)
EllapsedTime: 191.5 seconds
RetCode: 0
Status:  OK 
PackageFile: BubbleTree_2.19.0.tar.gz
PackageFileSize: 27.41 MiB

Command output

##############################################################################
##############################################################################
###
### Running command:
###
###   /home/biocbuild/bbs-3.12-bioc/R/bin/R CMD build --keep-empty-dirs --no-resave-data BubbleTree
###
##############################################################################
##############################################################################


* checking for file ‘BubbleTree/DESCRIPTION’ ... OK
* preparing ‘BubbleTree’:
* checking DESCRIPTION meta-information ... OK
* installing the package to build vignettes
* creating vignettes ... OK
It is recommended to use ‘given’ instead of ‘middle’.
* checking for LF line-endings in source and make files and shell scripts
* checking for empty or unneeded directories
* looking to see if a ‘data/datalist’ file should be added
* building ‘BubbleTree_2.19.0.tar.gz’