Back to Multiple platform build/check report for BioC 3.12
[A]BCDEFGHIJKLMNOPQRSTUVWXYZ

BUILD report for arrayMvout on merida1

This page was generated on 2021-02-22 12:41:42 -0500 (Mon, 22 Feb 2021).

To the developers/maintainers of the arrayMvout package:
Please make sure to use the following settings in order to reproduce any error or warning you see on this page.
Package 83/1974HostnameOS / ArchINSTALLBUILDCHECKBUILD BIN
arrayMvout 1.48.0
V. Carey
Snapshot Date: 2021-02-21 14:52:07 -0500 (Sun, 21 Feb 2021)
URL: https://git.bioconductor.org/packages/arrayMvout
Branch: RELEASE_3_12
Last Commit: 3d9d8e4
Last Changed Date: 2020-10-27 10:34:44 -0500 (Tue, 27 Oct 2020)
malbec1Linux (Ubuntu 18.04.5 LTS) / x86_64  OK    OK    OK  UNNEEDED, same version exists in internal repository
nebbiolo1Linux (Ubuntu 20.04.2 LTS) / x86_64  OK    OK    OK  
tokay1Windows Server 2012 R2 Standard / x64  OK    OK    OK    OK  UNNEEDED, same version exists in internal repository
merida1macOS 10.14.6 Mojave / x86_64  OK    OK    OK    OK  UNNEEDED, same version exists in internal repository

Summary

Package: arrayMvout
Version: 1.48.0
Command: /Library/Frameworks/R.framework/Versions/Current/Resources/bin/R CMD build --keep-empty-dirs --no-resave-data arrayMvout
StartedAt: 2021-02-21 18:10:54 -0500 (Sun, 21 Feb 2021)
EndedAt: 2021-02-21 18:12:20 -0500 (Sun, 21 Feb 2021)
EllapsedTime: 85.7 seconds
RetCode: 0
Status:   OK  
PackageFile: arrayMvout_1.48.0.tar.gz
PackageFileSize: 581.2 KiB

Command output

##############################################################################
##############################################################################
###
### Running command:
###
###   /Library/Frameworks/R.framework/Versions/Current/Resources/bin/R CMD build --keep-empty-dirs --no-resave-data arrayMvout
###
##############################################################################
##############################################################################


* checking for file ‘arrayMvout/DESCRIPTION’ ... OK
* preparing ‘arrayMvout’:
* checking DESCRIPTION meta-information ... OK
* installing the package to build vignettes
* creating vignettes ... OK
* checking for LF line-endings in source and make files and shell scripts
* checking for empty or unneeded directories
* looking to see if a ‘data/datalist’ file should be added
* building ‘arrayMvout_1.48.0.tar.gz’