Back to Multiple platform build/check report for BioC 3.12
A[B]CDEFGHIJKLMNOPQRSTUVWXYZ

BUILD BIN report for BgeeCall on tokay1

This page was generated on 2020-08-06 12:10:52 -0400 (Thu, 06 Aug 2020).

TO THE DEVELOPERS/MAINTAINERS OF THE BgeeCall PACKAGE: Please make sure to use the following settings in order to reproduce any error or warning you see on this page.
Package 132/1882HostnameOS / ArchINSTALLBUILDCHECKBUILD BIN
BgeeCall 1.5.3
Julien Wollbrett
Snapshot Date: 2020-08-05 14:50:59 -0400 (Wed, 05 Aug 2020)
URL: https://git.bioconductor.org/packages/BgeeCall
Branch: master
Last Commit: cc52b16
Last Changed Date: 2020-06-15 13:41:33 -0400 (Mon, 15 Jun 2020)
malbec1 Linux (Ubuntu 18.04.4 LTS) / x86_64  OK  OK  WARNINGS UNNEEDED, same version exists in internal repository
tokay1 Windows Server 2012 R2 Standard / x64  OK  OK  WARNINGS [ OK ]UNNEEDED, same version exists in internal repository
merida1 macOS 10.14.6 Mojave / x86_64  OK  OK  WARNINGS  OK UNNEEDED, same version exists in internal repository

Summary

Package: BgeeCall
Version: 1.5.3
Command: rm -rf BgeeCall.buildbin-libdir && mkdir BgeeCall.buildbin-libdir && C:\Users\biocbuild\bbs-3.12-bioc\R\bin\R.exe CMD INSTALL --merge-multiarch --build --library=BgeeCall.buildbin-libdir BgeeCall_1.5.3.tar.gz
StartedAt: 2020-08-06 08:46:44 -0400 (Thu, 06 Aug 2020)
EndedAt: 2020-08-06 08:48:05 -0400 (Thu, 06 Aug 2020)
EllapsedTime: 80.4 seconds
RetCode: 0
Status:  OK  
PackageFile: BgeeCall_1.5.3.zip
PackageFileSize: 5.904 MiB

Command output

##############################################################################
##############################################################################
###
### Running command:
###
###   rm -rf BgeeCall.buildbin-libdir && mkdir BgeeCall.buildbin-libdir && C:\Users\biocbuild\bbs-3.12-bioc\R\bin\R.exe CMD INSTALL --merge-multiarch --build --library=BgeeCall.buildbin-libdir BgeeCall_1.5.3.tar.gz
###
##############################################################################
##############################################################################



install for i386

* installing *source* package 'BgeeCall' ...
** using staged installation
** R
** inst
** byte-compile and prepare package for lazy loading
** help
*** installing help indices
  converting help for package 'BgeeCall'
    finding HTML links ... done
    AbundanceMetadata-class                 html  
    BgeeCall                                html  
    BgeeMetadata-class                      html  
    KallistoMetadata-class                  html  
    UserMetadata-class                      html  
    create_kallisto_index                   html  
    download_fasta_intergenic               html  
    download_kallisto                       html  
    generate_calls_workflow                 html  
    generate_presence_absence               html  
    generate_slurm_calls                    html  
    generate_slurm_indexes                  html  
    getIntergenicPrefix                     html  
    getIntergenicRelease                    html  
    getRunIds                               html  
    getSimpleArborescence                   html  
    getWorkingPath                          html  
    list_bgee_ref_intergenic_species        html  
    list_community_ref_intergenic_species   html  
    list_intergenic_release                 html  
    merge_transcriptome_and_intergenic      html  
    run_kallisto                            html  
    run_tximport                            html  
    setAnnotationFromFile                   html  
    setAnnotationFromObject                 html  
    setIntergenicRelease                    html  
    setOutputDir                            html  
    setRNASeqLibPath                        html  
    setRunIds                               html  
    setSimpleArborescence                   html  
    setTranscriptomeFromFile                html  
    setTranscriptomeFromObject              html  
    setWorkingPath                          html  
** building package indices
** installing vignettes
** testing if installed package can be loaded from temporary location
** testing if installed package can be loaded from final location
** testing if installed package keeps a record of temporary installation path

install for x64

* installing *source* package 'BgeeCall' ...
** testing if installed package can be loaded
* MD5 sums
packaged installation of 'BgeeCall' as BgeeCall_1.5.3.zip
* DONE (BgeeCall)