Back to Multiple platform build/check report for BioC 3.12
ABCDEFGHIJKLMNOPQ[R]STUVWXYZ

BUILD BIN report for rTRM on merida1

This page was generated on 2021-01-19 11:58:24 -0500 (Tue, 19 Jan 2021).

TO THE DEVELOPERS/MAINTAINERS OF THE rTRM PACKAGE: Please make sure to use the following settings in order to reproduce any error or warning you see on this page.
Package 1600/1974HostnameOS / ArchINSTALLBUILDCHECKBUILD BIN
rTRM 1.28.0
Diego Diez
Snapshot Date: 2021-01-18 14:42:24 -0500 (Mon, 18 Jan 2021)
URL: https://git.bioconductor.org/packages/rTRM
Branch: RELEASE_3_12
Last Commit: 2908ebc
Last Changed Date: 2020-10-27 10:51:24 -0500 (Tue, 27 Oct 2020)
malbec1 Linux (Ubuntu 18.04.5 LTS) / x86_64  OK  OK  OK UNNEEDED, same version exists in internal repository
nebbiolo1 Linux (Ubuntu 20.04.1 LTS) / x86_64  OK  OK  OK 
tokay1 Windows Server 2012 R2 Standard / x64  OK  OK  OK  OK UNNEEDED, same version exists in internal repository
merida1 macOS 10.14.6 Mojave / x86_64  OK  OK  OK [ OK ]UNNEEDED, same version exists in internal repository

Summary

Package: rTRM
Version: 1.28.0
Command: rm -rf rTRM.buildbin-libdir && mkdir rTRM.buildbin-libdir && /Users/biocbuild/BBS/utils/build-universal.sh rTRM_1.28.0.tar.gz /Library/Frameworks/R.framework/Versions/Current/Resources/bin/R rTRM.buildbin-libdir
StartedAt: 2021-01-19 10:03:22 -0500 (Tue, 19 Jan 2021)
EndedAt: 2021-01-19 10:04:32 -0500 (Tue, 19 Jan 2021)
EllapsedTime: 69.7 seconds
RetCode: 0
Status:  OK 
PackageFile: rTRM_1.28.0.tgz
PackageFileSize: 3.02 MiB

Command output

##############################################################################
##############################################################################
###
### Running command:
###
###   rm -rf rTRM.buildbin-libdir && mkdir rTRM.buildbin-libdir && /Users/biocbuild/BBS/utils/build-universal.sh rTRM_1.28.0.tar.gz /Library/Frameworks/R.framework/Versions/Current/Resources/bin/R rTRM.buildbin-libdir
###
##############################################################################
##############################################################################


>>>>>>> 
>>>>>>> INSTALLATION WITH 'R CMD INSTALL --preclean --no-multiarch --library=rTRM.buildbin-libdir rTRM_1.28.0.tar.gz'
>>>>>>> 

* installing *source* package ‘rTRM’ ...
** using staged installation
** R
** data
** inst
** byte-compile and prepare package for lazy loading
** help
Loading required package: igraph

Attaching package: ‘igraph’

The following objects are masked from ‘package:stats’:

    decompose, spectrum

The following object is masked from ‘package:base’:

    union

*** installing help indices
** building package indices
** installing vignettes
** testing if installed package can be loaded from temporary location
** testing if installed package can be loaded from final location
** testing if installed package keeps a record of temporary installation path
* DONE (rTRM)