Back to Multiple platform build/check report for BioC 3.12 |
|
This page was generated on 2021-05-06 12:32:42 -0400 (Thu, 06 May 2021).
To the developers/maintainers of the pathRender package: Please make sure to use the following settings in order to reproduce any error or warning you see on this page. |
Package 1307/1974 | Hostname | OS / Arch | INSTALL | BUILD | CHECK | BUILD BIN | ||||||||
pathRender 1.58.0 (landing page) Vince Carey
| malbec1 | Linux (Ubuntu 18.04.5 LTS) / x86_64 | OK | OK | OK | |||||||||
tokay1 | Windows Server 2012 R2 Standard / x64 | OK | OK | OK | OK | |||||||||
merida1 | macOS 10.14.6 Mojave / x86_64 | OK | OK | OK | OK | |||||||||
Package: pathRender |
Version: 1.58.0 |
Command: C:\cygwin\bin\curl.exe -O http://172.29.0.3/BBS/3.12/bioc/src/contrib/pathRender_1.58.0.tar.gz && rm -rf pathRender.buildbin-libdir && mkdir pathRender.buildbin-libdir && C:\Users\biocbuild\bbs-3.12-bioc\R\bin\R.exe CMD INSTALL --merge-multiarch --build --library=pathRender.buildbin-libdir pathRender_1.58.0.tar.gz && C:\Users\biocbuild\bbs-3.12-bioc\R\bin\R.exe CMD INSTALL pathRender_1.58.0.zip && rm pathRender_1.58.0.tar.gz pathRender_1.58.0.zip |
StartedAt: 2021-05-05 17:13:52 -0400 (Wed, 05 May 2021) |
EndedAt: 2021-05-05 17:14:23 -0400 (Wed, 05 May 2021) |
EllapsedTime: 30.8 seconds |
RetCode: 0 |
Status: OK |
############################################################################## ############################################################################## ### ### Running command: ### ### C:\cygwin\bin\curl.exe -O http://172.29.0.3/BBS/3.12/bioc/src/contrib/pathRender_1.58.0.tar.gz && rm -rf pathRender.buildbin-libdir && mkdir pathRender.buildbin-libdir && C:\Users\biocbuild\bbs-3.12-bioc\R\bin\R.exe CMD INSTALL --merge-multiarch --build --library=pathRender.buildbin-libdir pathRender_1.58.0.tar.gz && C:\Users\biocbuild\bbs-3.12-bioc\R\bin\R.exe CMD INSTALL pathRender_1.58.0.zip && rm pathRender_1.58.0.tar.gz pathRender_1.58.0.zip ### ############################################################################## ############################################################################## % Total % Received % Xferd Average Speed Time Time Time Current Dload Upload Total Spent Left Speed 0 0 0 0 0 0 0 0 --:--:-- --:--:-- --:--:-- 0 100 12608 100 12608 0 0 939k 0 --:--:-- --:--:-- --:--:-- 1026k install for i386 * installing *source* package 'pathRender' ... ** using staged installation ** R ** inst ** byte-compile and prepare package for lazy loading ** help *** installing help indices converting help for package 'pathRender' finding HTML links ... done colorNodes html coloredGraph-class html graphcMAP html plotExGraph html pwayGraph-class html reduceES html rendercMAP html ** building package indices ** installing vignettes ** testing if installed package can be loaded from temporary location ** testing if installed package can be loaded from final location ** testing if installed package keeps a record of temporary installation path install for x64 * installing *source* package 'pathRender' ... ** testing if installed package can be loaded * MD5 sums packaged installation of 'pathRender' as pathRender_1.58.0.zip * DONE (pathRender) * installing to library 'C:/Users/biocbuild/bbs-3.12-bioc/R/library' package 'pathRender' successfully unpacked and MD5 sums checked