Back to Multiple platform build/check report for BioC 3.12
[A]BCDEFGHIJKLMNOPQRSTUVWXYZ

BUILD report for appreci8R on merida1

This page was generated on 2020-08-10 12:42:53 -0400 (Mon, 10 Aug 2020).

TO THE DEVELOPERS/MAINTAINERS OF THE appreci8R PACKAGE: Please make sure to use the following settings in order to reproduce any error or warning you see on this page.
Package 73/1882HostnameOS / ArchINSTALLBUILDCHECKBUILD BIN
appreci8R 1.7.0
Sarah Sandmann
Snapshot Date: 2020-08-09 14:51:29 -0400 (Sun, 09 Aug 2020)
URL: https://git.bioconductor.org/packages/appreci8R
Branch: master
Last Commit: 8474b30
Last Changed Date: 2020-04-27 15:18:01 -0400 (Mon, 27 Apr 2020)
malbec1 Linux (Ubuntu 18.04.4 LTS) / x86_64  OK  OK  OK UNNEEDED, same version exists in internal repository
nebbiolo1 Linux (Ubuntu 20.04.1 LTS) / x86_64  OK  OK  OK 
tokay1 Windows Server 2012 R2 Standard / x64  OK  OK  OK  OK UNNEEDED, same version exists in internal repository
merida1 macOS 10.14.6 Mojave / x86_64  OK [ OK ] OK  OK UNNEEDED, same version exists in internal repository

Summary

Package: appreci8R
Version: 1.7.0
Command: /Library/Frameworks/R.framework/Versions/Current/Resources/bin/R CMD build --keep-empty-dirs --no-resave-data appreci8R
StartedAt: 2020-08-09 20:59:03 -0400 (Sun, 09 Aug 2020)
EndedAt: 2020-08-09 21:02:39 -0400 (Sun, 09 Aug 2020)
EllapsedTime: 215.8 seconds
RetCode: 0
Status:  OK 
PackageFile: appreci8R_1.7.0.tar.gz
PackageFileSize: 938.3 KiB

Command output

##############################################################################
##############################################################################
###
### Running command:
###
###   /Library/Frameworks/R.framework/Versions/Current/Resources/bin/R CMD build --keep-empty-dirs --no-resave-data appreci8R
###
##############################################################################
##############################################################################


* checking for file ‘appreci8R/DESCRIPTION’ ... OK
* preparing ‘appreci8R’:
* checking DESCRIPTION meta-information ... OK
* installing the package to process help pages
* saving partial Rd database
* creating vignettes ... OK
* checking for LF line-endings in source and make files and shell scripts
* checking for empty or unneeded directories
* building ‘appreci8R_1.7.0.tar.gz’