Back to Multiple platform build/check report for BioC 3.12
A[B]CDEFGHIJKLMNOPQRSTUVWXYZ

BUILD report for BiocSingular on tokay1

This page was generated on 2020-08-13 11:44:58 -0400 (Thu, 13 Aug 2020).

TO THE DEVELOPERS/MAINTAINERS OF THE BiocSingular PACKAGE: Please make sure to use the following settings in order to reproduce any error or warning you see on this page.
Package 160/1885HostnameOS / ArchINSTALLBUILDCHECKBUILD BIN
BiocSingular 1.5.0
Aaron Lun
Snapshot Date: 2020-08-12 14:52:00 -0400 (Wed, 12 Aug 2020)
URL: https://git.bioconductor.org/packages/BiocSingular
Branch: master
Last Commit: 8e5c260
Last Changed Date: 2020-04-27 15:23:30 -0400 (Mon, 27 Apr 2020)
malbec1 Linux (Ubuntu 18.04.4 LTS) / x86_64  OK  OK  OK UNNEEDED, same version exists in internal repository
nebbiolo1 Linux (Ubuntu 20.04.1 LTS) / x86_64  OK  OK  OK 
tokay1 Windows Server 2012 R2 Standard / x64  OK [ OK ] OK  OK UNNEEDED, same version exists in internal repository
merida1 macOS 10.14.6 Mojave / x86_64  OK  OK  OK  OK UNNEEDED, same version exists in internal repository

Summary

Package: BiocSingular
Version: 1.5.0
Command: chmod a+r BiocSingular -R && C:\Users\biocbuild\bbs-3.12-bioc\R\bin\R.exe CMD build --keep-empty-dirs --no-resave-data BiocSingular
StartedAt: 2020-08-12 22:44:04 -0400 (Wed, 12 Aug 2020)
EndedAt: 2020-08-12 22:45:52 -0400 (Wed, 12 Aug 2020)
EllapsedTime: 108.2 seconds
RetCode: 0
Status:  OK  
PackageFile: BiocSingular_1.5.0.tar.gz
PackageFileSize: 590.4 KiB

Command output

##############################################################################
##############################################################################
###
### Running command:
###
###   chmod a+r BiocSingular -R && C:\Users\biocbuild\bbs-3.12-bioc\R\bin\R.exe CMD build --keep-empty-dirs --no-resave-data BiocSingular
###
##############################################################################
##############################################################################


* checking for file 'BiocSingular/DESCRIPTION' ... OK
* preparing 'BiocSingular':
* checking DESCRIPTION meta-information ... OK
* cleaning src
* installing the package to build vignettes
* creating vignettes ... OK
* cleaning src
* checking for LF line-endings in source and make files and shell scripts
* checking for empty or unneeded directories
* building 'BiocSingular_1.5.0.tar.gz'