Back to Multiple platform build/check report for BioC 3.12
A[B]CDEFGHIJKLMNOPQRSTUVWXYZ

INSTALL report for bacon on merida1

This page was generated on 2020-10-14 11:23:37 -0400 (Wed, 14 Oct 2020).

TO THE DEVELOPERS/MAINTAINERS OF THE bacon PACKAGE: Please make sure to use the following settings in order to reproduce any error or warning you see on this page.
Package 103/1930HostnameOS / ArchINSTALLBUILDCHECKBUILD BIN
bacon 1.17.0
Maarten van Iterson
Snapshot Date: 2020-10-13 14:40:34 -0400 (Tue, 13 Oct 2020)
URL: https://git.bioconductor.org/packages/bacon
Branch: master
Last Commit: 8c61588
Last Changed Date: 2020-04-27 14:55:31 -0400 (Mon, 27 Apr 2020)
malbec1 Linux (Ubuntu 18.04.4 LTS) / x86_64  OK  OK  OK UNNEEDED, same version exists in internal repository
nebbiolo1 Linux (Ubuntu 20.04.1 LTS) / x86_64  OK  OK  OK 
tokay1 Windows Server 2012 R2 Standard / x64  OK  OK  OK  OK UNNEEDED, same version exists in internal repository
riesling1 Windows Server 2019 Standard / x64  OK  OK  OK  OK 
merida1 macOS 10.14.6 Mojave / x86_64 [ OK ] OK  OK  OK UNNEEDED, same version exists in internal repository

Summary

Package: bacon
Version: 1.17.0
Command: /Library/Frameworks/R.framework/Versions/Current/Resources/bin/R CMD INSTALL bacon
StartedAt: 2020-10-13 17:00:47 -0400 (Tue, 13 Oct 2020)
EndedAt: 2020-10-13 17:01:07 -0400 (Tue, 13 Oct 2020)
EllapsedTime: 19.7 seconds
RetCode: 0
Status:  OK 

Command output

##############################################################################
##############################################################################
###
### Running command:
###
###   /Library/Frameworks/R.framework/Versions/Current/Resources/bin/R CMD INSTALL bacon
###
##############################################################################
##############################################################################


* installing to library ‘/Library/Frameworks/R.framework/Versions/4.0/Resources/library’
* installing *source* package ‘bacon’ ...
** using staged installation
** libs
clang -mmacosx-version-min=10.13 -I"/Library/Frameworks/R.framework/Resources/include" -DNDEBUG   -I/usr/local/include   -fPIC  -Wall -g -O2  -c Rinit.c -o Rinit.o
Rinit.c:11:3: warning: suggest braces around initialization of subobject [-Wmissing-braces]
  NULL
  ^~~~
  {   }
/Library/Developer/CommandLineTools/usr/lib/clang/11.0.0/include/stddef.h:105:16: note: expanded from macro 'NULL'
#  define NULL ((void*)0)
               ^~~~~~~~~~
1 warning generated.
clang -mmacosx-version-min=10.13 -I"/Library/Frameworks/R.framework/Resources/include" -DNDEBUG   -I/usr/local/include   -fPIC  -Wall -g -O2  -c bacon.c -o bacon.o
clang -mmacosx-version-min=10.13 -dynamiclib -Wl,-headerpad_max_install_names -undefined dynamic_lookup -single_module -multiply_defined suppress -L/Library/Frameworks/R.framework/Resources/lib -L/usr/local/lib -o bacon.so Rinit.o bacon.o -F/Library/Frameworks/R.framework/.. -framework R -Wl,-framework -Wl,CoreFoundation
installing to /Library/Frameworks/R.framework/Versions/4.0/Resources/library/00LOCK-bacon/00new/bacon/libs
** R
** inst
** byte-compile and prepare package for lazy loading
** help
*** installing help indices
** building package indices
** installing vignettes
** testing if installed package can be loaded from temporary location
** checking absolute paths in shared objects and dynamic libraries
** testing if installed package can be loaded from final location
** testing if installed package keeps a record of temporary installation path
* DONE (bacon)