Back to Multiple platform build/check report for BioC 3.12
AB[C]DEFGHIJKLMNOPQRSTUVWXYZ

BUILD BIN report for CCPROMISE on merida1

This page was generated on 2021-02-22 12:42:03 -0500 (Mon, 22 Feb 2021).

To the developers/maintainers of the CCPROMISE package:
Please make sure to use the following settings in order to reproduce any error or warning you see on this page.
Package 245/1974HostnameOS / ArchINSTALLBUILDCHECKBUILD BIN
CCPROMISE 1.16.0
Xueyuan Cao
Snapshot Date: 2021-02-21 14:52:07 -0500 (Sun, 21 Feb 2021)
URL: https://git.bioconductor.org/packages/CCPROMISE
Branch: RELEASE_3_12
Last Commit: f273cb2
Last Changed Date: 2020-10-27 11:19:17 -0500 (Tue, 27 Oct 2020)
malbec1Linux (Ubuntu 18.04.5 LTS) / x86_64  OK    OK    WARNINGS  UNNEEDED, same version exists in internal repository
nebbiolo1Linux (Ubuntu 20.04.2 LTS) / x86_64  OK    OK    WARNINGS  
tokay1Windows Server 2012 R2 Standard / x64  OK    OK    WARNINGS    OK  UNNEEDED, same version exists in internal repository
merida1macOS 10.14.6 Mojave / x86_64  OK    OK    WARNINGS    OK  UNNEEDED, same version exists in internal repository

Summary

Package: CCPROMISE
Version: 1.16.0
Command: rm -rf CCPROMISE.buildbin-libdir && mkdir CCPROMISE.buildbin-libdir && /Users/biocbuild/BBS/utils/build-universal.sh CCPROMISE_1.16.0.tar.gz /Library/Frameworks/R.framework/Versions/Current/Resources/bin/R CCPROMISE.buildbin-libdir
StartedAt: 2021-02-22 08:07:45 -0500 (Mon, 22 Feb 2021)
EndedAt: 2021-02-22 08:08:42 -0500 (Mon, 22 Feb 2021)
EllapsedTime: 56.4 seconds
RetCode: 0
Status:   OK  
PackageFile: CCPROMISE_1.16.0.tgz
PackageFileSize: 1.118 MiB

Command output

##############################################################################
##############################################################################
###
### Running command:
###
###   rm -rf CCPROMISE.buildbin-libdir && mkdir CCPROMISE.buildbin-libdir && /Users/biocbuild/BBS/utils/build-universal.sh CCPROMISE_1.16.0.tar.gz /Library/Frameworks/R.framework/Versions/Current/Resources/bin/R CCPROMISE.buildbin-libdir
###
##############################################################################
##############################################################################


>>>>>>> 
>>>>>>> INSTALLATION WITH 'R CMD INSTALL --preclean --no-multiarch --library=CCPROMISE.buildbin-libdir CCPROMISE_1.16.0.tar.gz'
>>>>>>> 

* installing *source* package ‘CCPROMISE’ ...
** using staged installation
** R
** data
** inst
** byte-compile and prepare package for lazy loading
Note: break used in wrong context: no loop is visible 
Note: break used in wrong context: no loop is visible 
Note: break used in wrong context: no loop is visible 
Note: break used in wrong context: no loop is visible 
** help
*** installing help indices
** building package indices
** installing vignettes
** testing if installed package can be loaded from temporary location
** testing if installed package can be loaded from final location
** testing if installed package keeps a record of temporary installation path
* DONE (CCPROMISE)