Back to Multiple platform build/check report for BioC 3.12 |
|
This page was generated on 2021-01-25 11:48:00 -0500 (Mon, 25 Jan 2021).
TO THE DEVELOPERS/MAINTAINERS OF THE AgiMicroRna PACKAGE: Please make sure to use the following settings in order to reproduce any error or warning you see on this page. |
Package 40/1974 | Hostname | OS / Arch | INSTALL | BUILD | CHECK | BUILD BIN | ||||||
AgiMicroRna 2.40.0 Pedro Lopez-Romero
| malbec1 | Linux (Ubuntu 18.04.5 LTS) / x86_64 | [ OK ] | OK | OK | ![]() | ||||||
nebbiolo1 | Linux (Ubuntu 20.04.1 LTS) / x86_64 | OK | OK | OK | ||||||||
tokay1 | Windows Server 2012 R2 Standard / x64 | OK | OK | OK | OK | ![]() | ||||||
merida1 | macOS 10.14.6 Mojave / x86_64 | OK | OK | OK | ERROR |
Package: AgiMicroRna |
Version: 2.40.0 |
Command: /home/biocbuild/bbs-3.12-bioc/R/bin/R CMD INSTALL AgiMicroRna |
StartedAt: 2021-01-24 17:11:10 -0500 (Sun, 24 Jan 2021) |
EndedAt: 2021-01-24 17:12:23 -0500 (Sun, 24 Jan 2021) |
EllapsedTime: 73.7 seconds |
RetCode: 0 |
Status: OK |
############################################################################## ############################################################################## ### ### Running command: ### ### /home/biocbuild/bbs-3.12-bioc/R/bin/R CMD INSTALL AgiMicroRna ### ############################################################################## ############################################################################## * installing to library ‘/home/biocbuild/bbs-3.12-bioc/R/library’ * installing *source* package ‘AgiMicroRna’ ... ** using staged installation ** R ** data ** byte-compile and prepare package for lazy loading ** help *** installing help indices ** building package indices ** installing vignettes ** testing if installed package can be loaded from temporary location ** testing if installed package can be loaded from final location ** testing if installed package keeps a record of temporary installation path * DONE (AgiMicroRna)