Back to Multiple platform build/check report for BioC 3.12
AB[C]DEFGHIJKLMNOPQRSTUVWXYZ

BUILD report for CEMiTool on malbec1

This page was generated on 2020-08-11 11:23:47 -0400 (Tue, 11 Aug 2020).

TO THE DEVELOPERS/MAINTAINERS OF THE CEMiTool PACKAGE: Please make sure to use the following settings in order to reproduce any error or warning you see on this page.
Package 250/1885HostnameOS / ArchINSTALLBUILDCHECKBUILD BIN
CEMiTool 1.13.1
Helder Nakaya
Snapshot Date: 2020-08-10 14:50:56 -0400 (Mon, 10 Aug 2020)
URL: https://git.bioconductor.org/packages/CEMiTool
Branch: master
Last Commit: 18c5654
Last Changed Date: 2020-07-02 12:14:01 -0400 (Thu, 02 Jul 2020)
malbec1 Linux (Ubuntu 18.04.4 LTS) / x86_64  OK [ OK ] OK UNNEEDED, same version exists in internal repository
nebbiolo1 Linux (Ubuntu 20.04.1 LTS) / x86_64  OK  OK  NA 
tokay1 Windows Server 2012 R2 Standard / x64  OK  OK  OK  OK UNNEEDED, same version exists in internal repository
merida1 macOS 10.14.6 Mojave / x86_64  OK  OK  OK  OK UNNEEDED, same version exists in internal repository

Summary

Package: CEMiTool
Version: 1.13.1
Command: /home/biocbuild/bbs-3.12-bioc/R/bin/R CMD build --keep-empty-dirs --no-resave-data CEMiTool
StartedAt: 2020-08-10 20:39:35 -0400 (Mon, 10 Aug 2020)
EndedAt: 2020-08-10 20:41:39 -0400 (Mon, 10 Aug 2020)
EllapsedTime: 124.0 seconds
RetCode: 0
Status:  OK 
PackageFile: CEMiTool_1.13.1.tar.gz
PackageFileSize: 5.417 MiB

Command output

##############################################################################
##############################################################################
###
### Running command:
###
###   /home/biocbuild/bbs-3.12-bioc/R/bin/R CMD build --keep-empty-dirs --no-resave-data CEMiTool
###
##############################################################################
##############################################################################


* checking for file ‘CEMiTool/DESCRIPTION’ ... OK
* preparing ‘CEMiTool’:
* checking DESCRIPTION meta-information ... OK
* installing the package to build vignettes
* creating vignettes ... OK
* checking for LF line-endings in source and make files and shell scripts
* checking for empty or unneeded directories
* building ‘CEMiTool_1.13.1.tar.gz’