Back to Multiple platform build/check report for BioC 3.12
[A]BCDEFGHIJKLMNOPQRSTUVWXYZ

BUILD report for AnnotationDbi on malbec1

This page was generated on 2020-08-07 11:15:45 -0400 (Fri, 07 Aug 2020).

TO THE DEVELOPERS/MAINTAINERS OF THE AnnotationDbi PACKAGE: Please make sure to use the following settings in order to reproduce any error or warning you see on this page.
Package 58/1882HostnameOS / ArchINSTALLBUILDCHECKBUILD BIN
AnnotationDbi 1.51.3
Bioconductor Package Maintainer
Snapshot Date: 2020-08-06 14:50:46 -0400 (Thu, 06 Aug 2020)
URL: https://git.bioconductor.org/packages/AnnotationDbi
Branch: master
Last Commit: cb334af
Last Changed Date: 2020-07-24 15:10:07 -0400 (Fri, 24 Jul 2020)
malbec1 Linux (Ubuntu 18.04.4 LTS) / x86_64  OK [ OK ] OK UNNEEDED, same version exists in internal repository
tokay1 Windows Server 2012 R2 Standard / x64  OK  OK  OK  OK UNNEEDED, same version exists in internal repository
merida1 macOS 10.14.6 Mojave / x86_64  OK  OK  OK  OK UNNEEDED, same version exists in internal repository

Summary

Package: AnnotationDbi
Version: 1.51.3
Command: /home/biocbuild/bbs-3.12-bioc/R/bin/R CMD build --keep-empty-dirs --no-resave-data AnnotationDbi
StartedAt: 2020-08-06 17:39:40 -0400 (Thu, 06 Aug 2020)
EndedAt: 2020-08-06 17:40:41 -0400 (Thu, 06 Aug 2020)
EllapsedTime: 60.9 seconds
RetCode: 0
Status:  OK 
PackageFile: AnnotationDbi_1.51.3.tar.gz
PackageFileSize: 4.138 MiB

Command output

##############################################################################
##############################################################################
###
### Running command:
###
###   /home/biocbuild/bbs-3.12-bioc/R/bin/R CMD build --keep-empty-dirs --no-resave-data AnnotationDbi
###
##############################################################################
##############################################################################


* checking for file ‘AnnotationDbi/DESCRIPTION’ ... OK
* preparing ‘AnnotationDbi’:
* checking DESCRIPTION meta-information ... OK
* installing the package to build vignettes
* creating vignettes ... OK
* checking for LF line-endings in source and make files and shell scripts
* checking for empty or unneeded directories
* building ‘AnnotationDbi_1.51.3.tar.gz’