Back to Multiple platform build/check report for BioC 3.12
ABCDEFGHIJKL[M]NOPQRSTUVWXYZ

BUILD BIN report for multiClust on merida1

This page was generated on 2021-01-25 11:56:22 -0500 (Mon, 25 Jan 2021).

TO THE DEVELOPERS/MAINTAINERS OF THE multiClust PACKAGE: Please make sure to use the following settings in order to reproduce any error or warning you see on this page.
Package 1176/1974HostnameOS / ArchINSTALLBUILDCHECKBUILD BIN
multiClust 1.20.0
Nathan Lawlor
Snapshot Date: 2021-01-24 14:40:16 -0500 (Sun, 24 Jan 2021)
URL: https://git.bioconductor.org/packages/multiClust
Branch: RELEASE_3_12
Last Commit: 4aec467
Last Changed Date: 2020-10-27 11:09:35 -0500 (Tue, 27 Oct 2020)
malbec1 Linux (Ubuntu 18.04.5 LTS) / x86_64  OK  OK  OK UNNEEDED, same version exists in internal repository
nebbiolo1 Linux (Ubuntu 20.04.1 LTS) / x86_64  OK  OK  OK 
tokay1 Windows Server 2012 R2 Standard / x64  OK  OK  OK  OK UNNEEDED, same version exists in internal repository
merida1 macOS 10.14.6 Mojave / x86_64  OK  OK  OK [ OK ]UNNEEDED, same version exists in internal repository

Summary

Package: multiClust
Version: 1.20.0
Command: rm -rf multiClust.buildbin-libdir && mkdir multiClust.buildbin-libdir && /Users/biocbuild/BBS/utils/build-universal.sh multiClust_1.20.0.tar.gz /Library/Frameworks/R.framework/Versions/Current/Resources/bin/R multiClust.buildbin-libdir
StartedAt: 2021-01-25 08:44:36 -0500 (Mon, 25 Jan 2021)
EndedAt: 2021-01-25 08:45:58 -0500 (Mon, 25 Jan 2021)
EllapsedTime: 81.4 seconds
RetCode: 0
Status:  OK 
PackageFile: multiClust_1.20.0.tgz
PackageFileSize: 2.975 MiB

Command output

##############################################################################
##############################################################################
###
### Running command:
###
###   rm -rf multiClust.buildbin-libdir && mkdir multiClust.buildbin-libdir && /Users/biocbuild/BBS/utils/build-universal.sh multiClust_1.20.0.tar.gz /Library/Frameworks/R.framework/Versions/Current/Resources/bin/R multiClust.buildbin-libdir
###
##############################################################################
##############################################################################


>>>>>>> 
>>>>>>> INSTALLATION WITH 'R CMD INSTALL --preclean --no-multiarch --library=multiClust.buildbin-libdir multiClust_1.20.0.tar.gz'
>>>>>>> 

* installing *source* package ‘multiClust’ ...
** using staged installation
** R
** inst
** byte-compile and prepare package for lazy loading
** help
*** installing help indices
** building package indices
** installing vignettes
** testing if installed package can be loaded from temporary location
** testing if installed package can be loaded from final location
** testing if installed package keeps a record of temporary installation path
* DONE (multiClust)