Back to Multiple platform build/check report for BioC 3.12
A[B]CDEFGHIJKLMNOPQRSTUVWXYZ

BUILD BIN report for biotmle on merida1

This page was generated on 2020-08-10 12:40:40 -0400 (Mon, 10 Aug 2020).

TO THE DEVELOPERS/MAINTAINERS OF THE biotmle PACKAGE: Please make sure to use the following settings in order to reproduce any error or warning you see on this page.
Package 179/1882HostnameOS / ArchINSTALLBUILDCHECKBUILD BIN
biotmle 1.13.0
Nima Hejazi
Snapshot Date: 2020-08-09 14:51:29 -0400 (Sun, 09 Aug 2020)
URL: https://git.bioconductor.org/packages/biotmle
Branch: master
Last Commit: 971f15b
Last Changed Date: 2020-04-27 15:07:19 -0400 (Mon, 27 Apr 2020)
malbec1 Linux (Ubuntu 18.04.4 LTS) / x86_64  OK  OK  OK UNNEEDED, same version exists in internal repository
nebbiolo1 Linux (Ubuntu 20.04.1 LTS) / x86_64  OK  OK  OK 
tokay1 Windows Server 2012 R2 Standard / x64  OK  OK  WARNINGS  OK UNNEEDED, same version exists in internal repository
merida1 macOS 10.14.6 Mojave / x86_64  OK  OK  OK [ OK ]UNNEEDED, same version exists in internal repository

Summary

Package: biotmle
Version: 1.13.0
Command: rm -rf biotmle.buildbin-libdir && mkdir biotmle.buildbin-libdir && /Users/biocbuild/BBS/utils/build-universal.sh biotmle_1.13.0.tar.gz /Library/Frameworks/R.framework/Versions/Current/Resources/bin/R biotmle.buildbin-libdir
StartedAt: 2020-08-10 07:17:53 -0400 (Mon, 10 Aug 2020)
EndedAt: 2020-08-10 07:18:45 -0400 (Mon, 10 Aug 2020)
EllapsedTime: 52.1 seconds
RetCode: 0
Status:  OK 
PackageFile: biotmle_1.13.0.tgz
PackageFileSize: 311.6 KiB

Command output

##############################################################################
##############################################################################
###
### Running command:
###
###   rm -rf biotmle.buildbin-libdir && mkdir biotmle.buildbin-libdir && /Users/biocbuild/BBS/utils/build-universal.sh biotmle_1.13.0.tar.gz /Library/Frameworks/R.framework/Versions/Current/Resources/bin/R biotmle.buildbin-libdir
###
##############################################################################
##############################################################################


>>>>>>> 
>>>>>>> INSTALLATION WITH 'R CMD INSTALL --preclean --no-multiarch --library=biotmle.buildbin-libdir biotmle_1.13.0.tar.gz'
>>>>>>> 

* installing *source* package ‘biotmle’ ...
** using staged installation
** R
** inst
** byte-compile and prepare package for lazy loading
** help
*** installing help indices
** building package indices
** installing vignettes
** testing if installed package can be loaded from temporary location
** testing if installed package can be loaded from final location
** testing if installed package keeps a record of temporary installation path
* DONE (biotmle)