Back to Multiple platform build/check report for BioC 3.12
A[B]CDEFGHIJKLMNOPQRSTUVWXYZ

INSTALL report for biomformat on merida1

This page was generated on 2020-08-07 12:33:41 -0400 (Fri, 07 Aug 2020).

TO THE DEVELOPERS/MAINTAINERS OF THE biomformat PACKAGE: Please make sure to use the following settings in order to reproduce any error or warning you see on this page.
Package 168/1882HostnameOS / ArchINSTALLBUILDCHECKBUILD BIN
biomformat 1.17.0
Paul J. McMurdie
Snapshot Date: 2020-08-06 14:50:46 -0400 (Thu, 06 Aug 2020)
URL: https://git.bioconductor.org/packages/biomformat
Branch: master
Last Commit: 8291a5b
Last Changed Date: 2020-04-27 14:53:04 -0400 (Mon, 27 Apr 2020)
malbec1 Linux (Ubuntu 18.04.4 LTS) / x86_64  OK  OK  WARNINGS UNNEEDED, same version exists in internal repository
tokay1 Windows Server 2012 R2 Standard / x64  OK  OK  WARNINGS  OK UNNEEDED, same version exists in internal repository
merida1 macOS 10.14.6 Mojave / x86_64 [ OK ] OK  WARNINGS  OK UNNEEDED, same version exists in internal repository

Summary

Package: biomformat
Version: 1.17.0
Command: /Library/Frameworks/R.framework/Versions/Current/Resources/bin/R CMD INSTALL biomformat
StartedAt: 2020-08-06 16:18:39 -0400 (Thu, 06 Aug 2020)
EndedAt: 2020-08-06 16:19:18 -0400 (Thu, 06 Aug 2020)
EllapsedTime: 39.3 seconds
RetCode: 0
Status:  OK 

Command output

##############################################################################
##############################################################################
###
### Running command:
###
###   /Library/Frameworks/R.framework/Versions/Current/Resources/bin/R CMD INSTALL biomformat
###
##############################################################################
##############################################################################


* installing to library ‘/Library/Frameworks/R.framework/Versions/4.0/Resources/library’
* installing *source* package ‘biomformat’ ...
** using staged installation
** R
** inst
** byte-compile and prepare package for lazy loading
Creating a generic function for ‘nrow’ from package ‘base’ in package ‘biomformat’
Creating a generic function for ‘ncol’ from package ‘base’ in package ‘biomformat’
Creating a generic function for ‘rownames’ from package ‘base’ in package ‘biomformat’
Creating a generic function for ‘colnames’ from package ‘base’ in package ‘biomformat’
** help
*** installing help indices
** building package indices
** installing vignettes
** testing if installed package can be loaded from temporary location
** testing if installed package can be loaded from final location
** testing if installed package keeps a record of temporary installation path
* DONE (biomformat)