Back to Multiple platform build/check report for BioC 3.12
AB[C]DEFGHIJKLMNOPQRSTUVWXYZ

INSTALL report for ChAMP on merida1

This page was generated on 2020-08-13 11:51:40 -0400 (Thu, 13 Aug 2020).

TO THE DEVELOPERS/MAINTAINERS OF THE ChAMP PACKAGE: Please make sure to use the following settings in order to reproduce any error or warning you see on this page.
Package 261/1885HostnameOS / ArchINSTALLBUILDCHECKBUILD BIN
ChAMP 2.19.3
Yuan Tian
Snapshot Date: 2020-08-12 14:52:00 -0400 (Wed, 12 Aug 2020)
URL: https://git.bioconductor.org/packages/ChAMP
Branch: master
Last Commit: d524139
Last Changed Date: 2020-05-28 07:35:49 -0400 (Thu, 28 May 2020)
malbec1 Linux (Ubuntu 18.04.4 LTS) / x86_64  ERROR  ERROR  skipped 
nebbiolo1 Linux (Ubuntu 20.04.1 LTS) / x86_64  ERROR  ERROR  skipped 
tokay1 Windows Server 2012 R2 Standard / x64  ERROR  ERROR  skipped  skipped 
merida1 macOS 10.14.6 Mojave / x86_64 [ ERROR ] ERROR  skipped  skipped 

Summary

Package: ChAMP
Version: 2.19.3
Command: /Library/Frameworks/R.framework/Versions/Current/Resources/bin/R CMD INSTALL ChAMP
StartedAt: 2020-08-12 17:54:19 -0400 (Wed, 12 Aug 2020)
EndedAt: 2020-08-12 17:54:20 -0400 (Wed, 12 Aug 2020)
EllapsedTime: 0.7 seconds
RetCode: 1
Status:  ERROR 

Command output

##############################################################################
##############################################################################
###
### Running command:
###
###   /Library/Frameworks/R.framework/Versions/Current/Resources/bin/R CMD INSTALL ChAMP
###
##############################################################################
##############################################################################


* installing to library ‘/Library/Frameworks/R.framework/Versions/4.0/Resources/library’
ERROR: dependency ‘FEM’ is not available for package ‘ChAMP’
* removing ‘/Library/Frameworks/R.framework/Versions/4.0/Resources/library/ChAMP’